BEGIN:VCALENDAR
VERSION:2.0
PRODID:-//Forsinard Flyfishers&#039; Club - ECPv6.15.20//NONSGML v1.0//EN
CALSCALE:GREGORIAN
METHOD:PUBLISH
X-WR-CALNAME:Forsinard Flyfishers&#039; Club
X-ORIGINAL-URL:https://forsinardflyfishers.co.uk
X-WR-CALDESC:Events for Forsinard Flyfishers&#039; Club
REFRESH-INTERVAL;VALUE=DURATION:PT1H
X-Robots-Tag:noindex
X-PUBLISHED-TTL:PT1H
BEGIN:VTIMEZONE
TZID:Europe/London
BEGIN:DAYLIGHT
TZOFFSETFROM:+0000
TZOFFSETTO:+0100
TZNAME:BST
DTSTART:20230326T010000
END:DAYLIGHT
BEGIN:STANDARD
TZOFFSETFROM:+0100
TZOFFSETTO:+0000
TZNAME:GMT
DTSTART:20231029T010000
END:STANDARD
BEGIN:DAYLIGHT
TZOFFSETFROM:+0000
TZOFFSETTO:+0100
TZNAME:BST
DTSTART:20240331T010000
END:DAYLIGHT
BEGIN:STANDARD
TZOFFSETFROM:+0100
TZOFFSETTO:+0000
TZNAME:GMT
DTSTART:20241027T010000
END:STANDARD
BEGIN:DAYLIGHT
TZOFFSETFROM:+0000
TZOFFSETTO:+0100
TZNAME:BST
DTSTART:20250330T010000
END:DAYLIGHT
BEGIN:STANDARD
TZOFFSETFROM:+0100
TZOFFSETTO:+0000
TZNAME:GMT
DTSTART:20251026T010000
END:STANDARD
END:VTIMEZONE
BEGIN:VEVENT
DTSTART;TZID=Europe/London:20240401T080000
DTEND;TZID=Europe/London:20241005T233000
DTSTAMP:20260425T152047
CREATED:20240406T075006Z
LAST-MODIFIED:20240406T075006Z
UID:10001793-1711958400-1728171000@forsinardflyfishers.co.uk
SUMMARY:NO FISHING AVAILABLE
DESCRIPTION:NO FISHING AVAILABLE
URL:https://forsinardflyfishers.co.uk/booking/no-fishing-available-37/
CATEGORIES:Loch Grassie
END:VEVENT
BEGIN:VEVENT
DTSTART;TZID=Europe/London:20240401T080000
DTEND;TZID=Europe/London:20241005T170000
DTSTAMP:20260425T152047
CREATED:20240812T192448Z
LAST-MODIFIED:20240812T192448Z
UID:10001937-1711958400-1728147600@forsinardflyfishers.co.uk
SUMMARY:NO FISHING AVAILABLE
DESCRIPTION:NO FISHING AVAILABLE
URL:https://forsinardflyfishers.co.uk/booking/no-fishing-available-38/
CATEGORIES:Loch Grassie
END:VEVENT
BEGIN:VEVENT
DTSTART;TZID=Europe/London:20241002T080000
DTEND;TZID=Europe/London:20241002T170000
DTSTAMP:20260425T152047
CREATED:20241002T055728Z
LAST-MODIFIED:20241002T055728Z
UID:10001974-1727856000-1727888400@forsinardflyfishers.co.uk
SUMMARY:ALL DAY SESSION
DESCRIPTION:G.PAGOAGA
URL:https://forsinardflyfishers.co.uk/booking/all-day-session-1069/
CATEGORIES:Loch Leir
END:VEVENT
BEGIN:VEVENT
DTSTART;TZID=Europe/London:20241004T080000
DTEND;TZID=Europe/London:20241004T210000
DTSTAMP:20260425T152047
CREATED:20240911T112311Z
LAST-MODIFIED:20240911T112311Z
UID:10001965-1728028800-1728075600@forsinardflyfishers.co.uk
SUMMARY:ALL DAY SESSION
DESCRIPTION:G.PAGOAGA
URL:https://forsinardflyfishers.co.uk/booking/all-day-session-1061/
CATEGORIES:Loch Slethill
END:VEVENT
BEGIN:VEVENT
DTSTART;TZID=Europe/London:20241005T080000
DTEND;TZID=Europe/London:20241005T190000
DTSTAMP:20260425T152047
CREATED:20241004T203854Z
LAST-MODIFIED:20241004T203854Z
UID:10001975-1728115200-1728154800@forsinardflyfishers.co.uk
SUMMARY:ALL DAY SESSION
DESCRIPTION:M.McKAY
URL:https://forsinardflyfishers.co.uk/booking/all-day-session-1070/
CATEGORIES:Loch Na Cloiche
END:VEVENT
BEGIN:VEVENT
DTSTART;TZID=Europe/London:20241005T080000
DTEND;TZID=Europe/London:20241005T200000
DTSTAMP:20260425T152047
CREATED:20240921T062622Z
LAST-MODIFIED:20240921T062622Z
UID:10001970-1728115200-1728158400@forsinardflyfishers.co.uk
SUMMARY:ALL DAY SESSION
DESCRIPTION:A.PORTEOUS
URL:https://forsinardflyfishers.co.uk/booking/all-day-session-1066/
CATEGORIES:Loch Skyline
END:VEVENT
END:VCALENDAR