BEGIN:VCALENDAR
VERSION:2.0
PRODID:-//Forsinard Flyfishers&#039; Club - ECPv6.15.20//NONSGML v1.0//EN
CALSCALE:GREGORIAN
METHOD:PUBLISH
X-WR-CALNAME:Forsinard Flyfishers&#039; Club
X-ORIGINAL-URL:https://forsinardflyfishers.co.uk
X-WR-CALDESC:Events for Forsinard Flyfishers&#039; Club
REFRESH-INTERVAL;VALUE=DURATION:PT1H
X-Robots-Tag:noindex
X-PUBLISHED-TTL:PT1H
BEGIN:VTIMEZONE
TZID:Europe/London
BEGIN:DAYLIGHT
TZOFFSETFROM:+0000
TZOFFSETTO:+0100
TZNAME:BST
DTSTART:20240331T010000
END:DAYLIGHT
BEGIN:STANDARD
TZOFFSETFROM:+0100
TZOFFSETTO:+0000
TZNAME:GMT
DTSTART:20241027T010000
END:STANDARD
BEGIN:DAYLIGHT
TZOFFSETFROM:+0000
TZOFFSETTO:+0100
TZNAME:BST
DTSTART:20250330T010000
END:DAYLIGHT
BEGIN:STANDARD
TZOFFSETFROM:+0100
TZOFFSETTO:+0000
TZNAME:GMT
DTSTART:20251026T010000
END:STANDARD
BEGIN:DAYLIGHT
TZOFFSETFROM:+0000
TZOFFSETTO:+0100
TZNAME:BST
DTSTART:20260329T010000
END:DAYLIGHT
BEGIN:STANDARD
TZOFFSETFROM:+0100
TZOFFSETTO:+0000
TZNAME:GMT
DTSTART:20261025T010000
END:STANDARD
END:VTIMEZONE
BEGIN:VEVENT
DTSTART;TZID=Europe/London:20250611T080000
DTEND;TZID=Europe/London:20250611T213000
DTSTAMP:20260421T173214
CREATED:20250401T202046Z
LAST-MODIFIED:20250401T202046Z
UID:10002070-1749628800-1749677400@forsinardflyfishers.co.uk
SUMMARY:ALL DAY SESSION
DESCRIPTION:A.COATS + 1
URL:https://forsinardflyfishers.co.uk/booking/all-day-session-1159/
CATEGORIES:Cross Lochs
END:VEVENT
BEGIN:VEVENT
DTSTART;TZID=Europe/London:20250611T080000
DTEND;TZID=Europe/London:20250611T210000
DTSTAMP:20260421T173215
CREATED:20250601T131001Z
LAST-MODIFIED:20250601T131001Z
UID:10002195-1749628800-1749675600@forsinardflyfishers.co.uk
SUMMARY:ALL DAY SESSION
DESCRIPTION:P.LAMB
URL:https://forsinardflyfishers.co.uk/booking/all-day-session-1282/
CATEGORIES:Loch Garbh
END:VEVENT
BEGIN:VEVENT
DTSTART;TZID=Europe/London:20250611T080000
DTEND;TZID=Europe/London:20250611T210000
DTSTAMP:20260421T173215
CREATED:20250402T062431Z
LAST-MODIFIED:20250402T062431Z
UID:10002072-1749628800-1749675600@forsinardflyfishers.co.uk
SUMMARY:ALL DAY SESSION
DESCRIPTION:A.COATS + 1
URL:https://forsinardflyfishers.co.uk/booking/all-day-session-1161/
CATEGORIES:Loch Caol Altnabreac
END:VEVENT
BEGIN:VEVENT
DTSTART;TZID=Europe/London:20250610T080000
DTEND;TZID=Europe/London:20250610T213000
DTSTAMP:20260421T173215
CREATED:20250601T130858Z
LAST-MODIFIED:20250601T130858Z
UID:10002194-1749542400-1749591000@forsinardflyfishers.co.uk
SUMMARY:ALL DAY SESSION
DESCRIPTION:M.STEVENSON
URL:https://forsinardflyfishers.co.uk/booking/all-day-session-1281/
CATEGORIES:Loch Ealach Mor
END:VEVENT
BEGIN:VEVENT
DTSTART;TZID=Europe/London:20250610T080000
DTEND;TZID=Europe/London:20250610T213000
DTSTAMP:20260421T173215
CREATED:20250331T235206Z
LAST-MODIFIED:20250331T235206Z
UID:10002014-1749542400-1749591000@forsinardflyfishers.co.uk
SUMMARY:ALL DAY SESSION
DESCRIPTION:R.ELDER
URL:https://forsinardflyfishers.co.uk/booking/all-day-session-1104/
CATEGORIES:Caol North
END:VEVENT
BEGIN:VEVENT
DTSTART;TZID=Europe/London:20250610T080000
DTEND;TZID=Europe/London:20250610T213000
DTSTAMP:20260421T173215
CREATED:20250331T235116Z
LAST-MODIFIED:20250331T235116Z
UID:10002013-1749542400-1749591000@forsinardflyfishers.co.uk
SUMMARY:ALL DAY SESSION
DESCRIPTION:S.GRAY
URL:https://forsinardflyfishers.co.uk/booking/all-day-session-1103/
CATEGORIES:Loch na Seilge
END:VEVENT
BEGIN:VEVENT
DTSTART;TZID=Europe/London:20250610T080000
DTEND;TZID=Europe/London:20250610T213000
DTSTAMP:20260421T173215
CREATED:20250331T232102Z
LAST-MODIFIED:20250331T232102Z
UID:10001988-1749542400-1749591000@forsinardflyfishers.co.uk
SUMMARY:ALL DAY SESSION
DESCRIPTION:G.WILLIAMS + 2
URL:https://forsinardflyfishers.co.uk/booking/all-day-session-1078/
CATEGORIES:Loch Skyline
END:VEVENT
BEGIN:VEVENT
DTSTART;TZID=Europe/London:20250610T080000
DTEND;TZID=Europe/London:20250610T210000
DTSTAMP:20260421T173215
CREATED:20250608T180703Z
LAST-MODIFIED:20250608T180703Z
UID:10002209-1749542400-1749589200@forsinardflyfishers.co.uk
SUMMARY:ALL DAY SESSION
DESCRIPTION:D.GIBSON
URL:https://forsinardflyfishers.co.uk/booking/all-day-session-1296/
CATEGORIES:Loch Garbh
END:VEVENT
BEGIN:VEVENT
DTSTART;TZID=Europe/London:20250610T080000
DTEND;TZID=Europe/London:20250610T210000
DTSTAMP:20260421T173215
CREATED:20250608T180623Z
LAST-MODIFIED:20250608T180623Z
UID:10002208-1749542400-1749589200@forsinardflyfishers.co.uk
SUMMARY:ALL DAY SESSION
DESCRIPTION:L.SMART
URL:https://forsinardflyfishers.co.uk/booking/all-day-session-1295/
CATEGORIES:Loch Caise
END:VEVENT
BEGIN:VEVENT
DTSTART;TZID=Europe/London:20250610T080000
DTEND;TZID=Europe/London:20250610T200000
DTSTAMP:20260421T173215
CREATED:20250401T000403Z
LAST-MODIFIED:20250401T000403Z
UID:10002023-1749542400-1749585600@forsinardflyfishers.co.uk
SUMMARY:ALL DAY SESSION
DESCRIPTION:G.WILLIAMS + 2
URL:https://forsinardflyfishers.co.uk/booking/all-day-session-1113/
CATEGORIES:Loch Skyline
END:VEVENT
BEGIN:VEVENT
DTSTART;TZID=Europe/London:20250609T080000
DTEND;TZID=Europe/London:20250609T213000
DTSTAMP:20260421T173215
CREATED:20250608T180914Z
LAST-MODIFIED:20250608T180914Z
UID:10002211-1749456000-1749504600@forsinardflyfishers.co.uk
SUMMARY:ALL DAY SESSION
DESCRIPTION:J.MCKAY
URL:https://forsinardflyfishers.co.uk/booking/all-day-session-1298/
CATEGORIES:Loch Bad A'Bothain
END:VEVENT
BEGIN:VEVENT
DTSTART;TZID=Europe/London:20250609T080000
DTEND;TZID=Europe/London:20250609T213000
DTSTAMP:20260421T173215
CREATED:20250601T130654Z
LAST-MODIFIED:20250601T130654Z
UID:10002193-1749456000-1749504600@forsinardflyfishers.co.uk
SUMMARY:ALL DAY SESSION
DESCRIPTION:W.GREEN + 3
URL:https://forsinardflyfishers.co.uk/booking/all-day-session-1280/
CATEGORIES:Loch na Caorach,Loch na Seilge
END:VEVENT
BEGIN:VEVENT
DTSTART;TZID=Europe/London:20250609T080000
DTEND;TZID=Europe/London:20250609T213000
DTSTAMP:20260421T173215
CREATED:20250401T202009Z
LAST-MODIFIED:20250401T202009Z
UID:10002069-1749456000-1749504600@forsinardflyfishers.co.uk
SUMMARY:ALL DAY SESSION
DESCRIPTION:A.COATS + 1
URL:https://forsinardflyfishers.co.uk/booking/all-day-session-1158/
CATEGORIES:Loch Saorach,Loch Thormaid
END:VEVENT
BEGIN:VEVENT
DTSTART;TZID=Europe/London:20250609T080000
DTEND;TZID=Europe/London:20250609T213000
DTSTAMP:20260421T173215
CREATED:20250331T235349Z
LAST-MODIFIED:20250331T235349Z
UID:10002016-1749456000-1749504600@forsinardflyfishers.co.uk
SUMMARY:ALL DAY SESSION
DESCRIPTION:C.BOWMAN
URL:https://forsinardflyfishers.co.uk/booking/all-day-session-1106/
CATEGORIES:Loch Na Cloiche
END:VEVENT
BEGIN:VEVENT
DTSTART;TZID=Europe/London:20250609T080000
DTEND;TZID=Europe/London:20250609T213000
DTSTAMP:20260421T173215
CREATED:20250331T233843Z
LAST-MODIFIED:20250331T233843Z
UID:10002002-1749456000-1749504600@forsinardflyfishers.co.uk
SUMMARY:ALL DAY SESSION
DESCRIPTION:M.CORNEILSON
URL:https://forsinardflyfishers.co.uk/booking/all-day-session-1092/
CATEGORIES:Loch Sgitheanach
END:VEVENT
BEGIN:VEVENT
DTSTART;TZID=Europe/London:20250609T080000
DTEND;TZID=Europe/London:20250609T213000
DTSTAMP:20260421T173215
CREATED:20250331T232011Z
LAST-MODIFIED:20250331T232011Z
UID:10001987-1749456000-1749504600@forsinardflyfishers.co.uk
SUMMARY:ALL DAY SESSION
DESCRIPTION:G.WILLIAMS + 2
URL:https://forsinardflyfishers.co.uk/booking/all-day-session-1077/
CATEGORIES:Loch Coulbackie
END:VEVENT
BEGIN:VEVENT
DTSTART;TZID=Europe/London:20250609T080000
DTEND;TZID=Europe/London:20250609T210000
DTSTAMP:20260421T173215
CREATED:20250609T180721Z
LAST-MODIFIED:20250609T180721Z
UID:10002216-1749456000-1749502800@forsinardflyfishers.co.uk
SUMMARY:ALL DAY SESSION
DESCRIPTION:D.GIBSON
URL:https://forsinardflyfishers.co.uk/booking/all-day-session-1303/
CATEGORIES:Loch Na Cloiche
END:VEVENT
BEGIN:VEVENT
DTSTART;TZID=Europe/London:20250609T080000
DTEND;TZID=Europe/London:20250609T190000
DTSTAMP:20260421T173215
CREATED:20250608T180411Z
LAST-MODIFIED:20250608T180411Z
UID:10002207-1749456000-1749495600@forsinardflyfishers.co.uk
SUMMARY:ALL DAY SESSION
DESCRIPTION:D.GIBSON
URL:https://forsinardflyfishers.co.uk/booking/all-day-session-1294/
CATEGORIES:Loch Caise
END:VEVENT
BEGIN:VEVENT
DTSTART;TZID=Europe/London:20250608T080000
DTEND;TZID=Europe/London:20250608T213000
DTSTAMP:20260421T173215
CREATED:20250606T153932Z
LAST-MODIFIED:20250606T153932Z
UID:10002206-1749369600-1749418200@forsinardflyfishers.co.uk
SUMMARY:ALL DAY SESSION
DESCRIPTION:R.NICOLL
URL:https://forsinardflyfishers.co.uk/booking/all-day-session-1293/
CATEGORIES:Loch Caise
END:VEVENT
BEGIN:VEVENT
DTSTART;TZID=Europe/London:20250608T080000
DTEND;TZID=Europe/London:20250608T213000
DTSTAMP:20260421T173215
CREATED:20250401T002253Z
LAST-MODIFIED:20250401T002253Z
UID:10002036-1749369600-1749418200@forsinardflyfishers.co.uk
SUMMARY:ALL DAY SESSION
DESCRIPTION:M.RICHARDSON
URL:https://forsinardflyfishers.co.uk/booking/all-day-session-1126/
CATEGORIES:Caol North
END:VEVENT
BEGIN:VEVENT
DTSTART;TZID=Europe/London:20250608T080000
DTEND;TZID=Europe/London:20250608T213000
DTSTAMP:20260421T173215
CREATED:20250331T231902Z
LAST-MODIFIED:20250331T231902Z
UID:10001986-1749369600-1749418200@forsinardflyfishers.co.uk
SUMMARY:ALL DAY SESSION
DESCRIPTION:G.WILLIAMS + 2
URL:https://forsinardflyfishers.co.uk/booking/all-day-session-1076/
CATEGORIES:Loch Clach Geala
END:VEVENT
BEGIN:VEVENT
DTSTART;TZID=Europe/London:20250607T080000
DTEND;TZID=Europe/London:20250607T210000
DTSTAMP:20260421T173215
CREATED:20250604T095841Z
LAST-MODIFIED:20250604T095841Z
UID:10002201-1749283200-1749330000@forsinardflyfishers.co.uk
SUMMARY:ALL DAY SESSION
DESCRIPTION:R.MACDONALD LEWIS
URL:https://forsinardflyfishers.co.uk/booking/all-day-session-1288/
CATEGORIES:Loch Caise
END:VEVENT
BEGIN:VEVENT
DTSTART;TZID=Europe/London:20250607T080000
DTEND;TZID=Europe/London:20250607T210000
DTSTAMP:20260421T173215
CREATED:20250522T071452Z
LAST-MODIFIED:20250522T071452Z
UID:10002171-1749283200-1749330000@forsinardflyfishers.co.uk
SUMMARY:ALL DAY SESSION
DESCRIPTION:P.WESWATER + 1
URL:https://forsinardflyfishers.co.uk/booking/all-day-session-1258/
CATEGORIES:Loch Na Cloiche
END:VEVENT
BEGIN:VEVENT
DTSTART;TZID=Europe/London:20250606T080000
DTEND;TZID=Europe/London:20250606T213000
DTSTAMP:20260421T173215
CREATED:20250601T211637Z
LAST-MODIFIED:20250601T211637Z
UID:10002198-1749196800-1749245400@forsinardflyfishers.co.uk
SUMMARY:ALL DAY SESSION
DESCRIPTION:K.ALLAN
URL:https://forsinardflyfishers.co.uk/booking/all-day-session-1285/
CATEGORIES:Loch Coulbackie
END:VEVENT
BEGIN:VEVENT
DTSTART;TZID=Europe/London:20250606T080000
DTEND;TZID=Europe/London:20250606T213000
DTSTAMP:20260421T173215
CREATED:20250428T203211Z
LAST-MODIFIED:20250428T203211Z
UID:10002121-1749196800-1749245400@forsinardflyfishers.co.uk
SUMMARY:ALL DAY SESSION
DESCRIPTION:Iain Macdonald
URL:https://forsinardflyfishers.co.uk/booking/all-day-session-1209/
CATEGORIES:Loch Leir
END:VEVENT
BEGIN:VEVENT
DTSTART;TZID=Europe/London:20250606T080000
DTEND;TZID=Europe/London:20250606T213000
DTSTAMP:20260421T173215
CREATED:20250401T001050Z
LAST-MODIFIED:20250401T001050Z
UID:10002027-1749196800-1749245400@forsinardflyfishers.co.uk
SUMMARY:ALL DAY SESSION
DESCRIPTION:C.ANTON + 1
URL:https://forsinardflyfishers.co.uk/booking/all-day-session-1117/
CATEGORIES:Loch Caol Altnabreac
END:VEVENT
BEGIN:VEVENT
DTSTART;TZID=Europe/London:20250605T080000
DTEND;TZID=Europe/London:20250605T213000
DTSTAMP:20260421T173215
CREATED:20250428T203119Z
LAST-MODIFIED:20250428T203119Z
UID:10002120-1749110400-1749159000@forsinardflyfishers.co.uk
SUMMARY:ALL DAY SESSION
DESCRIPTION:Iain Macdonald
URL:https://forsinardflyfishers.co.uk/booking/all-day-session-1208/
CATEGORIES:Loch Garbh
END:VEVENT
BEGIN:VEVENT
DTSTART;TZID=Europe/London:20250605T080000
DTEND;TZID=Europe/London:20250605T213000
DTSTAMP:20260421T173215
CREATED:20250401T000716Z
LAST-MODIFIED:20250401T000716Z
UID:10002025-1749110400-1749159000@forsinardflyfishers.co.uk
SUMMARY:ALL DAY SESSION
DESCRIPTION:C.ANTON + 1
URL:https://forsinardflyfishers.co.uk/booking/all-day-session-1115/
CATEGORIES:Loch na Caorach
END:VEVENT
BEGIN:VEVENT
DTSTART;TZID=Europe/London:20250605T080000
DTEND;TZID=Europe/London:20250605T213000
DTSTAMP:20260421T173215
CREATED:20250331T233242Z
LAST-MODIFIED:20250331T233242Z
UID:10001997-1749110400-1749159000@forsinardflyfishers.co.uk
SUMMARY:ALL DAY SESSION
DESCRIPTION:P.WESTWATER + 1
URL:https://forsinardflyfishers.co.uk/booking/all-day-session-1087/
CATEGORIES:Loch Slethill
END:VEVENT
BEGIN:VEVENT
DTSTART;TZID=Europe/London:20250605T080000
DTEND;TZID=Europe/London:20250605T210000
DTSTAMP:20260421T173215
CREATED:20250604T180437Z
LAST-MODIFIED:20250604T180437Z
UID:10002203-1749110400-1749157200@forsinardflyfishers.co.uk
SUMMARY:ALL DAY SESSION
DESCRIPTION:A.WILKIE + 2
URL:https://forsinardflyfishers.co.uk/booking/all-day-session-1290/
CATEGORIES:Loch Caise
END:VEVENT
END:VCALENDAR