BEGIN:VCALENDAR
VERSION:2.0
PRODID:-//Forsinard Flyfishers&#039; Club - ECPv6.15.20//NONSGML v1.0//EN
CALSCALE:GREGORIAN
METHOD:PUBLISH
X-WR-CALNAME:Forsinard Flyfishers&#039; Club
X-ORIGINAL-URL:https://forsinardflyfishers.co.uk
X-WR-CALDESC:Events for Forsinard Flyfishers&#039; Club
REFRESH-INTERVAL;VALUE=DURATION:PT1H
X-Robots-Tag:noindex
X-PUBLISHED-TTL:PT1H
BEGIN:VTIMEZONE
TZID:Europe/London
BEGIN:DAYLIGHT
TZOFFSETFROM:+0000
TZOFFSETTO:+0100
TZNAME:BST
DTSTART:20200329T010000
END:DAYLIGHT
BEGIN:STANDARD
TZOFFSETFROM:+0100
TZOFFSETTO:+0000
TZNAME:GMT
DTSTART:20201025T010000
END:STANDARD
BEGIN:DAYLIGHT
TZOFFSETFROM:+0000
TZOFFSETTO:+0100
TZNAME:BST
DTSTART:20210328T010000
END:DAYLIGHT
BEGIN:STANDARD
TZOFFSETFROM:+0100
TZOFFSETTO:+0000
TZNAME:GMT
DTSTART:20211031T010000
END:STANDARD
BEGIN:DAYLIGHT
TZOFFSETFROM:+0000
TZOFFSETTO:+0100
TZNAME:BST
DTSTART:20220327T010000
END:DAYLIGHT
BEGIN:STANDARD
TZOFFSETFROM:+0100
TZOFFSETTO:+0000
TZNAME:GMT
DTSTART:20221030T010000
END:STANDARD
END:VTIMEZONE
BEGIN:VEVENT
DTSTART;TZID=Europe/London:20210604T090000
DTEND;TZID=Europe/London:20210604T213000
DTSTAMP:20260422T050133
CREATED:20210413T151753Z
LAST-MODIFIED:20210413T151753Z
UID:10000756-1622797200-1622842200@forsinardflyfishers.co.uk
SUMMARY:ALL DAY SESSION
DESCRIPTION:A.BENNET + 1
URL:https://forsinardflyfishers.co.uk/booking/all-day-session-104/
CATEGORIES:Loch an Fheoir,Loch Crasgach,Lochan na Ceardaich
END:VEVENT
BEGIN:VEVENT
DTSTART;TZID=Europe/London:20210603T090000
DTEND;TZID=Europe/London:20210603T230000
DTSTAMP:20260422T050133
CREATED:20210601T092517Z
LAST-MODIFIED:20210601T092517Z
UID:10001012-1622710800-1622761200@forsinardflyfishers.co.uk
SUMMARY:ALL DAY SESSION
DESCRIPTION:ADAM CAIRNS + 1
URL:https://forsinardflyfishers.co.uk/booking/all-day-session-187/
CATEGORIES:Caol North
END:VEVENT
BEGIN:VEVENT
DTSTART;TZID=Europe/London:20210603T090000
DTEND;TZID=Europe/London:20210603T220000
DTSTAMP:20260422T050133
CREATED:20210427T192755Z
LAST-MODIFIED:20210427T192755Z
UID:10000945-1622710800-1622757600@forsinardflyfishers.co.uk
SUMMARY:ALL DAY SESSION
DESCRIPTION:J.CAMPBELL-SMITH + 1
URL:https://forsinardflyfishers.co.uk/booking/all-day-session-133/
CATEGORIES:Bighouse Loch
END:VEVENT
BEGIN:VEVENT
DTSTART;TZID=Europe/London:20210603T090000
DTEND;TZID=Europe/London:20210603T220000
DTSTAMP:20260422T050133
CREATED:20210413T144408Z
LAST-MODIFIED:20210413T144408Z
UID:10000753-1622710800-1622757600@forsinardflyfishers.co.uk
SUMMARY:ALL DAY SESSION
DESCRIPTION:A.BENNET + 1
URL:https://forsinardflyfishers.co.uk/booking/all-day-session-102/
CATEGORIES:Loch Clach Geala
END:VEVENT
BEGIN:VEVENT
DTSTART;TZID=Europe/London:20210603T090000
DTEND;TZID=Europe/London:20210603T200000
DTSTAMP:20260422T050133
CREATED:20210408T174904Z
LAST-MODIFIED:20210408T174904Z
UID:10000886-1622710800-1622750400@forsinardflyfishers.co.uk
SUMMARY:ALL DAY SESSION
DESCRIPTION:BRIAN BYRNE + 1
URL:https://forsinardflyfishers.co.uk/booking/all-day-session-72/
CATEGORIES:Loch nan Clach
END:VEVENT
BEGIN:VEVENT
DTSTART;TZID=Europe/London:20210602T190000
DTEND;TZID=Europe/London:20210602T230000
DTSTAMP:20260422T050133
CREATED:20210601T092634Z
LAST-MODIFIED:20210601T092634Z
UID:10001014-1622660400-1622674800@forsinardflyfishers.co.uk
SUMMARY:EVENING SESSION
DESCRIPTION:D.ROBSON
URL:https://forsinardflyfishers.co.uk/booking/evening-session-8/
CATEGORIES:Loch Badaireach na Gaoithe
END:VEVENT
BEGIN:VEVENT
DTSTART;TZID=Europe/London:20210602T090000
DTEND;TZID=Europe/London:20210602T220000
DTSTAMP:20260422T050133
CREATED:20210531T081222Z
LAST-MODIFIED:20210531T081222Z
UID:10001002-1622624400-1622671200@forsinardflyfishers.co.uk
SUMMARY:ALL DAY SESSION
DESCRIPTION:F.INGRAMS + 1
URL:https://forsinardflyfishers.co.uk/booking/all-day-session-181/
CATEGORIES:Loch Skyline
END:VEVENT
BEGIN:VEVENT
DTSTART;TZID=Europe/London:20210602T090000
DTEND;TZID=Europe/London:20210602T220000
DTSTAMP:20260422T050133
CREATED:20210526T211235Z
LAST-MODIFIED:20210526T211235Z
UID:10000803-1622624400-1622671200@forsinardflyfishers.co.uk
SUMMARY:ALL DAY SESSION
DESCRIPTION:P.BYRNE+ 1
URL:https://forsinardflyfishers.co.uk/booking/all-day-session-173/
CATEGORIES:Loch Caol Altnabreac
END:VEVENT
BEGIN:VEVENT
DTSTART;TZID=Europe/London:20210602T090000
DTEND;TZID=Europe/London:20210602T220000
DTSTAMP:20260422T050133
CREATED:20210413T151611Z
LAST-MODIFIED:20210413T151611Z
UID:10000754-1622624400-1622671200@forsinardflyfishers.co.uk
SUMMARY:ALL DAY SESSION
DESCRIPTION:A.BENNET+ 1
URL:https://forsinardflyfishers.co.uk/booking/all-day-session-103/
CATEGORIES:Caol North
END:VEVENT
BEGIN:VEVENT
DTSTART;TZID=Europe/London:20210602T090000
DTEND;TZID=Europe/London:20210602T180000
DTSTAMP:20260422T050133
CREATED:20210403T100443Z
LAST-MODIFIED:20210403T100443Z
UID:10000725-1622624400-1622656800@forsinardflyfishers.co.uk
SUMMARY:ALL DAY SESSION
DESCRIPTION:B.BYRNE
URL:https://forsinardflyfishers.co.uk/booking/all-day-session-64/
CATEGORIES:Loch Leir
END:VEVENT
BEGIN:VEVENT
DTSTART;TZID=Europe/London:20210601T090000
DTEND;TZID=Europe/London:20210601T220000
DTSTAMP:20260422T050133
CREATED:20210413T144038Z
LAST-MODIFIED:20210413T144038Z
UID:10000909-1622538000-1622584800@forsinardflyfishers.co.uk
SUMMARY:ALL DAY SESSION
DESCRIPTION:A.BENNET +2
URL:https://forsinardflyfishers.co.uk/booking/all-day-session-100/
CATEGORIES:Loch Skyline
END:VEVENT
BEGIN:VEVENT
DTSTART;TZID=Europe/London:20210601T090000
DTEND;TZID=Europe/London:20210601T190000
DTSTAMP:20260422T050133
CREATED:20210427T192226Z
LAST-MODIFIED:20210427T192226Z
UID:10000941-1622538000-1622574000@forsinardflyfishers.co.uk
SUMMARY:ALL DAY SESSION
DESCRIPTION:J.CAMPBELL-SMITH + 1 BOAT
URL:https://forsinardflyfishers.co.uk/booking/all-day-session-131/
CATEGORIES:Loch Na Cloiche
END:VEVENT
BEGIN:VEVENT
DTSTART;TZID=Europe/London:20210601T090000
DTEND;TZID=Europe/London:20210601T190000
DTSTAMP:20260422T050133
CREATED:20210403T100248Z
LAST-MODIFIED:20210403T100248Z
UID:10000723-1622538000-1622574000@forsinardflyfishers.co.uk
SUMMARY:ALL DAY SESSION
DESCRIPTION:B.BYRNE + 3 BOAT
URL:https://forsinardflyfishers.co.uk/booking/all-day-session-63/
CATEGORIES:Loch Slethill
END:VEVENT
BEGIN:VEVENT
DTSTART;TZID=Europe/London:20210531T090000
DTEND;TZID=Europe/London:20210531T233000
DTSTAMP:20260422T050133
CREATED:20210427T192609Z
LAST-MODIFIED:20210427T192609Z
UID:10000943-1622451600-1622503800@forsinardflyfishers.co.uk
SUMMARY:ALL DAY SESSION
DESCRIPTION:J.CAMPBELL-SMITH + 1
URL:https://forsinardflyfishers.co.uk/booking/all-day-session-132/
CATEGORIES:Loch Talaheel
END:VEVENT
BEGIN:VEVENT
DTSTART;TZID=Europe/London:20210531T090000
DTEND;TZID=Europe/London:20210531T220000
DTSTAMP:20260422T050133
CREATED:20210413T144300Z
LAST-MODIFIED:20210413T144300Z
UID:10000911-1622451600-1622498400@forsinardflyfishers.co.uk
SUMMARY:ALL DAY SESSION
DESCRIPTION:A.BENNET + 1
URL:https://forsinardflyfishers.co.uk/booking/all-day-session-101/
CATEGORIES:Cross Lochs
END:VEVENT
BEGIN:VEVENT
DTSTART;TZID=Europe/London:20210530T090000
DTEND;TZID=Europe/London:20210530T220000
DTSTAMP:20260422T050133
CREATED:20210519T081816Z
LAST-MODIFIED:20210519T081816Z
UID:10000958-1622365200-1622412000@forsinardflyfishers.co.uk
SUMMARY:ALL DAY SESSION
DESCRIPTION:Bill Curran
URL:https://forsinardflyfishers.co.uk/booking/all-day-session-161/
CATEGORIES:Loch Na Saobhaide
END:VEVENT
BEGIN:VEVENT
DTSTART;TZID=Europe/London:20210530T090000
DTEND;TZID=Europe/London:20210530T220000
DTSTAMP:20260422T050133
CREATED:20210407T180000Z
LAST-MODIFIED:20210407T180000Z
UID:10000848-1622365200-1622412000@forsinardflyfishers.co.uk
SUMMARY:ALL DAY SESSION
DESCRIPTION:B.BYRNE + 1
URL:https://forsinardflyfishers.co.uk/booking/all-day-session-78/
CATEGORIES:Loch Clach Geala
END:VEVENT
BEGIN:VEVENT
DTSTART;TZID=Europe/London:20210530T090000
DTEND;TZID=Europe/London:20210530T180000
DTSTAMP:20260422T050133
CREATED:20210402T175137Z
LAST-MODIFIED:20210402T175137Z
UID:10000821-1622365200-1622397600@forsinardflyfishers.co.uk
SUMMARY:ALL DAY SESSION
DESCRIPTION:R.SWEETING
URL:https://forsinardflyfishers.co.uk/booking/all-day-session-49/
CATEGORIES:Loch nan Clach
END:VEVENT
BEGIN:VEVENT
DTSTART;TZID=Europe/London:20210529T090000
DTEND;TZID=Europe/London:20210529T220000
DTSTAMP:20260422T050133
CREATED:20210419T160531Z
LAST-MODIFIED:20210419T160531Z
UID:10000921-1622278800-1622325600@forsinardflyfishers.co.uk
SUMMARY:ALL DAY SESSION
DESCRIPTION:I.BEWS + 1
URL:https://forsinardflyfishers.co.uk/booking/all-day-session-121/
CATEGORIES:Loch Caol Altnabreac
END:VEVENT
BEGIN:VEVENT
DTSTART;TZID=Europe/London:20210529T090000
DTEND;TZID=Europe/London:20210529T180000
DTSTAMP:20260422T050133
CREATED:20210403T095953Z
LAST-MODIFIED:20210403T095953Z
UID:10000721-1622278800-1622311200@forsinardflyfishers.co.uk
SUMMARY:ALL DAY SESSION
DESCRIPTION:L.HERBERTSON
URL:https://forsinardflyfishers.co.uk/booking/all-day-session-62/
CATEGORIES:Loch Leir
END:VEVENT
BEGIN:VEVENT
DTSTART;TZID=Europe/London:20210528T090000
DTEND;TZID=Europe/London:20210528T220000
DTSTAMP:20260422T050134
CREATED:20210407T180210Z
LAST-MODIFIED:20210407T180210Z
UID:10000850-1622192400-1622239200@forsinardflyfishers.co.uk
SUMMARY:ALL DAY SESSION
DESCRIPTION:JAMES MORGAN + 1
URL:https://forsinardflyfishers.co.uk/booking/all-day-session-79/
CATEGORIES:Loch Achridigill,Loch na h-Eaglaise Beag,Loch na h-Eaglasie Mor (South end)
END:VEVENT
BEGIN:VEVENT
DTSTART;TZID=Europe/London:20210528T090000
DTEND;TZID=Europe/London:20210528T200000
DTSTAMP:20260422T050134
CREATED:20210331T235929Z
LAST-MODIFIED:20210402T083535Z
UID:10000731-1622192400-1622232000@forsinardflyfishers.co.uk
SUMMARY:ALL DAY SESSION
DESCRIPTION:GRAHAM WILLIAMS + 1
URL:https://forsinardflyfishers.co.uk/booking/all-day-session-14/
CATEGORIES:Loch Skyline
END:VEVENT
BEGIN:VEVENT
DTSTART;TZID=Europe/London:20210527T090000
DTEND;TZID=Europe/London:20210527T220000
DTSTAMP:20260422T050134
CREATED:20210407T175857Z
LAST-MODIFIED:20210407T175857Z
UID:10000846-1622106000-1622152800@forsinardflyfishers.co.uk
SUMMARY:ALL DAY SESSION
DESCRIPTION:JAMES MORGAN + 1 BOAT
URL:https://forsinardflyfishers.co.uk/booking/all-day-session-77/
CATEGORIES:Loch na Seilge
END:VEVENT
BEGIN:VEVENT
DTSTART;TZID=Europe/London:20210527T090000
DTEND;TZID=Europe/London:20210527T210000
DTSTAMP:20260422T050134
CREATED:20210521T073652Z
LAST-MODIFIED:20210521T073652Z
UID:10000962-1622106000-1622149200@forsinardflyfishers.co.uk
SUMMARY:ALL DAY SESSION
DESCRIPTION:FRED INGRAMS + 1
URL:https://forsinardflyfishers.co.uk/booking/all-day-session-165/
CATEGORIES:Loch Caol (Champagne)
END:VEVENT
BEGIN:VEVENT
DTSTART;TZID=Europe/London:20210527T090000
DTEND;TZID=Europe/London:20210527T210000
DTSTAMP:20260422T050134
CREATED:20210513T103608Z
LAST-MODIFIED:20210513T103608Z
UID:10000791-1622106000-1622149200@forsinardflyfishers.co.uk
SUMMARY:ALL DAY SESSION
DESCRIPTION:P.NICOL + 1 BOAT
URL:https://forsinardflyfishers.co.uk/booking/all-day-session-156/
CATEGORIES:Caol North
END:VEVENT
BEGIN:VEVENT
DTSTART;TZID=Europe/London:20210527T090000
DTEND;TZID=Europe/London:20210527T200000
DTSTAMP:20260422T050134
CREATED:20210331T235825Z
LAST-MODIFIED:20210402T091149Z
UID:10000728-1622106000-1622145600@forsinardflyfishers.co.uk
SUMMARY:ALL DAY SESSION
DESCRIPTION:GRAHAM WILLIAMS + 1
URL:https://forsinardflyfishers.co.uk/booking/all-day-session-13/
CATEGORIES:Cross Lochs
END:VEVENT
BEGIN:VEVENT
DTSTART;TZID=Europe/London:20210527T090000
DTEND;TZID=Europe/London:20210527T180000
DTSTAMP:20260422T050134
CREATED:20210402T175039Z
LAST-MODIFIED:20210402T175039Z
UID:10000819-1622106000-1622138400@forsinardflyfishers.co.uk
SUMMARY:ALL DAY SESSION
DESCRIPTION:PAUL BYRNE + 1
URL:https://forsinardflyfishers.co.uk/booking/all-day-session-48/
CATEGORIES:Loch nan Clach
END:VEVENT
BEGIN:VEVENT
DTSTART;TZID=Europe/London:20210526T190000
DTEND;TZID=Europe/London:20210526T230000
DTSTAMP:20260422T050134
CREATED:20210524T182935Z
LAST-MODIFIED:20210524T182935Z
UID:10000799-1622055600-1622070000@forsinardflyfishers.co.uk
SUMMARY:EVENING SESSION
DESCRIPTION:D.ROBSON
URL:https://forsinardflyfishers.co.uk/booking/evening-session-5/
CATEGORIES:Loch Baligill
END:VEVENT
BEGIN:VEVENT
DTSTART;TZID=Europe/London:20210526T090000
DTEND;TZID=Europe/London:20210528T180000
DTSTAMP:20260422T050134
CREATED:20210402T085851Z
LAST-MODIFIED:20210402T085851Z
UID:10000771-1622019600-1622224800@forsinardflyfishers.co.uk
SUMMARY:NO FISHING AVAILABLE
DESCRIPTION:
URL:https://forsinardflyfishers.co.uk/booking/no-fishing-available-3/
CATEGORIES:Cross Lochs,Loch Bad A'Bothain,Loch Caol Altnabreac,Loch Clach Geala,Loch Crocach,Loch Ealach Mor,Loch Leir,Loch Na Cloiche,Loch Na Saobhaide,Loch Skyline,Loch Slethill,Loch Talaheel
END:VEVENT
BEGIN:VEVENT
DTSTART;TZID=Europe/London:20210526T090000
DTEND;TZID=Europe/London:20210526T230000
DTSTAMP:20260422T050134
CREATED:20210524T183235Z
LAST-MODIFIED:20210524T183235Z
UID:10000800-1622019600-1622070000@forsinardflyfishers.co.uk
SUMMARY:ALL DAY SESSION
DESCRIPTION:A.KOZIOL + 3
URL:https://forsinardflyfishers.co.uk/booking/all-day-session-171/
CATEGORIES:Caol North,Loch an Fheoir
END:VEVENT
END:VCALENDAR