BEGIN:VCALENDAR
VERSION:2.0
PRODID:-//Forsinard Flyfishers&#039; Club - ECPv6.15.20//NONSGML v1.0//EN
CALSCALE:GREGORIAN
METHOD:PUBLISH
X-WR-CALNAME:Forsinard Flyfishers&#039; Club
X-ORIGINAL-URL:https://forsinardflyfishers.co.uk
X-WR-CALDESC:Events for Forsinard Flyfishers&#039; Club
REFRESH-INTERVAL;VALUE=DURATION:PT1H
X-Robots-Tag:noindex
X-PUBLISHED-TTL:PT1H
BEGIN:VTIMEZONE
TZID:Europe/London
BEGIN:DAYLIGHT
TZOFFSETFROM:+0000
TZOFFSETTO:+0100
TZNAME:BST
DTSTART:20200329T010000
END:DAYLIGHT
BEGIN:STANDARD
TZOFFSETFROM:+0100
TZOFFSETTO:+0000
TZNAME:GMT
DTSTART:20201025T010000
END:STANDARD
BEGIN:DAYLIGHT
TZOFFSETFROM:+0000
TZOFFSETTO:+0100
TZNAME:BST
DTSTART:20210328T010000
END:DAYLIGHT
BEGIN:STANDARD
TZOFFSETFROM:+0100
TZOFFSETTO:+0000
TZNAME:GMT
DTSTART:20211031T010000
END:STANDARD
BEGIN:DAYLIGHT
TZOFFSETFROM:+0000
TZOFFSETTO:+0100
TZNAME:BST
DTSTART:20220327T010000
END:DAYLIGHT
BEGIN:STANDARD
TZOFFSETFROM:+0100
TZOFFSETTO:+0000
TZNAME:GMT
DTSTART:20221030T010000
END:STANDARD
END:VTIMEZONE
BEGIN:VEVENT
DTSTART;TZID=Europe/London:20210624T090000
DTEND;TZID=Europe/London:20210624T220000
DTSTAMP:20260422T022902
CREATED:20210412T065210Z
LAST-MODIFIED:20210412T065210Z
UID:10000887-1624525200-1624572000@forsinardflyfishers.co.uk
SUMMARY:ALL DAY SESSION
DESCRIPTION:MARY ASPEL + 1
URL:https://forsinardflyfishers.co.uk/booking/all-day-session-87/
CATEGORIES:Bighouse Loch
END:VEVENT
BEGIN:VEVENT
DTSTART;TZID=Europe/London:20210624T090000
DTEND;TZID=Europe/London:20210624T190000
DTSTAMP:20260422T022902
CREATED:20210403T093434Z
LAST-MODIFIED:20210403T093434Z
UID:10000831-1624525200-1624561200@forsinardflyfishers.co.uk
SUMMARY:ALL DAY SESSION
DESCRIPTION:STUART GRAY
URL:https://forsinardflyfishers.co.uk/booking/all-day-session-54/
CATEGORIES:Loch Badaireach na Gaoithe
END:VEVENT
BEGIN:VEVENT
DTSTART;TZID=Europe/London:20210623T090000
DTEND;TZID=Europe/London:20210623T230000
DTSTAMP:20260422T022902
CREATED:20210529T073152Z
LAST-MODIFIED:20210529T073152Z
UID:10001000-1624438800-1624489200@forsinardflyfishers.co.uk
SUMMARY:ALL DAY SESSION
DESCRIPTION:T.BONNER + 1
URL:https://forsinardflyfishers.co.uk/booking/all-day-session-179/
CATEGORIES:Loch Achridigill,Loch Coulbackie,Loch na h-Eaglaise Beag,Loch na h-Eaglasie Mor (South end)
END:VEVENT
BEGIN:VEVENT
DTSTART;TZID=Europe/London:20210623T090000
DTEND;TZID=Europe/London:20210623T220000
DTSTAMP:20260422T022902
CREATED:20210616T194953Z
LAST-MODIFIED:20210616T194953Z
UID:10001029-1624438800-1624485600@forsinardflyfishers.co.uk
SUMMARY:ALL DAY SESSION
DESCRIPTION:L.ORGAN
URL:https://forsinardflyfishers.co.uk/booking/all-day-session-205/
CATEGORIES:Loch na Seilge
END:VEVENT
BEGIN:VEVENT
DTSTART;TZID=Europe/London:20210623T090000
DTEND;TZID=Europe/London:20210623T213000
DTSTAMP:20260422T022902
CREATED:20210413T195117Z
LAST-MODIFIED:20210413T195117Z
UID:10000764-1624438800-1624483800@forsinardflyfishers.co.uk
SUMMARY:ALL DAY SESSION
DESCRIPTION:M.McKENZIE + 2 BOAT
URL:https://forsinardflyfishers.co.uk/booking/all-day-session-8/
CATEGORIES:Loch Caol Altnabreac
END:VEVENT
BEGIN:VEVENT
DTSTART;TZID=Europe/London:20210623T090000
DTEND;TZID=Europe/London:20210623T190000
DTSTAMP:20260422T022902
CREATED:20210403T092946Z
LAST-MODIFIED:20210403T092946Z
UID:10000823-1624438800-1624474800@forsinardflyfishers.co.uk
SUMMARY:ALL DAY SESSION
DESCRIPTION:STUART GRAY BOAT
URL:https://forsinardflyfishers.co.uk/booking/all-day-session-50/
CATEGORIES:Loch Skyline
END:VEVENT
BEGIN:VEVENT
DTSTART;TZID=Europe/London:20210622T090000
DTEND;TZID=Europe/London:20210622T230000
DTSTAMP:20260422T022902
CREATED:20210621T182130Z
LAST-MODIFIED:20210621T182130Z
UID:10001040-1624352400-1624402800@forsinardflyfishers.co.uk
SUMMARY:ALL DAY SESSION
DESCRIPTION:J.CHAPMAN + 2
URL:https://forsinardflyfishers.co.uk/booking/all-day-session-216/
CATEGORIES:Loch Badaidh na Meana,Loch nan Gall
END:VEVENT
BEGIN:VEVENT
DTSTART;TZID=Europe/London:20210622T090000
DTEND;TZID=Europe/London:20210622T220000
DTSTAMP:20260422T022902
CREATED:20210616T194900Z
LAST-MODIFIED:20210616T194900Z
UID:10001028-1624352400-1624399200@forsinardflyfishers.co.uk
SUMMARY:ALL DAY SESSION
DESCRIPTION:L.ORGAN
URL:https://forsinardflyfishers.co.uk/booking/all-day-session-204/
CATEGORIES:Caol Loch (South)
END:VEVENT
BEGIN:VEVENT
DTSTART;TZID=Europe/London:20210622T090000
DTEND;TZID=Europe/London:20210622T220000
DTSTAMP:20260422T022902
CREATED:20210529T072728Z
LAST-MODIFIED:20210529T072728Z
UID:10000999-1624352400-1624399200@forsinardflyfishers.co.uk
SUMMARY:ALL DAY SESSION
DESCRIPTION:T.BONNER + 1
URL:https://forsinardflyfishers.co.uk/booking/all-day-session-178/
CATEGORIES:Loch Badaireach na Gaoithe,Lochan nan Clach Geala
END:VEVENT
BEGIN:VEVENT
DTSTART;TZID=Europe/London:20210622T090000
DTEND;TZID=Europe/London:20210622T220000
DTSTAMP:20260422T022902
CREATED:20210427T191315Z
LAST-MODIFIED:20210427T191315Z
UID:10000939-1624352400-1624399200@forsinardflyfishers.co.uk
SUMMARY:ALL DAY SESSION
DESCRIPTION:T.BONNER
URL:https://forsinardflyfishers.co.uk/booking/all-day-session-130/
CATEGORIES:Loch Clach Geala
END:VEVENT
BEGIN:VEVENT
DTSTART;TZID=Europe/London:20210622T090000
DTEND;TZID=Europe/London:20210622T213000
DTSTAMP:20260422T022902
CREATED:20210401T201340Z
LAST-MODIFIED:20210402T173005Z
UID:10000693-1624352400-1624397400@forsinardflyfishers.co.uk
SUMMARY:ALL DAY SESSION
DESCRIPTION:F.SHORT  + 2 BOAT
URL:https://forsinardflyfishers.co.uk/booking/all-day-session-31/
CATEGORIES:Loch Leir
END:VEVENT
BEGIN:VEVENT
DTSTART;TZID=Europe/London:20210622T090000
DTEND;TZID=Europe/London:20210622T200000
DTSTAMP:20260422T022902
CREATED:20210331T235018Z
LAST-MODIFIED:20210331T235018Z
UID:10000716-1624352400-1624392000@forsinardflyfishers.co.uk
SUMMARY:AL DAY SESSION
DESCRIPTION:M.MCKENZIE +1
URL:https://forsinardflyfishers.co.uk/booking/al-day-session/
CATEGORIES:Loch Akran
END:VEVENT
BEGIN:VEVENT
DTSTART;TZID=Europe/London:20210622T090000
DTEND;TZID=Europe/London:20210622T180000
DTSTAMP:20260422T022902
CREATED:20210403T093336Z
LAST-MODIFIED:20210403T093336Z
UID:10000829-1624352400-1624384800@forsinardflyfishers.co.uk
SUMMARY:ALL DAY SESSION
DESCRIPTION:STUART GRAY
URL:https://forsinardflyfishers.co.uk/booking/all-day-session-53/
CATEGORIES:Loch Baligill
END:VEVENT
BEGIN:VEVENT
DTSTART;TZID=Europe/London:20210621T090000
DTEND;TZID=Europe/London:20210621T220000
DTSTAMP:20260422T022902
CREATED:20210616T194749Z
LAST-MODIFIED:20210616T194749Z
UID:10001027-1624266000-1624312800@forsinardflyfishers.co.uk
SUMMARY:ALL DAY SESSION
DESCRIPTION:L.ORGAN
URL:https://forsinardflyfishers.co.uk/booking/all-day-session-203/
CATEGORIES:Loch Na Cloiche
END:VEVENT
BEGIN:VEVENT
DTSTART;TZID=Europe/London:20210621T090000
DTEND;TZID=Europe/London:20210621T220000
DTSTAMP:20260422T022902
CREATED:20210427T191127Z
LAST-MODIFIED:20210427T191127Z
UID:10000937-1624266000-1624312800@forsinardflyfishers.co.uk
SUMMARY:ALL DAY SESSION
DESCRIPTION:T.BONNER + 1
URL:https://forsinardflyfishers.co.uk/booking/all-day-session-129/
CATEGORIES:Loch Ealach Mor,Loch Talaheel
END:VEVENT
BEGIN:VEVENT
DTSTART;TZID=Europe/London:20210621T090000
DTEND;TZID=Europe/London:20210621T200000
DTSTAMP:20260422T022902
CREATED:20210412T065323Z
LAST-MODIFIED:20210412T065323Z
UID:10000888-1624266000-1624305600@forsinardflyfishers.co.uk
SUMMARY:ALL DAY SESSION
DESCRIPTION:MARY ASPEL + 1
URL:https://forsinardflyfishers.co.uk/booking/all-day-session-88/
CATEGORIES:Loch Earacha
END:VEVENT
BEGIN:VEVENT
DTSTART;TZID=Europe/London:20210621T090000
DTEND;TZID=Europe/London:20210621T200000
DTSTAMP:20260422T022902
CREATED:20210331T234912Z
LAST-MODIFIED:20210331T234912Z
UID:10000715-1624266000-1624305600@forsinardflyfishers.co.uk
SUMMARY:ALL DAY SESSION
DESCRIPTION:MRSHALL MCKENZIE +1
URL:https://forsinardflyfishers.co.uk/booking/all-day-session-7/
CATEGORIES:Loch na Seilge
END:VEVENT
BEGIN:VEVENT
DTSTART;TZID=Europe/London:20210621T090000
DTEND;TZID=Europe/London:20210621T190000
DTSTAMP:20260422T022902
CREATED:20210403T093236Z
LAST-MODIFIED:20210403T093236Z
UID:10000827-1624266000-1624302000@forsinardflyfishers.co.uk
SUMMARY:ALL DAY SESSION
DESCRIPTION:STUART GRAY
URL:https://forsinardflyfishers.co.uk/booking/all-day-session-52/
CATEGORIES:Cross Lochs
END:VEVENT
BEGIN:VEVENT
DTSTART;TZID=Europe/London:20210620T090000
DTEND;TZID=Europe/London:20210620T223000
DTSTAMP:20260422T022902
CREATED:20210616T195342Z
LAST-MODIFIED:20210616T195342Z
UID:10001032-1624179600-1624228200@forsinardflyfishers.co.uk
SUMMARY:ALL DAY SESSION
DESCRIPTION:L.ORGAN
URL:https://forsinardflyfishers.co.uk/booking/all-day-session-208/
CATEGORIES:Loch a Mhuilinn
END:VEVENT
BEGIN:VEVENT
DTSTART;TZID=Europe/London:20210620T090000
DTEND;TZID=Europe/London:20210620T220000
DTSTAMP:20260422T022902
CREATED:20210618T144130Z
LAST-MODIFIED:20210618T144130Z
UID:10001039-1624179600-1624226400@forsinardflyfishers.co.uk
SUMMARY:ALL DAY SESSION
DESCRIPTION:COLIN LEASK + 1
URL:https://forsinardflyfishers.co.uk/booking/all-day-session-215/
CATEGORIES:Loch Ealach Mor
END:VEVENT
BEGIN:VEVENT
DTSTART;TZID=Europe/London:20210620T090000
DTEND;TZID=Europe/London:20210620T200000
DTSTAMP:20260422T022902
CREATED:20210403T093127Z
LAST-MODIFIED:20210403T093127Z
UID:10000825-1624179600-1624219200@forsinardflyfishers.co.uk
SUMMARY:ALL DAY SESSION
DESCRIPTION:STUART GRAY
URL:https://forsinardflyfishers.co.uk/booking/all-day-session-51/
CATEGORIES:Bighouse Loch
END:VEVENT
BEGIN:VEVENT
DTSTART;TZID=Europe/London:20210620T090000
DTEND;TZID=Europe/London:20210620T190000
DTSTAMP:20260422T022902
CREATED:20210531T213613Z
LAST-MODIFIED:20210531T213613Z
UID:10001010-1624179600-1624215600@forsinardflyfishers.co.uk
SUMMARY:DAY SESSION
DESCRIPTION:P.BYRNE
URL:https://forsinardflyfishers.co.uk/booking/day-session-21/
CATEGORIES:Caol North
END:VEVENT
BEGIN:VEVENT
DTSTART;TZID=Europe/London:20210619T090000
DTEND;TZID=Europe/London:20210619T220000
DTSTAMP:20260422T022902
CREATED:20210531T213307Z
LAST-MODIFIED:20210531T213307Z
UID:10001008-1624093200-1624140000@forsinardflyfishers.co.uk
SUMMARY:ALL DAY SESSION
DESCRIPTION:SELWYN CURTIS
URL:https://forsinardflyfishers.co.uk/booking/all-day-session-186/
CATEGORIES:Caol North
END:VEVENT
BEGIN:VEVENT
DTSTART;TZID=Europe/London:20210619T090000
DTEND;TZID=Europe/London:20210619T180000
DTSTAMP:20260422T022902
CREATED:20210331T233930Z
LAST-MODIFIED:20210331T233930Z
UID:10000712-1624093200-1624125600@forsinardflyfishers.co.uk
SUMMARY:DAY SESSION
DESCRIPTION:J.RAMSAY + 2 BOAT
URL:https://forsinardflyfishers.co.uk/booking/day-session-9/
CATEGORIES:Loch Skyline
END:VEVENT
BEGIN:VEVENT
DTSTART;TZID=Europe/London:20210619T090000
DTEND;TZID=Europe/London:20210619T180000
DTSTAMP:20260422T022902
CREATED:20210331T233806Z
LAST-MODIFIED:20210331T233806Z
UID:10000711-1624093200-1624125600@forsinardflyfishers.co.uk
SUMMARY:DAY SESSION
DESCRIPTION:F.BEATTIE + 3 BOAT
URL:https://forsinardflyfishers.co.uk/booking/day-session-8/
CATEGORIES:Loch Slethill
END:VEVENT
BEGIN:VEVENT
DTSTART;TZID=Europe/London:20210619T090000
DTEND;TZID=Europe/London:20210619T180000
DTSTAMP:20260422T022902
CREATED:20210331T233631Z
LAST-MODIFIED:20210331T233631Z
UID:10000710-1624093200-1624125600@forsinardflyfishers.co.uk
SUMMARY:DAY SESSION
DESCRIPTION:N.MURRAY + 3 BOAT
URL:https://forsinardflyfishers.co.uk/booking/day-session-7/
CATEGORIES:Loch Caol Altnabreac
END:VEVENT
BEGIN:VEVENT
DTSTART;TZID=Europe/London:20210618T090000
DTEND;TZID=Europe/London:20210618T223000
DTSTAMP:20260422T022902
CREATED:20210331T233439Z
LAST-MODIFIED:20210331T233439Z
UID:10000709-1624006800-1624055400@forsinardflyfishers.co.uk
SUMMARY:ALLL DAY SESSION
DESCRIPTION:M.MAYERS + 2
URL:https://forsinardflyfishers.co.uk/booking/alll-day-session/
CATEGORIES:Loch Leir
END:VEVENT
BEGIN:VEVENT
DTSTART;TZID=Europe/London:20210618T090000
DTEND;TZID=Europe/London:20210618T180000
DTSTAMP:20260422T022902
CREATED:20210403T093729Z
LAST-MODIFIED:20210403T093729Z
UID:10000832-1624006800-1624039200@forsinardflyfishers.co.uk
SUMMARY:ALL DAY SESSION
DESCRIPTION:J.RAMSAY + 3 BOAT
URL:https://forsinardflyfishers.co.uk/booking/all-day-session-55/
CATEGORIES:Loch Clach Geala
END:VEVENT
BEGIN:VEVENT
DTSTART;TZID=Europe/London:20210617T090000
DTEND;TZID=Europe/London:20210617T220000
DTSTAMP:20260422T022902
CREATED:20210614T185816Z
LAST-MODIFIED:20210614T185816Z
UID:10001022-1623920400-1623967200@forsinardflyfishers.co.uk
SUMMARY:ALL DAY SESSION
DESCRIPTION:IAN CARTWRIGHT
URL:https://forsinardflyfishers.co.uk/booking/all-day-session-200/
CATEGORIES:Loch Baligill
END:VEVENT
BEGIN:VEVENT
DTSTART;TZID=Europe/London:20210617T090000
DTEND;TZID=Europe/London:20210617T220000
DTSTAMP:20260422T022902
CREATED:20210331T233321Z
LAST-MODIFIED:20210331T233321Z
UID:10000708-1623920400-1623967200@forsinardflyfishers.co.uk
SUMMARY:ALL DAY SESSION
DESCRIPTION:M.MAYERS + 2
URL:https://forsinardflyfishers.co.uk/booking/all-day-session-6/
CATEGORIES:Loch na Caorach
END:VEVENT
END:VCALENDAR