BEGIN:VCALENDAR
VERSION:2.0
PRODID:-//Forsinard Flyfishers&#039; Club - ECPv6.15.20//NONSGML v1.0//EN
CALSCALE:GREGORIAN
METHOD:PUBLISH
X-WR-CALNAME:Forsinard Flyfishers&#039; Club
X-ORIGINAL-URL:https://forsinardflyfishers.co.uk
X-WR-CALDESC:Events for Forsinard Flyfishers&#039; Club
REFRESH-INTERVAL;VALUE=DURATION:PT1H
X-Robots-Tag:noindex
X-PUBLISHED-TTL:PT1H
BEGIN:VTIMEZONE
TZID:Europe/London
BEGIN:DAYLIGHT
TZOFFSETFROM:+0000
TZOFFSETTO:+0100
TZNAME:BST
DTSTART:20200329T010000
END:DAYLIGHT
BEGIN:STANDARD
TZOFFSETFROM:+0100
TZOFFSETTO:+0000
TZNAME:GMT
DTSTART:20201025T010000
END:STANDARD
BEGIN:DAYLIGHT
TZOFFSETFROM:+0000
TZOFFSETTO:+0100
TZNAME:BST
DTSTART:20210328T010000
END:DAYLIGHT
BEGIN:STANDARD
TZOFFSETFROM:+0100
TZOFFSETTO:+0000
TZNAME:GMT
DTSTART:20211031T010000
END:STANDARD
BEGIN:DAYLIGHT
TZOFFSETFROM:+0000
TZOFFSETTO:+0100
TZNAME:BST
DTSTART:20220327T010000
END:DAYLIGHT
BEGIN:STANDARD
TZOFFSETFROM:+0100
TZOFFSETTO:+0000
TZNAME:GMT
DTSTART:20221030T010000
END:STANDARD
END:VTIMEZONE
BEGIN:VEVENT
DTSTART;TZID=Europe/London:20210710T090000
DTEND;TZID=Europe/London:20210710T180000
DTSTAMP:20260422T010742
CREATED:20210421T093512Z
LAST-MODIFIED:20210421T093512Z
UID:10000929-1625907600-1625940000@forsinardflyfishers.co.uk
SUMMARY:ALL DAY SESSION
DESCRIPTION:R.GOSS + 1
URL:https://forsinardflyfishers.co.uk/booking/all-day-session-127/
CATEGORIES:Loch Talaheel
END:VEVENT
BEGIN:VEVENT
DTSTART;TZID=Europe/London:20210710T090000
DTEND;TZID=Europe/London:20210710T150000
DTSTAMP:20260422T010742
CREATED:20210408T171210Z
LAST-MODIFIED:20210408T171210Z
UID:10000885-1625907600-1625929200@forsinardflyfishers.co.uk
SUMMARY:MORNING SESSION
DESCRIPTION:STEVEN COOK + 3
URL:https://forsinardflyfishers.co.uk/booking/morning-session/
CATEGORIES:Loch Skyline
END:VEVENT
BEGIN:VEVENT
DTSTART;TZID=Europe/London:20210709T090000
DTEND;TZID=Europe/London:20210709T223000
DTSTAMP:20260422T010742
CREATED:20210407T151654Z
LAST-MODIFIED:20210407T151654Z
UID:10000841-1625821200-1625869800@forsinardflyfishers.co.uk
SUMMARY:ALL DAY SESSION
DESCRIPTION:STEVEN COOK + 3 BOAT
URL:https://forsinardflyfishers.co.uk/booking/all-day-session-73/
CATEGORIES:Loch Slethill
END:VEVENT
BEGIN:VEVENT
DTSTART;TZID=Europe/London:20210709T090000
DTEND;TZID=Europe/London:20210709T200000
DTSTAMP:20260422T010742
CREATED:20210401T002150Z
LAST-MODIFIED:20210401T002150Z
UID:10000738-1625821200-1625860800@forsinardflyfishers.co.uk
SUMMARY:ALL DAY SESSION
DESCRIPTION:A.BUGLASS + 1
URL:https://forsinardflyfishers.co.uk/booking/all-day-session-18/
CATEGORIES:Cross Lochs
END:VEVENT
BEGIN:VEVENT
DTSTART;TZID=Europe/London:20210709T090000
DTEND;TZID=Europe/London:20210709T180000
DTSTAMP:20260422T010743
CREATED:20210421T093421Z
LAST-MODIFIED:20210421T093421Z
UID:10000926-1625821200-1625853600@forsinardflyfishers.co.uk
SUMMARY:ALL DAY SESSION
DESCRIPTION:R.GOSS + 1
URL:https://forsinardflyfishers.co.uk/booking/all-day-session-126/
CATEGORIES:Loch Akran,Loch Caol (Champagne)
END:VEVENT
BEGIN:VEVENT
DTSTART;TZID=Europe/London:20210708T090000
DTEND;TZID=Europe/London:20210708T220000
DTSTAMP:20260422T010743
CREATED:20210412T065530Z
LAST-MODIFIED:20210412T065530Z
UID:10000889-1625734800-1625781600@forsinardflyfishers.co.uk
SUMMARY:ALL DAY SESSION
DESCRIPTION:A.JACKSON + 3
URL:https://forsinardflyfishers.co.uk/booking/all-day-session-89/
CATEGORIES:Loch Badaidh na Meana
END:VEVENT
BEGIN:VEVENT
DTSTART;TZID=Europe/London:20210708T090000
DTEND;TZID=Europe/London:20210708T180000
DTSTAMP:20260422T010743
CREATED:20210407T152033Z
LAST-MODIFIED:20210408T171013Z
UID:10000844-1625734800-1625767200@forsinardflyfishers.co.uk
SUMMARY:ALL DAY SESSION
DESCRIPTION:STEVEN COOK + 3
URL:https://forsinardflyfishers.co.uk/booking/all-day-session-76/
CATEGORIES:Loch na h-Eaglaise Beag,Loch na h-Eaglasie Mor (South end)
END:VEVENT
BEGIN:VEVENT
DTSTART;TZID=Europe/London:20210707T090000
DTEND;TZID=Europe/London:20210709T180000
DTSTAMP:20260422T010743
CREATED:20210402T090119Z
LAST-MODIFIED:20210402T090119Z
UID:10000772-1625648400-1625853600@forsinardflyfishers.co.uk
SUMMARY:NO FISHING AVAILABLE
DESCRIPTION:
URL:https://forsinardflyfishers.co.uk/booking/no-fishing-available-4/
CATEGORIES:Cross Lochs,Loch Bad A'Bothain,Loch Caol Altnabreac,Loch Clach Geala,Loch Crocach,Loch Ealach Mor,Loch Leir,Loch Na Cloiche,Loch Na Saobhaide,Loch Skyline,Loch Slethill,Loch Talaheel,Lochan Nam Breac
END:VEVENT
BEGIN:VEVENT
DTSTART;TZID=Europe/London:20210707T090000
DTEND;TZID=Europe/London:20210707T223000
DTSTAMP:20260422T010743
CREATED:20210407T151924Z
LAST-MODIFIED:20210407T151924Z
UID:10000843-1625648400-1625697000@forsinardflyfishers.co.uk
SUMMARY:ALL DAY SESSION
DESCRIPTION:STEVEN COOK + 3 BOAT
URL:https://forsinardflyfishers.co.uk/booking/all-day-session-75/
CATEGORIES:Loch Leir
END:VEVENT
BEGIN:VEVENT
DTSTART;TZID=Europe/London:20210707T090000
DTEND;TZID=Europe/London:20210707T180000
DTSTAMP:20260422T010743
CREATED:20210421T093312Z
LAST-MODIFIED:20210421T093312Z
UID:10000925-1625648400-1625680800@forsinardflyfishers.co.uk
SUMMARY:ALL DAY SESSION
DESCRIPTION:R.GOSS + 1
URL:https://forsinardflyfishers.co.uk/booking/all-day-session-125/
CATEGORIES:Bighouse Loch
END:VEVENT
BEGIN:VEVENT
DTSTART;TZID=Europe/London:20210706T090000
DTEND;TZID=Europe/London:20210706T203000
DTSTAMP:20260422T010743
CREATED:20210401T001539Z
LAST-MODIFIED:20210401T001539Z
UID:10000736-1625562000-1625603400@forsinardflyfishers.co.uk
SUMMARY:ALL DAY SESSION
DESCRIPTION:ROD CHRISTIE + 1
URL:https://forsinardflyfishers.co.uk/booking/all-day-session-16/
CATEGORIES:Loch Clach Geala
END:VEVENT
BEGIN:VEVENT
DTSTART;TZID=Europe/London:20210706T090000
DTEND;TZID=Europe/London:20210706T180000
DTSTAMP:20260422T010743
CREATED:20210421T092823Z
LAST-MODIFIED:20210421T092823Z
UID:10000924-1625562000-1625594400@forsinardflyfishers.co.uk
SUMMARY:ALL DAY SESSION
DESCRIPTION:R.GOSS + 1 BOAT
URL:https://forsinardflyfishers.co.uk/booking/all-day-session-124/
CATEGORIES:Loch na Caorach
END:VEVENT
BEGIN:VEVENT
DTSTART;TZID=Europe/London:20210706T090000
DTEND;TZID=Europe/London:20210706T180000
DTSTAMP:20260422T010743
CREATED:20210401T001642Z
LAST-MODIFIED:20210401T001642Z
UID:10000737-1625562000-1625594400@forsinardflyfishers.co.uk
SUMMARY:ALL DAY SESSION
DESCRIPTION:A.BUGLASS + 1 BOAT
URL:https://forsinardflyfishers.co.uk/booking/all-day-session-17/
CATEGORIES:Loch Caol Altnabreac
END:VEVENT
BEGIN:VEVENT
DTSTART;TZID=Europe/London:20210705T090000
DTEND;TZID=Europe/London:20210705T220000
DTSTAMP:20260422T010743
CREATED:20210421T092549Z
LAST-MODIFIED:20210421T092549Z
UID:10000923-1625475600-1625522400@forsinardflyfishers.co.uk
SUMMARY:ALL DAY SESSION
DESCRIPTION:R.GOSS + 1
URL:https://forsinardflyfishers.co.uk/booking/all-day-session-123/
CATEGORIES:Loch na Seilge
END:VEVENT
BEGIN:VEVENT
DTSTART;TZID=Europe/London:20210705T090000
DTEND;TZID=Europe/London:20210705T220000
DTSTAMP:20260422T010743
CREATED:20210401T001306Z
LAST-MODIFIED:20210401T001306Z
UID:10000733-1625475600-1625522400@forsinardflyfishers.co.uk
SUMMARY:ALL DAY SESSION
DESCRIPTION:ROD CHRISTIE + 2
URL:https://forsinardflyfishers.co.uk/booking/all-day-session-15/
CATEGORIES:Cross Lochs
END:VEVENT
BEGIN:VEVENT
DTSTART;TZID=Europe/London:20210705T090000
DTEND;TZID=Europe/London:20210705T200000
DTSTAMP:20260422T010743
CREATED:20210401T001427Z
LAST-MODIFIED:20210402T091454Z
UID:10000735-1625475600-1625515200@forsinardflyfishers.co.uk
SUMMARY:ALL DAY SESSON
DESCRIPTION:A.BUGLASS + 1 BOAT
URL:https://forsinardflyfishers.co.uk/booking/all-day-sesson/
CATEGORIES:Loch Slethill
END:VEVENT
BEGIN:VEVENT
DTSTART;TZID=Europe/London:20210703T090000
DTEND;TZID=Europe/London:20210703T230000
DTSTAMP:20260422T010743
CREATED:20210407T091241Z
LAST-MODIFIED:20210407T091241Z
UID:10000839-1625302800-1625353200@forsinardflyfishers.co.uk
SUMMARY:ALL DAY SESSION
DESCRIPTION:MAT HENDERSON + 2 BOAT
URL:https://forsinardflyfishers.co.uk/booking/all-day-session-70/
CATEGORIES:Loch na Seilge
END:VEVENT
BEGIN:VEVENT
DTSTART;TZID=Europe/London:20210703T090000
DTEND;TZID=Europe/London:20210703T223000
DTSTAMP:20260422T010743
CREATED:20210625T085325Z
LAST-MODIFIED:20210625T085325Z
UID:10001047-1625302800-1625351400@forsinardflyfishers.co.uk
SUMMARY:ALL DAY SESSION
DESCRIPTION:I.MACALLUM
URL:https://forsinardflyfishers.co.uk/booking/all-day-session-222/
CATEGORIES:Loch Ealach Mor
END:VEVENT
BEGIN:VEVENT
DTSTART;TZID=Europe/London:20210702T090000
DTEND;TZID=Europe/London:20210702T220000
DTSTAMP:20260422T010743
CREATED:20210413T094134Z
LAST-MODIFIED:20210413T094134Z
UID:10000890-1625216400-1625263200@forsinardflyfishers.co.uk
SUMMARY:ALL DAY SESSION
DESCRIPTION:R.LIVINGSTONE + 1
URL:https://forsinardflyfishers.co.uk/booking/all-day-session-90/
CATEGORIES:Loch Leir
END:VEVENT
BEGIN:VEVENT
DTSTART;TZID=Europe/London:20210702T090000
DTEND;TZID=Europe/London:20210702T213000
DTSTAMP:20260422T010743
CREATED:20210413T094241Z
LAST-MODIFIED:20210413T094241Z
UID:10000891-1625216400-1625261400@forsinardflyfishers.co.uk
SUMMARY:ALL DAY SESSION
DESCRIPTION:R.CAIRNS + 1
URL:https://forsinardflyfishers.co.uk/booking/all-day-session-91/
CATEGORIES:Loch Bad A'Bothain
END:VEVENT
BEGIN:VEVENT
DTSTART;TZID=Europe/London:20210702T090000
DTEND;TZID=Europe/London:20210702T200000
DTSTAMP:20260422T010743
CREATED:20210402T173241Z
LAST-MODIFIED:20210402T173241Z
UID:10000808-1625216400-1625256000@forsinardflyfishers.co.uk
SUMMARY:ALL DAY SESSION
DESCRIPTION:MAT HENDERSON + 2 BOAT
URL:https://forsinardflyfishers.co.uk/booking/all-day-session-41/
CATEGORIES:Loch Skyline
END:VEVENT
BEGIN:VEVENT
DTSTART;TZID=Europe/London:20210701T090000
DTEND;TZID=Europe/London:20210701T220000
DTSTAMP:20260422T010743
CREATED:20210625T085423Z
LAST-MODIFIED:20210625T085423Z
UID:10001050-1625130000-1625176800@forsinardflyfishers.co.uk
SUMMARY:ALL DAY SESSION
DESCRIPTION:I.MACALLUM
URL:https://forsinardflyfishers.co.uk/booking/all-day-session-223/
CATEGORIES:Loch na Seilge
END:VEVENT
BEGIN:VEVENT
DTSTART;TZID=Europe/London:20210701T090000
DTEND;TZID=Europe/London:20210701T220000
DTSTAMP:20260422T010743
CREATED:20210402T070904Z
LAST-MODIFIED:20210402T070904Z
UID:10000765-1625130000-1625176800@forsinardflyfishers.co.uk
SUMMARY:ALL DAY SESSION
DESCRIPTION:MAT HENDERSON + 2 BOAT
URL:https://forsinardflyfishers.co.uk/booking/all-day-session-38/
CATEGORIES:Loch Caol Altnabreac
END:VEVENT
BEGIN:VEVENT
DTSTART;TZID=Europe/London:20210701T090000
DTEND;TZID=Europe/London:20210701T210000
DTSTAMP:20260422T010743
CREATED:20210523T185015Z
LAST-MODIFIED:20210523T185015Z
UID:10000995-1625130000-1625173200@forsinardflyfishers.co.uk
SUMMARY:ALL DAY SESSION
DESCRIPTION:I.MORRIS
URL:https://forsinardflyfishers.co.uk/booking/all-day-session-168/
CATEGORIES:Bighouse Loch
END:VEVENT
BEGIN:VEVENT
DTSTART;TZID=Europe/London:20210701T090000
DTEND;TZID=Europe/London:20210701T210000
DTSTAMP:20260422T010743
CREATED:20210413T094347Z
LAST-MODIFIED:20210413T094347Z
UID:10000893-1625130000-1625173200@forsinardflyfishers.co.uk
SUMMARY:ALL DAY SESSION
DESCRIPTION:R.CAIRNS + 1
URL:https://forsinardflyfishers.co.uk/booking/all-day-session-92/
CATEGORIES:Cross Lochs
END:VEVENT
BEGIN:VEVENT
DTSTART;TZID=Europe/London:20210701T090000
DTEND;TZID=Europe/London:20210701T180000
DTSTAMP:20260422T010743
CREATED:20210413T094504Z
LAST-MODIFIED:20210413T094504Z
UID:10000895-1625130000-1625162400@forsinardflyfishers.co.uk
SUMMARY:ALL DAY SESSION
DESCRIPTION:R.LIVINGSTONE + 1
URL:https://forsinardflyfishers.co.uk/booking/all-day-session-93/
CATEGORIES:Loch Ealach Mor
END:VEVENT
BEGIN:VEVENT
DTSTART;TZID=Europe/London:20210630T090000
DTEND;TZID=Europe/London:20210630T220000
DTSTAMP:20260422T010743
CREATED:20210402T070748Z
LAST-MODIFIED:20210402T070748Z
UID:10000763-1625043600-1625090400@forsinardflyfishers.co.uk
SUMMARY:ALL DAY SESION
DESCRIPTION:Mat Henderson + 2
URL:https://forsinardflyfishers.co.uk/booking/all-day-sesion-2/
CATEGORIES:Loch Talaheel
END:VEVENT
BEGIN:VEVENT
DTSTART;TZID=Europe/London:20210629T090000
DTEND;TZID=Europe/London:20210629T220000
DTSTAMP:20260422T010743
CREATED:20210402T070619Z
LAST-MODIFIED:20210402T070619Z
UID:10000761-1624957200-1625004000@forsinardflyfishers.co.uk
SUMMARY:ALL DAY SESSION
DESCRIPTION:MAT HENDERSON + 2 Boat
URL:https://forsinardflyfishers.co.uk/booking/all-day-session-37/
CATEGORIES:Loch Slethill
END:VEVENT
BEGIN:VEVENT
DTSTART;TZID=Europe/London:20210628T090000
DTEND;TZID=Europe/London:20210628T223000
DTSTAMP:20260422T010743
CREATED:20210627T204018Z
LAST-MODIFIED:20210627T204018Z
UID:10001059-1624870800-1624919400@forsinardflyfishers.co.uk
SUMMARY:ALL DAY SESSION
DESCRIPTION:I.MORRIS
URL:https://forsinardflyfishers.co.uk/booking/all-day-session-227/
CATEGORIES:Loch nam Bo Uidhre
END:VEVENT
BEGIN:VEVENT
DTSTART;TZID=Europe/London:20210628T090000
DTEND;TZID=Europe/London:20210628T220000
DTSTAMP:20260422T010743
CREATED:20210625T111154Z
LAST-MODIFIED:20210625T111154Z
UID:10001052-1624870800-1624917600@forsinardflyfishers.co.uk
SUMMARY:ALL DAY SESSION
DESCRIPTION:MAT HENDERSON
URL:https://forsinardflyfishers.co.uk/booking/all-day-session-224/
CATEGORIES:Loch Bad A'Bothain
END:VEVENT
END:VCALENDAR