BEGIN:VCALENDAR
VERSION:2.0
PRODID:-//Forsinard Flyfishers&#039; Club - ECPv6.15.20//NONSGML v1.0//EN
CALSCALE:GREGORIAN
METHOD:PUBLISH
X-WR-CALNAME:Forsinard Flyfishers&#039; Club
X-ORIGINAL-URL:https://forsinardflyfishers.co.uk
X-WR-CALDESC:Events for Forsinard Flyfishers&#039; Club
REFRESH-INTERVAL;VALUE=DURATION:PT1H
X-Robots-Tag:noindex
X-PUBLISHED-TTL:PT1H
BEGIN:VTIMEZONE
TZID:Europe/London
BEGIN:DAYLIGHT
TZOFFSETFROM:+0000
TZOFFSETTO:+0100
TZNAME:BST
DTSTART:20210328T010000
END:DAYLIGHT
BEGIN:STANDARD
TZOFFSETFROM:+0100
TZOFFSETTO:+0000
TZNAME:GMT
DTSTART:20211031T010000
END:STANDARD
BEGIN:DAYLIGHT
TZOFFSETFROM:+0000
TZOFFSETTO:+0100
TZNAME:BST
DTSTART:20220327T010000
END:DAYLIGHT
BEGIN:STANDARD
TZOFFSETFROM:+0100
TZOFFSETTO:+0000
TZNAME:GMT
DTSTART:20221030T010000
END:STANDARD
BEGIN:DAYLIGHT
TZOFFSETFROM:+0000
TZOFFSETTO:+0100
TZNAME:BST
DTSTART:20230326T010000
END:DAYLIGHT
BEGIN:STANDARD
TZOFFSETFROM:+0100
TZOFFSETTO:+0000
TZNAME:GMT
DTSTART:20231029T010000
END:STANDARD
END:VTIMEZONE
BEGIN:VEVENT
DTSTART;TZID=Europe/London:20220520T090000
DTEND;TZID=Europe/London:20220520T223000
DTSTAMP:20260421T211817
CREATED:20220507T170419Z
LAST-MODIFIED:20220507T170419Z
UID:10001255-1653037200-1653085800@forsinardflyfishers.co.uk
SUMMARY:ALL DAY SESSION
DESCRIPTION:J.STRANG
URL:https://forsinardflyfishers.co.uk/booking/all-day-session-359/
CATEGORIES:Loch Leir
END:VEVENT
BEGIN:VEVENT
DTSTART;TZID=Europe/London:20220520T090000
DTEND;TZID=Europe/London:20220520T220000
DTSTAMP:20260421T211817
CREATED:20220519T072812Z
LAST-MODIFIED:20220519T072812Z
UID:10001264-1653037200-1653084000@forsinardflyfishers.co.uk
SUMMARY:ALL DAY SESSION
DESCRIPTION:N.MURRAY
URL:https://forsinardflyfishers.co.uk/booking/all-day-session-379/
CATEGORIES:Loch Garbh
END:VEVENT
BEGIN:VEVENT
DTSTART;TZID=Europe/London:20220520T090000
DTEND;TZID=Europe/London:20220520T200000
DTSTAMP:20260421T211817
CREATED:20220401T012810Z
LAST-MODIFIED:20220401T012810Z
UID:10001191-1653037200-1653076800@forsinardflyfishers.co.uk
SUMMARY:DAY SESSION
DESCRIPTION:I.MACALLUM\, RODDY HARDY
URL:https://forsinardflyfishers.co.uk/booking/day-session-82/
CATEGORIES:Loch Slethill
END:VEVENT
BEGIN:VEVENT
DTSTART;TZID=Europe/London:20220519T090000
DTEND;TZID=Europe/London:20220519T220000
DTSTAMP:20260421T211817
CREATED:20220512T092833Z
LAST-MODIFIED:20220512T092833Z
UID:10001257-1652950800-1652997600@forsinardflyfishers.co.uk
SUMMARY:ALL DAY SESSION
DESCRIPTION:R.NICOLL\, M.NEWTON
URL:https://forsinardflyfishers.co.uk/booking/all-day-session-370/
CATEGORIES:Loch Coulbackie,Loch Sgitheanach
END:VEVENT
BEGIN:VEVENT
DTSTART;TZID=Europe/London:20220519T090000
DTEND;TZID=Europe/London:20220519T220000
DTSTAMP:20260421T211817
CREATED:20220509T071352Z
LAST-MODIFIED:20220509T071352Z
UID:10001011-1652950800-1652997600@forsinardflyfishers.co.uk
SUMMARY:ALL DAY SESSION
DESCRIPTION:WALTER MacDONALD\, ALAN MANKIN (Boat required)
URL:https://forsinardflyfishers.co.uk/booking/all-day-session-362/
CATEGORIES:Loch Caise
END:VEVENT
BEGIN:VEVENT
DTSTART;TZID=Europe/London:20220519T090000
DTEND;TZID=Europe/London:20220519T213000
DTSTAMP:20260421T211817
CREATED:20220509T071657Z
LAST-MODIFIED:20220516T191440Z
UID:10001013-1652950800-1652995800@forsinardflyfishers.co.uk
SUMMARY:ALL DAY SESSION
DESCRIPTION:S.CUMMING\, J.HOOK
URL:https://forsinardflyfishers.co.uk/booking/all-day-session-363/
CATEGORIES:Loch a Mhuilinn
END:VEVENT
BEGIN:VEVENT
DTSTART;TZID=Europe/London:20220519T090000
DTEND;TZID=Europe/London:20220519T193000
DTSTAMP:20260421T211817
CREATED:20220401T014824Z
LAST-MODIFIED:20220401T014824Z
UID:10001205-1652950800-1652988600@forsinardflyfishers.co.uk
SUMMARY:DAY SESSION
DESCRIPTION:R.HARDY\, I.MACALLUM
URL:https://forsinardflyfishers.co.uk/booking/day-session-96/
CATEGORIES:Loch Achridigill
END:VEVENT
BEGIN:VEVENT
DTSTART;TZID=Europe/London:20220518T090000
DTEND;TZID=Europe/London:20220518T220000
DTSTAMP:20260421T211817
CREATED:20220512T164946Z
LAST-MODIFIED:20220512T164946Z
UID:10001256-1652864400-1652911200@forsinardflyfishers.co.uk
SUMMARY:ALL DAY SESSION
DESCRIPTION:A.COATS
URL:https://forsinardflyfishers.co.uk/booking/all-day-session-372/
CATEGORIES:Loch Saorach,Loch Thormaid
END:VEVENT
BEGIN:VEVENT
DTSTART;TZID=Europe/London:20220518T090000
DTEND;TZID=Europe/London:20220518T220000
DTSTAMP:20260421T211817
CREATED:20220512T092636Z
LAST-MODIFIED:20220512T092636Z
UID:10001025-1652864400-1652911200@forsinardflyfishers.co.uk
SUMMARY:ALL DAY SESSION
DESCRIPTION:R.NICOLL\, M.NEWTON
URL:https://forsinardflyfishers.co.uk/booking/all-day-session-369/
CATEGORIES:Caol North
END:VEVENT
BEGIN:VEVENT
DTSTART;TZID=Europe/London:20220517T090000
DTEND;TZID=Europe/London:20220519T230000
DTSTAMP:20260421T211817
CREATED:20220329T132023Z
LAST-MODIFIED:20220329T132023Z
UID:10000906-1652778000-1653001200@forsinardflyfishers.co.uk
SUMMARY:NO FISHING AVAILABLE
DESCRIPTION:
URL:https://forsinardflyfishers.co.uk/booking/no-fishing-available-14/
CATEGORIES:Cross Lochs,Loch Bad A'Bothain,Loch Caol Altnabreac,Loch Clach Geala,Loch Crocach,Loch Ealach Mor,Loch Leir,Loch Na Cloiche,Loch Na Saobhaide,Loch Skyline,Loch Slethill,Loch Talaheel,Lochan Nam Breac
END:VEVENT
BEGIN:VEVENT
DTSTART;TZID=Europe/London:20220517T090000
DTEND;TZID=Europe/London:20220517T220000
DTSTAMP:20260421T211817
CREATED:20220512T092559Z
LAST-MODIFIED:20220512T092559Z
UID:10001023-1652778000-1652824800@forsinardflyfishers.co.uk
SUMMARY:ALL DAY SESSION
DESCRIPTION:G.SHELTON
URL:https://forsinardflyfishers.co.uk/booking/all-day-session-368/
CATEGORIES:Loch Coulbackie,Loch Sgitheanach
END:VEVENT
BEGIN:VEVENT
DTSTART;TZID=Europe/London:20220517T090000
DTEND;TZID=Europe/London:20220517T200000
DTSTAMP:20260421T211817
CREATED:20220401T014730Z
LAST-MODIFIED:20220401T014730Z
UID:10001204-1652778000-1652817600@forsinardflyfishers.co.uk
SUMMARY:DAY SESSION
DESCRIPTION:R.HARDY\, I.MACALLUM
URL:https://forsinardflyfishers.co.uk/booking/day-session-95/
CATEGORIES:Loch na Seilge
END:VEVENT
BEGIN:VEVENT
DTSTART;TZID=Europe/London:20220516T090000
DTEND;TZID=Europe/London:20220516T220000
DTSTAMP:20260421T211817
CREATED:20220512T092454Z
LAST-MODIFIED:20220512T092454Z
UID:10001021-1652691600-1652738400@forsinardflyfishers.co.uk
SUMMARY:ALL DAY SESSION
DESCRIPTION:R.NICOLL\, M.NEWTON\, A.COATS
URL:https://forsinardflyfishers.co.uk/booking/all-day-session-367/
CATEGORIES:Loch Slethill
END:VEVENT
BEGIN:VEVENT
DTSTART;TZID=Europe/London:20220515T090000
DTEND;TZID=Europe/London:20220515T200000
DTSTAMP:20260421T211817
CREATED:20220512T071523Z
LAST-MODIFIED:20220512T071523Z
UID:10001019-1652605200-1652644800@forsinardflyfishers.co.uk
SUMMARY:ALL DAY SESSION
DESCRIPTION:S.STANIMIROV\, S. MACKAY SUTHERLAND
URL:https://forsinardflyfishers.co.uk/booking/all-day-session-366/
CATEGORIES:Loch Caise
END:VEVENT
BEGIN:VEVENT
DTSTART;TZID=Europe/London:20220513T090000
DTEND;TZID=Europe/London:20220513T220000
DTSTAMP:20260421T211817
CREATED:20220509T071807Z
LAST-MODIFIED:20220509T071807Z
UID:10001015-1652432400-1652479200@forsinardflyfishers.co.uk
SUMMARY:ALL DAY SESSION
DESCRIPTION:W.MacDONALD\, A.MANKIN
URL:https://forsinardflyfishers.co.uk/booking/all-day-session-364/
CATEGORIES:Loch Nam Breac
END:VEVENT
BEGIN:VEVENT
DTSTART;TZID=Europe/London:20220511T090000
DTEND;TZID=Europe/London:20220511T220000
DTSTAMP:20260421T211817
CREATED:20220509T071920Z
LAST-MODIFIED:20220509T071920Z
UID:10001017-1652259600-1652306400@forsinardflyfishers.co.uk
SUMMARY:ALL DAY SESSION
DESCRIPTION:W.MacDONALD\, A.MANKIN (boat required)
URL:https://forsinardflyfishers.co.uk/booking/all-day-session-365/
CATEGORIES:Loch Leir
END:VEVENT
BEGIN:VEVENT
DTSTART;TZID=Europe/London:20220509T090000
DTEND;TZID=Europe/London:20220513T183000
DTSTAMP:20260421T211817
CREATED:20220329T144704Z
LAST-MODIFIED:20220329T144704Z
UID:10000910-1652086800-1652466600@forsinardflyfishers.co.uk
SUMMARY:NO FISHING AVAILABLE
DESCRIPTION:
URL:https://forsinardflyfishers.co.uk/booking/no-fishing-available-16/
CATEGORIES:Cross Lochs,Loch Caol Altnabreac,Loch Slethill
END:VEVENT
BEGIN:VEVENT
DTSTART;TZID=Europe/London:20220508T090000
DTEND;TZID=Europe/London:20220508T220000
DTSTAMP:20260421T211817
CREATED:20220414T194535Z
LAST-MODIFIED:20220414T194535Z
UID:10001248-1652000400-1652047200@forsinardflyfishers.co.uk
SUMMARY:ALL DAY SESSION
DESCRIPTION:J.WASTLE
URL:https://forsinardflyfishers.co.uk/booking/all-day-session-355/
CATEGORIES:Loch Slethill
END:VEVENT
BEGIN:VEVENT
DTSTART;TZID=Europe/London:20220506T090000
DTEND;TZID=Europe/London:20220506T190000
DTSTAMP:20260421T211817
CREATED:20220505T182014Z
LAST-MODIFIED:20220505T182014Z
UID:10001254-1651827600-1651863600@forsinardflyfishers.co.uk
SUMMARY:DAY SESSION
DESCRIPTION:I.CARTWRIGHT\,P.CARTWRIGHT
URL:https://forsinardflyfishers.co.uk/booking/day-session-125/
CATEGORIES:Loch Baligill
END:VEVENT
BEGIN:VEVENT
DTSTART;TZID=Europe/London:20220505T090000
DTEND;TZID=Europe/London:20220505T190000
DTSTAMP:20260421T211817
CREATED:20220426T181205Z
LAST-MODIFIED:20220426T181205Z
UID:10001251-1651741200-1651777200@forsinardflyfishers.co.uk
SUMMARY:ALL DAY SESSION
DESCRIPTION:S.CUMMING\, J.HOOK
URL:https://forsinardflyfishers.co.uk/booking/all-day-session-357/
CATEGORIES:Loch Na Cloiche
END:VEVENT
BEGIN:VEVENT
DTSTART;TZID=Europe/London:20220505T090000
DTEND;TZID=Europe/London:20220505T180000
DTSTAMP:20260421T211817
CREATED:20220401T003138Z
LAST-MODIFIED:20220401T003138Z
UID:10001166-1651741200-1651773600@forsinardflyfishers.co.uk
SUMMARY:DAY SESSION
DESCRIPTION:N.PASSMORE\, J.BELL
URL:https://forsinardflyfishers.co.uk/booking/day-session-47/
CATEGORIES:Loch Leir
END:VEVENT
BEGIN:VEVENT
DTSTART;TZID=Europe/London:20220504T090000
DTEND;TZID=Europe/London:20220504T190000
DTSTAMP:20260421T211817
CREATED:20220428T200528Z
LAST-MODIFIED:20220428T200528Z
UID:10001252-1651654800-1651690800@forsinardflyfishers.co.uk
SUMMARY:DAY SESSION
DESCRIPTION:J.WASTLE
URL:https://forsinardflyfishers.co.uk/booking/day-session-124/
CATEGORIES:Caol North
END:VEVENT
BEGIN:VEVENT
DTSTART;TZID=Europe/London:20220504T090000
DTEND;TZID=Europe/London:20220504T180000
DTSTAMP:20260421T211817
CREATED:20220401T012858Z
LAST-MODIFIED:20220401T012858Z
UID:10001192-1651654800-1651687200@forsinardflyfishers.co.uk
SUMMARY:DAY SESSION
DESCRIPTION:N.PASSMORE\, J.BELL
URL:https://forsinardflyfishers.co.uk/booking/day-session-83/
CATEGORIES:Loch Slethill
END:VEVENT
BEGIN:VEVENT
DTSTART;TZID=Europe/London:20220427T090000
DTEND;TZID=Europe/London:20220427T190000
DTSTAMP:20260421T211817
CREATED:20220426T180919Z
LAST-MODIFIED:20220426T180919Z
UID:10001250-1651050000-1651086000@forsinardflyfishers.co.uk
SUMMARY:ALL DAY SESSION
DESCRIPTION:D.ROBSON
URL:https://forsinardflyfishers.co.uk/booking/all-day-session-356/
CATEGORIES:Loch a Mhuilinn
END:VEVENT
BEGIN:VEVENT
DTSTART;TZID=Europe/London:20220422T090000
DTEND;TZID=Europe/London:20220422T220000
DTSTAMP:20260421T211817
CREATED:20220401T143218Z
LAST-MODIFIED:20220406T183313Z
UID:10000974-1650618000-1650664800@forsinardflyfishers.co.uk
SUMMARY:DAY SESSION
DESCRIPTION:J.HOOK\, S.CUMMING
URL:https://forsinardflyfishers.co.uk/booking/day-session-114/
CATEGORIES:Loch Talaheel
END:VEVENT
BEGIN:VEVENT
DTSTART;TZID=Europe/London:20220415T090000
DTEND;TZID=Europe/London:20220415T220000
DTSTAMP:20260421T211817
CREATED:20220412T084616Z
LAST-MODIFIED:20220412T084616Z
UID:10001246-1650013200-1650060000@forsinardflyfishers.co.uk
SUMMARY:ALL DAY SESSION
DESCRIPTION:A.PORTEOUS
URL:https://forsinardflyfishers.co.uk/booking/all-day-session-349/
CATEGORIES:Caol North
END:VEVENT
BEGIN:VEVENT
DTSTART;TZID=Europe/London:20220414T090000
DTEND;TZID=Europe/London:20220414T220000
DTSTAMP:20260421T211817
CREATED:20220412T084729Z
LAST-MODIFIED:20220412T084729Z
UID:10001247-1649926800-1649973600@forsinardflyfishers.co.uk
SUMMARY:ALL DAY SESSION
DESCRIPTION:F.INGRAMS\, Z.INGRAMS
URL:https://forsinardflyfishers.co.uk/booking/all-day-session-354/
CATEGORIES:Loch Slethill
END:VEVENT
BEGIN:VEVENT
DTSTART;TZID=Europe/London:20220410T090000
DTEND;TZID=Europe/London:20220410T230000
DTSTAMP:20260421T211817
CREATED:20220409T170608Z
LAST-MODIFIED:20220409T170608Z
UID:10001245-1649581200-1649631600@forsinardflyfishers.co.uk
SUMMARY:ALL DAY SESSION
DESCRIPTION:F.INGRAM\, M.YOUNG
URL:https://forsinardflyfishers.co.uk/booking/all-day-session-348/
CATEGORIES:Cross Lochs
END:VEVENT
BEGIN:VEVENT
DTSTART;TZID=Europe/London:20220410T090000
DTEND;TZID=Europe/London:20220410T220000
DTSTAMP:20260421T211817
CREATED:20220408T120726Z
LAST-MODIFIED:20220408T120726Z
UID:10001242-1649581200-1649628000@forsinardflyfishers.co.uk
SUMMARY:ALL DAY SESSION
DESCRIPTION:A.PORTEOUS
URL:https://forsinardflyfishers.co.uk/booking/all-day-session-352/
CATEGORIES:Caol North
END:VEVENT
BEGIN:VEVENT
DTSTART;TZID=Europe/London:20220101T080000
DTEND;TZID=Europe/London:20220331T180000
DTSTAMP:20260421T211817
CREATED:20220111T114102Z
LAST-MODIFIED:20220111T114102Z
UID:10000901-1641024000-1648749600@forsinardflyfishers.co.uk
SUMMARY:NO FISHING AVAILABLE
DESCRIPTION:NO FISHING AVAILABLE
URL:https://forsinardflyfishers.co.uk/booking/no-fishing-available-12/
CATEGORIES:Loch Saorach,Loch Thormaid
END:VEVENT
END:VCALENDAR