BEGIN:VCALENDAR
VERSION:2.0
PRODID:-//Forsinard Flyfishers&#039; Club - ECPv6.15.20//NONSGML v1.0//EN
CALSCALE:GREGORIAN
METHOD:PUBLISH
X-WR-CALNAME:Forsinard Flyfishers&#039; Club
X-ORIGINAL-URL:https://forsinardflyfishers.co.uk
X-WR-CALDESC:Events for Forsinard Flyfishers&#039; Club
REFRESH-INTERVAL;VALUE=DURATION:PT1H
X-Robots-Tag:noindex
X-PUBLISHED-TTL:PT1H
BEGIN:VTIMEZONE
TZID:Europe/London
BEGIN:DAYLIGHT
TZOFFSETFROM:+0000
TZOFFSETTO:+0100
TZNAME:BST
DTSTART:20210328T010000
END:DAYLIGHT
BEGIN:STANDARD
TZOFFSETFROM:+0100
TZOFFSETTO:+0000
TZNAME:GMT
DTSTART:20211031T010000
END:STANDARD
BEGIN:DAYLIGHT
TZOFFSETFROM:+0000
TZOFFSETTO:+0100
TZNAME:BST
DTSTART:20220327T010000
END:DAYLIGHT
BEGIN:STANDARD
TZOFFSETFROM:+0100
TZOFFSETTO:+0000
TZNAME:GMT
DTSTART:20221030T010000
END:STANDARD
BEGIN:DAYLIGHT
TZOFFSETFROM:+0000
TZOFFSETTO:+0100
TZNAME:BST
DTSTART:20230326T010000
END:DAYLIGHT
BEGIN:STANDARD
TZOFFSETFROM:+0100
TZOFFSETTO:+0000
TZNAME:GMT
DTSTART:20231029T010000
END:STANDARD
END:VTIMEZONE
BEGIN:VEVENT
DTSTART;TZID=Europe/London:20220608T090000
DTEND;TZID=Europe/London:20220608T180000
DTSTAMP:20260421T200719
CREATED:20220401T011109Z
LAST-MODIFIED:20220401T011109Z
UID:10001180-1654678800-1654711200@forsinardflyfishers.co.uk
SUMMARY:DAY SESSION
DESCRIPTION:G.WILLIAMS\, P.WILLIAMS\, M.CORNELLISON
URL:https://forsinardflyfishers.co.uk/booking/day-session-72/
CATEGORIES:Cross Lochs
END:VEVENT
BEGIN:VEVENT
DTSTART;TZID=Europe/London:20220608T090000
DTEND;TZID=Europe/London:20220608T180000
DTSTAMP:20260421T200719
CREATED:20220401T004837Z
LAST-MODIFIED:20220401T004837Z
UID:10001175-1654678800-1654711200@forsinardflyfishers.co.uk
SUMMARY:DAY SESSION
DESCRIPTION:D.WHITE
URL:https://forsinardflyfishers.co.uk/booking/day-session-58/
CATEGORIES:Loch Na Cloiche
END:VEVENT
BEGIN:VEVENT
DTSTART;TZID=Europe/London:20220608T090000
DTEND;TZID=Europe/London:20220608T180000
DTSTAMP:20260421T200719
CREATED:20220401T001742Z
LAST-MODIFIED:20220401T001742Z
UID:10001157-1654678800-1654711200@forsinardflyfishers.co.uk
SUMMARY:DAY SESSION
DESCRIPTION:C.SLEIGH\, J.SLEIGH
URL:https://forsinardflyfishers.co.uk/booking/day-session-38/
CATEGORIES:Loch Garbh
END:VEVENT
BEGIN:VEVENT
DTSTART;TZID=Europe/London:20220608T090000
DTEND;TZID=Europe/London:20220608T180000
DTSTAMP:20260421T200719
CREATED:20220331T235137Z
LAST-MODIFIED:20220331T235137Z
UID:10001149-1654678800-1654711200@forsinardflyfishers.co.uk
SUMMARY:DAY SESSION
DESCRIPTION:F.SHORT\, G.HALL
URL:https://forsinardflyfishers.co.uk/booking/day-session-30/
CATEGORIES:Loch na Caorach
END:VEVENT
BEGIN:VEVENT
DTSTART;TZID=Europe/London:20220608T090000
DTEND;TZID=Europe/London:20220608T180000
DTSTAMP:20260421T200719
CREATED:20220331T235043Z
LAST-MODIFIED:20220331T235043Z
UID:10001148-1654678800-1654711200@forsinardflyfishers.co.uk
SUMMARY:DAY SESSION
DESCRIPTION:J.PEROT\, P.ALISON
URL:https://forsinardflyfishers.co.uk/booking/day-session-29/
CATEGORIES:Loch na Seilge
END:VEVENT
BEGIN:VEVENT
DTSTART;TZID=Europe/London:20220607T090000
DTEND;TZID=Europe/London:20220607T230000
DTSTAMP:20260421T200719
CREATED:20220605T192911Z
LAST-MODIFIED:20220605T192911Z
UID:10001284-1654592400-1654642800@forsinardflyfishers.co.uk
SUMMARY:ALL DAY SESSION
DESCRIPTION:S.CURTIS
URL:https://forsinardflyfishers.co.uk/booking/all-day-session-398/
CATEGORIES:Loch an Fheoir,Loch nam Bo Uidhre
END:VEVENT
BEGIN:VEVENT
DTSTART;TZID=Europe/London:20220607T090000
DTEND;TZID=Europe/London:20220607T230000
DTSTAMP:20260421T200719
CREATED:20220408T120544Z
LAST-MODIFIED:20220408T120544Z
UID:10001241-1654592400-1654642800@forsinardflyfishers.co.uk
SUMMARY:ALL DAY SESSION
DESCRIPTION:S.GRAY
URL:https://forsinardflyfishers.co.uk/booking/all-day-session-351/
CATEGORIES:Lochan Croc nan Lair
END:VEVENT
BEGIN:VEVENT
DTSTART;TZID=Europe/London:20220607T090000
DTEND;TZID=Europe/London:20220607T230000
DTSTAMP:20260421T200719
CREATED:20220401T151611Z
LAST-MODIFIED:20220402T091704Z
UID:10001217-1654592400-1654642800@forsinardflyfishers.co.uk
SUMMARY:DAY SESSION
DESCRIPTION:G.GRAHAM\, L.CASSIDY\, K.CULLEN
URL:https://forsinardflyfishers.co.uk/booking/day-session-118/
CATEGORIES:Caol North
END:VEVENT
BEGIN:VEVENT
DTSTART;TZID=Europe/London:20220607T090000
DTEND;TZID=Europe/London:20220607T180000
DTSTAMP:20260421T200719
CREATED:20220401T011414Z
LAST-MODIFIED:20220408T121937Z
UID:10001184-1654592400-1654624800@forsinardflyfishers.co.uk
SUMMARY:DAY SESSION
DESCRIPTION:D.BRYCE\, B.MCNEIL\, I.MITCHELL
URL:https://forsinardflyfishers.co.uk/booking/day-session-75/
CATEGORIES:Loch Akran,Loch Caol (Champagne)
END:VEVENT
BEGIN:VEVENT
DTSTART;TZID=Europe/London:20220607T090000
DTEND;TZID=Europe/London:20220607T180000
DTSTAMP:20260421T200719
CREATED:20220401T011144Z
LAST-MODIFIED:20220401T011144Z
UID:10001181-1654592400-1654624800@forsinardflyfishers.co.uk
SUMMARY:ALL DAY SESSION
DESCRIPTION:G.WILLIAMS\, P.WILLIAMS\, M.CORNELLISON
URL:https://forsinardflyfishers.co.uk/booking/all-day-session-308/
CATEGORIES:Loch Coulbackie
END:VEVENT
BEGIN:VEVENT
DTSTART;TZID=Europe/London:20220607T090000
DTEND;TZID=Europe/London:20220607T180000
DTSTAMP:20260421T200719
CREATED:20220401T005839Z
LAST-MODIFIED:20220401T005839Z
UID:10000938-1654592400-1654624800@forsinardflyfishers.co.uk
SUMMARY:DAY SESSION
DESCRIPTION:C.ANTON\, I.McDONALD
URL:https://forsinardflyfishers.co.uk/booking/day-session-65/
CATEGORIES:Loch Skyline
END:VEVENT
BEGIN:VEVENT
DTSTART;TZID=Europe/London:20220607T090000
DTEND;TZID=Europe/London:20220607T180000
DTSTAMP:20260421T200719
CREATED:20220401T002016Z
LAST-MODIFIED:20220401T002016Z
UID:10001158-1654592400-1654624800@forsinardflyfishers.co.uk
SUMMARY:DAY SESSION
DESCRIPTION:J.SLEIGH\, \nC.SLEIGH
URL:https://forsinardflyfishers.co.uk/booking/day-session-39/
CATEGORIES:Loch Caise
END:VEVENT
BEGIN:VEVENT
DTSTART;TZID=Europe/London:20220607T090000
DTEND;TZID=Europe/London:20220607T180000
DTSTAMP:20260421T200719
CREATED:20220401T001630Z
LAST-MODIFIED:20220401T001630Z
UID:10001156-1654592400-1654624800@forsinardflyfishers.co.uk
SUMMARY:DAY SESSION
DESCRIPTION:J.RANKIN\, P.WESTWATER\, S.BALL\, R.MACKINLAY
URL:https://forsinardflyfishers.co.uk/booking/day-session-37/
CATEGORIES:Loch Garbh
END:VEVENT
BEGIN:VEVENT
DTSTART;TZID=Europe/London:20220607T090000
DTEND;TZID=Europe/London:20220607T180000
DTSTAMP:20260421T200719
CREATED:20220331T234930Z
LAST-MODIFIED:20220331T234930Z
UID:10001147-1654592400-1654624800@forsinardflyfishers.co.uk
SUMMARY:DAY SESSION
DESCRIPTION:P.HENRY\, J.RAMSEY
URL:https://forsinardflyfishers.co.uk/booking/day-session-28/
CATEGORIES:Loch na Caorach
END:VEVENT
BEGIN:VEVENT
DTSTART;TZID=Europe/London:20220607T090000
DTEND;TZID=Europe/London:20220607T180000
DTSTAMP:20260421T200719
CREATED:20220331T234838Z
LAST-MODIFIED:20220331T234838Z
UID:10001146-1654592400-1654624800@forsinardflyfishers.co.uk
SUMMARY:DAY SESSION
DESCRIPTION:D.WHITE\, J.RANKIN
URL:https://forsinardflyfishers.co.uk/booking/day-session-27/
CATEGORIES:Loch na Seilge
END:VEVENT
BEGIN:VEVENT
DTSTART;TZID=Europe/London:20220606T090000
DTEND;TZID=Europe/London:20220606T230000
DTSTAMP:20260421T200719
CREATED:20220605T193131Z
LAST-MODIFIED:20220605T193131Z
UID:10001286-1654506000-1654556400@forsinardflyfishers.co.uk
SUMMARY:ALL DAY SESSION
DESCRIPTION:S.CURTIS
URL:https://forsinardflyfishers.co.uk/booking/all-day-session-399/
CATEGORIES:Loch Crasgach,Lochan na Ceardaich
END:VEVENT
BEGIN:VEVENT
DTSTART;TZID=Europe/London:20220606T090000
DTEND;TZID=Europe/London:20220606T200000
DTSTAMP:20260421T200719
CREATED:20220401T154252Z
LAST-MODIFIED:20220401T154252Z
UID:10001218-1654506000-1654545600@forsinardflyfishers.co.uk
SUMMARY:DAY SESSION
DESCRIPTION:S.GRAY
URL:https://forsinardflyfishers.co.uk/booking/day-session-119/
CATEGORIES:Loch a Mhuilinn
END:VEVENT
BEGIN:VEVENT
DTSTART;TZID=Europe/London:20220606T090000
DTEND;TZID=Europe/London:20220606T200000
DTSTAMP:20260421T200719
CREATED:20220401T113623Z
LAST-MODIFIED:20220401T113623Z
UID:10000969-1654506000-1654545600@forsinardflyfishers.co.uk
SUMMARY:DAY SESSION
DESCRIPTION:G.GRAHAM\, K.CULLEN\, L.CASSIDY
URL:https://forsinardflyfishers.co.uk/booking/day-session-108/
CATEGORIES:Loch na Seilge
END:VEVENT
BEGIN:VEVENT
DTSTART;TZID=Europe/London:20220606T090000
DTEND;TZID=Europe/London:20220606T200000
DTSTAMP:20260421T200719
CREATED:20220401T003912Z
LAST-MODIFIED:20220401T003912Z
UID:10001171-1654506000-1654545600@forsinardflyfishers.co.uk
SUMMARY:DAY SESSION
DESCRIPTION:G.WILLIAMS\, P.WILLIAMS\, M.CORNELLISON
URL:https://forsinardflyfishers.co.uk/booking/day-session-52/
CATEGORIES:Loch Clach Geala
END:VEVENT
BEGIN:VEVENT
DTSTART;TZID=Europe/London:20220606T090000
DTEND;TZID=Europe/London:20220606T180000
DTSTAMP:20260421T200719
CREATED:20220401T013953Z
LAST-MODIFIED:20220401T013953Z
UID:10001200-1654506000-1654538400@forsinardflyfishers.co.uk
SUMMARY:DAY SESSION
DESCRIPTION:S.BALL\, J.PEROT
URL:https://forsinardflyfishers.co.uk/booking/day-session-91/
CATEGORIES:Loch Slethill
END:VEVENT
BEGIN:VEVENT
DTSTART;TZID=Europe/London:20220606T090000
DTEND;TZID=Europe/London:20220606T180000
DTSTAMP:20260421T200719
CREATED:20220401T010835Z
LAST-MODIFIED:20220401T010835Z
UID:10001179-1654506000-1654538400@forsinardflyfishers.co.uk
SUMMARY:DAY SESSION
DESCRIPTION:C.ANTON\, I.McDONALD
URL:https://forsinardflyfishers.co.uk/booking/day-session-71/
CATEGORIES:Loch Caol Altnabreac
END:VEVENT
BEGIN:VEVENT
DTSTART;TZID=Europe/London:20220606T090000
DTEND;TZID=Europe/London:20220606T180000
DTSTAMP:20260421T200719
CREATED:20220401T003601Z
LAST-MODIFIED:20220401T003601Z
UID:10001170-1654506000-1654538400@forsinardflyfishers.co.uk
SUMMARY:DAY SESSION
DESCRIPTION:C.SLEIGH\, J.SLEIGH
URL:https://forsinardflyfishers.co.uk/booking/day-session-51/
CATEGORIES:Loch Leir
END:VEVENT
BEGIN:VEVENT
DTSTART;TZID=Europe/London:20220605T090000
DTEND;TZID=Europe/London:20220605T200000
DTSTAMP:20260421T200719
CREATED:20220401T154444Z
LAST-MODIFIED:20220401T154444Z
UID:10001219-1654419600-1654459200@forsinardflyfishers.co.uk
SUMMARY:DAY SESSION
DESCRIPTION:S.GRAY
URL:https://forsinardflyfishers.co.uk/booking/day-session-120/
CATEGORIES:Caol North
END:VEVENT
BEGIN:VEVENT
DTSTART;TZID=Europe/London:20220605T090000
DTEND;TZID=Europe/London:20220605T180000
DTSTAMP:20260421T200719
CREATED:20220331T235308Z
LAST-MODIFIED:20220331T235308Z
UID:10001150-1654419600-1654452000@forsinardflyfishers.co.uk
SUMMARY:DAY SESSION
DESCRIPTION:B.MCNEIL\, D.BRUCE\, I.MITCHELL
URL:https://forsinardflyfishers.co.uk/booking/day-session-31/
CATEGORIES:Loch na Seilge
END:VEVENT
BEGIN:VEVENT
DTSTART;TZID=Europe/London:20220604T090000
DTEND;TZID=Europe/London:20220604T230000
DTSTAMP:20260421T200719
CREATED:20220405T180820Z
LAST-MODIFIED:20220405T180820Z
UID:10001236-1654333200-1654383600@forsinardflyfishers.co.uk
SUMMARY:ALL DAY SESSION
DESCRIPTION:S.CURTIS
URL:https://forsinardflyfishers.co.uk/booking/all-day-session-344/
CATEGORIES:Loch Coulbackie
END:VEVENT
BEGIN:VEVENT
DTSTART;TZID=Europe/London:20220604T090000
DTEND;TZID=Europe/London:20220604T180000
DTSTAMP:20260421T200719
CREATED:20220401T011308Z
LAST-MODIFIED:20220401T011308Z
UID:10001183-1654333200-1654365600@forsinardflyfishers.co.uk
SUMMARY:DAY SESSION
DESCRIPTION:G.WILLIAMS\, P.WILLIAMS\, M.CORNELLISON
URL:https://forsinardflyfishers.co.uk/booking/day-session-74/
CATEGORIES:Bighouse Loch
END:VEVENT
BEGIN:VEVENT
DTSTART;TZID=Europe/London:20220604T090000
DTEND;TZID=Europe/London:20220604T180000
DTSTAMP:20260421T200719
CREATED:20220401T005136Z
LAST-MODIFIED:20220401T005136Z
UID:10000928-1654333200-1654365600@forsinardflyfishers.co.uk
SUMMARY:DAY SESSION
DESCRIPTION:D.BRYCE\, B.McNEIL\, I.MITCHELL
URL:https://forsinardflyfishers.co.uk/booking/day-session-60/
CATEGORIES:Loch Bad A'Bothain
END:VEVENT
BEGIN:VEVENT
DTSTART;TZID=Europe/London:20220603T090000
DTEND;TZID=Europe/London:20220603T230000
DTSTAMP:20260421T200719
CREATED:20220402T182814Z
LAST-MODIFIED:20220402T182814Z
UID:10000977-1654246800-1654297200@forsinardflyfishers.co.uk
SUMMARY:ALL DAY SESSION
DESCRIPTION:R.CRUTWELL
URL:https://forsinardflyfishers.co.uk/booking/all-day-session-313/
CATEGORIES:Loch Skyline
END:VEVENT
BEGIN:VEVENT
DTSTART;TZID=Europe/London:20220603T090000
DTEND;TZID=Europe/London:20220603T220000
DTSTAMP:20260421T200719
CREATED:20220521T064354Z
LAST-MODIFIED:20220521T064354Z
UID:10001268-1654246800-1654293600@forsinardflyfishers.co.uk
SUMMARY:ALL DAY SESSION
DESCRIPTION:S.CUMMING\, J.HOOK
URL:https://forsinardflyfishers.co.uk/booking/all-day-session-383/
CATEGORIES:Caol Loch (South),Loch an Fheoir
END:VEVENT
BEGIN:VEVENT
DTSTART;TZID=Europe/London:20220603T090000
DTEND;TZID=Europe/London:20220603T200000
DTSTAMP:20260421T200719
CREATED:20220401T112159Z
LAST-MODIFIED:20220401T112216Z
UID:10001211-1654246800-1654286400@forsinardflyfishers.co.uk
SUMMARY:DAY SESSION
DESCRIPTION:G.KIRK\, L.PLANK
URL:https://forsinardflyfishers.co.uk/booking/day-session-102/
CATEGORIES:Loch Thormaid
END:VEVENT
END:VCALENDAR