BEGIN:VCALENDAR
VERSION:2.0
PRODID:-//Forsinard Flyfishers&#039; Club - ECPv6.15.20//NONSGML v1.0//EN
CALSCALE:GREGORIAN
METHOD:PUBLISH
X-WR-CALNAME:Forsinard Flyfishers&#039; Club
X-ORIGINAL-URL:https://forsinardflyfishers.co.uk
X-WR-CALDESC:Events for Forsinard Flyfishers&#039; Club
REFRESH-INTERVAL;VALUE=DURATION:PT1H
X-Robots-Tag:noindex
X-PUBLISHED-TTL:PT1H
BEGIN:VTIMEZONE
TZID:Europe/London
BEGIN:DAYLIGHT
TZOFFSETFROM:+0000
TZOFFSETTO:+0100
TZNAME:BST
DTSTART:20200329T010000
END:DAYLIGHT
BEGIN:STANDARD
TZOFFSETFROM:+0100
TZOFFSETTO:+0000
TZNAME:GMT
DTSTART:20201025T010000
END:STANDARD
BEGIN:DAYLIGHT
TZOFFSETFROM:+0000
TZOFFSETTO:+0100
TZNAME:BST
DTSTART:20210328T010000
END:DAYLIGHT
BEGIN:STANDARD
TZOFFSETFROM:+0100
TZOFFSETTO:+0000
TZNAME:GMT
DTSTART:20211031T010000
END:STANDARD
BEGIN:DAYLIGHT
TZOFFSETFROM:+0000
TZOFFSETTO:+0100
TZNAME:BST
DTSTART:20220327T010000
END:DAYLIGHT
BEGIN:STANDARD
TZOFFSETFROM:+0100
TZOFFSETTO:+0000
TZNAME:GMT
DTSTART:20221030T010000
END:STANDARD
END:VTIMEZONE
BEGIN:VEVENT
DTSTART;TZID=Europe/London:20210926T090000
DTEND;TZID=Europe/London:20210926T200000
DTSTAMP:20260425T161222
CREATED:20210924T182003Z
LAST-MODIFIED:20210924T182003Z
UID:10001132-1632646800-1632686400@forsinardflyfishers.co.uk
SUMMARY:ALL DAY SESSION
DESCRIPTION:C.CAMPBELL
URL:https://forsinardflyfishers.co.uk/booking/all-day-session-297/
CATEGORIES:Loch na h-Eaglasie Mor (South end),Loch nan Clach,Loch Sgitheanach
END:VEVENT
BEGIN:VEVENT
DTSTART;TZID=Europe/London:20210925T090000
DTEND;TZID=Europe/London:20210925T200000
DTSTAMP:20260425T161222
CREATED:20210924T181847Z
LAST-MODIFIED:20210924T181847Z
UID:10001131-1632560400-1632600000@forsinardflyfishers.co.uk
SUMMARY:ALL DAY SESSION
DESCRIPTION:C.CAMPBELL
URL:https://forsinardflyfishers.co.uk/booking/all-day-session-296/
CATEGORIES:Loch Akran,Loch Caol (Champagne)
END:VEVENT
BEGIN:VEVENT
DTSTART;TZID=Europe/London:20210924T090000
DTEND;TZID=Europe/London:20210924T200000
DTSTAMP:20260425T161222
CREATED:20210922T185235Z
LAST-MODIFIED:20210922T185235Z
UID:10001130-1632474000-1632513600@forsinardflyfishers.co.uk
SUMMARY:All DAY SESSION
DESCRIPTION:G.PAGOAGA
URL:https://forsinardflyfishers.co.uk/booking/all-day-session-295/
CATEGORIES:Loch Leir
END:VEVENT
BEGIN:VEVENT
DTSTART;TZID=Europe/London:20210923T090000
DTEND;TZID=Europe/London:20210923T220000
DTSTAMP:20260425T161222
CREATED:20210804T074858Z
LAST-MODIFIED:20210804T074858Z
UID:10001108-1632387600-1632434400@forsinardflyfishers.co.uk
SUMMARY:ALL DAY SESSION
DESCRIPTION:T.NIXON + 1 BOAT
URL:https://forsinardflyfishers.co.uk/booking/all-day-session-253/
CATEGORIES:Loch Slethill
END:VEVENT
BEGIN:VEVENT
DTSTART;TZID=Europe/London:20210923T090000
DTEND;TZID=Europe/London:20210923T210000
DTSTAMP:20260425T161222
CREATED:20210916T054500Z
LAST-MODIFIED:20210916T054500Z
UID:10001129-1632387600-1632430800@forsinardflyfishers.co.uk
SUMMARY:ALL DAY SESSION
DESCRIPTION:G.PAGOAGA
URL:https://forsinardflyfishers.co.uk/booking/all-day-session-294/
CATEGORIES:Loch Talaheel
END:VEVENT
BEGIN:VEVENT
DTSTART;TZID=Europe/London:20210921T090000
DTEND;TZID=Europe/London:20210921T220000
DTSTAMP:20260425T161222
CREATED:20210807T060614Z
LAST-MODIFIED:20210807T060614Z
UID:10001111-1632214800-1632261600@forsinardflyfishers.co.uk
SUMMARY:ALL DAY SESSION
DESCRIPTION:T.NIXON + 1 BOAT
URL:https://forsinardflyfishers.co.uk/booking/all-day-session-256/
CATEGORIES:Loch na Seilge
END:VEVENT
BEGIN:VEVENT
DTSTART;TZID=Europe/London:20210920T090000
DTEND;TZID=Europe/London:20210920T200000
DTSTAMP:20260425T161222
CREATED:20210910T185421Z
LAST-MODIFIED:20210910T185421Z
UID:10001126-1632128400-1632168000@forsinardflyfishers.co.uk
SUMMARY:ALL DAY SESSION
DESCRIPTION:D.BARRIE
URL:https://forsinardflyfishers.co.uk/booking/all-day-session-291/
CATEGORIES:Cross Lochs
END:VEVENT
BEGIN:VEVENT
DTSTART;TZID=Europe/London:20210919T090000
DTEND;TZID=Europe/London:20210919T220000
DTSTAMP:20260425T161222
CREATED:20210804T074553Z
LAST-MODIFIED:20210804T074553Z
UID:10001104-1632042000-1632088800@forsinardflyfishers.co.uk
SUMMARY:ALL DAY SESSION
DESCRIPTION:K.MACKENZIE + 1 BOAT
URL:https://forsinardflyfishers.co.uk/booking/all-day-session-251/
CATEGORIES:Loch Slethill
END:VEVENT
BEGIN:VEVENT
DTSTART;TZID=Europe/London:20210919T090000
DTEND;TZID=Europe/London:20210919T200000
DTSTAMP:20260425T161222
CREATED:20210910T185335Z
LAST-MODIFIED:20210910T185335Z
UID:10001125-1632042000-1632081600@forsinardflyfishers.co.uk
SUMMARY:ALL DAY SESSION
DESCRIPTION:D.BARRIE
URL:https://forsinardflyfishers.co.uk/booking/all-day-session-290/
CATEGORIES:Loch Clach Geala
END:VEVENT
BEGIN:VEVENT
DTSTART;TZID=Europe/London:20210918T090000
DTEND;TZID=Europe/London:20210918T210000
DTSTAMP:20260425T161222
CREATED:20210916T054300Z
LAST-MODIFIED:20210916T054300Z
UID:10001128-1631955600-1631998800@forsinardflyfishers.co.uk
SUMMARY:ALL DAY SESSION
DESCRIPTION:M.RICHARDSON
URL:https://forsinardflyfishers.co.uk/booking/all-day-session-293/
CATEGORIES:Loch Coulbackie,Loch na h-Eaglaise Beag
END:VEVENT
BEGIN:VEVENT
DTSTART;TZID=Europe/London:20210918T090000
DTEND;TZID=Europe/London:20210918T180000
DTSTAMP:20260425T161222
CREATED:20210910T185240Z
LAST-MODIFIED:20210910T185240Z
UID:10000884-1631955600-1631988000@forsinardflyfishers.co.uk
SUMMARY:ALL DAY SESSION
DESCRIPTION:D.BARRIE + 1
URL:https://forsinardflyfishers.co.uk/booking/all-day-session-289/
CATEGORIES:Loch Skyline
END:VEVENT
BEGIN:VEVENT
DTSTART;TZID=Europe/London:20210917T090000
DTEND;TZID=Europe/London:20210917T200000
DTSTAMP:20260425T161222
CREATED:20210916T054207Z
LAST-MODIFIED:20210916T054207Z
UID:10001127-1631869200-1631908800@forsinardflyfishers.co.uk
SUMMARY:ALL DAY SESSION
DESCRIPTION:M.RICHARDSON
URL:https://forsinardflyfishers.co.uk/booking/all-day-session-292/
CATEGORIES:Loch na Caorach,Loch na Seilge
END:VEVENT
BEGIN:VEVENT
DTSTART;TZID=Europe/London:20210917T090000
DTEND;TZID=Europe/London:20210917T200000
DTSTAMP:20260425T161222
CREATED:20210910T184919Z
LAST-MODIFIED:20210910T184919Z
UID:10000883-1631869200-1631908800@forsinardflyfishers.co.uk
SUMMARY:ALL DAY SESSION
DESCRIPTION:G.PAGOAGA
URL:https://forsinardflyfishers.co.uk/booking/all-day-session-288/
CATEGORIES:Loch Leir
END:VEVENT
BEGIN:VEVENT
DTSTART;TZID=Europe/London:20210914T090000
DTEND;TZID=Europe/London:20210914T200000
DTSTAMP:20260425T161222
CREATED:20210910T184828Z
LAST-MODIFIED:20210910T184828Z
UID:10000882-1631610000-1631649600@forsinardflyfishers.co.uk
SUMMARY:ALL DAY SESSION
DESCRIPTION:G.PAGOAGA
URL:https://forsinardflyfishers.co.uk/booking/all-day-session-287/
CATEGORIES:Loch Skyline
END:VEVENT
BEGIN:VEVENT
DTSTART;TZID=Europe/London:20210914T090000
DTEND;TZID=Europe/London:20210914T200000
DTSTAMP:20260425T161222
CREATED:20210903T184728Z
LAST-MODIFIED:20210903T184728Z
UID:10000880-1631610000-1631649600@forsinardflyfishers.co.uk
SUMMARY:ALL DAY SESSION
DESCRIPTION:A.BENNET + 1
URL:https://forsinardflyfishers.co.uk/booking/all-day-session-285/
CATEGORIES:Loch Slethill
END:VEVENT
BEGIN:VEVENT
DTSTART;TZID=Europe/London:20210913T090000
DTEND;TZID=Europe/London:20210913T200000
DTSTAMP:20260425T161222
CREATED:20210910T184739Z
LAST-MODIFIED:20210910T184739Z
UID:10000881-1631523600-1631563200@forsinardflyfishers.co.uk
SUMMARY:ALL DAY SESSION
DESCRIPTION:G.PAGOAGA
URL:https://forsinardflyfishers.co.uk/booking/all-day-session-286/
CATEGORIES:Loch Ealach Mor
END:VEVENT
BEGIN:VEVENT
DTSTART;TZID=Europe/London:20210912T090000
DTEND;TZID=Europe/London:20210912T200000
DTSTAMP:20260425T161222
CREATED:20210903T184637Z
LAST-MODIFIED:20210903T184637Z
UID:10000879-1631437200-1631476800@forsinardflyfishers.co.uk
SUMMARY:ALL DAY SESSION
DESCRIPTION:A.BENNET + 1
URL:https://forsinardflyfishers.co.uk/booking/all-day-session-284/
CATEGORIES:Cross Lochs
END:VEVENT
BEGIN:VEVENT
DTSTART;TZID=Europe/London:20210911T090000
DTEND;TZID=Europe/London:20210911T210000
DTSTAMP:20260425T161222
CREATED:20210807T061146Z
LAST-MODIFIED:20210807T061146Z
UID:10001114-1631350800-1631394000@forsinardflyfishers.co.uk
SUMMARY:ALL DAY SESSION
DESCRIPTION:ROTARY CLUB
URL:https://forsinardflyfishers.co.uk/booking/all-day-session-259/
CATEGORIES:Loch Leir
END:VEVENT
BEGIN:VEVENT
DTSTART;TZID=Europe/London:20210911T090000
DTEND;TZID=Europe/London:20210911T200000
DTSTAMP:20260425T161222
CREATED:20210903T184532Z
LAST-MODIFIED:20210903T184532Z
UID:10000878-1631350800-1631390400@forsinardflyfishers.co.uk
SUMMARY:ALL DAY SESSION
DESCRIPTION:A.BENNET + 1
URL:https://forsinardflyfishers.co.uk/booking/all-day-session-283/
CATEGORIES:Loch Clach Geala
END:VEVENT
BEGIN:VEVENT
DTSTART;TZID=Europe/London:20210910T090000
DTEND;TZID=Europe/London:20210910T220000
DTSTAMP:20260425T161222
CREATED:20210621T182803Z
LAST-MODIFIED:20210621T182803Z
UID:10001042-1631264400-1631311200@forsinardflyfishers.co.uk
SUMMARY:ALL DAY SESSION
DESCRIPTION:P.DODKIN
URL:https://forsinardflyfishers.co.uk/booking/all-day-session-218/
CATEGORIES:Loch Slethill
END:VEVENT
BEGIN:VEVENT
DTSTART;TZID=Europe/London:20210910T090000
DTEND;TZID=Europe/London:20210910T200000
DTSTAMP:20260425T161222
CREATED:20210903T184433Z
LAST-MODIFIED:20210903T184433Z
UID:10000877-1631264400-1631304000@forsinardflyfishers.co.uk
SUMMARY:ALL DAY SESSION
DESCRIPTION:A.BENNET + 1
URL:https://forsinardflyfishers.co.uk/booking/all-day-session-282/
CATEGORIES:Loch Skyline
END:VEVENT
BEGIN:VEVENT
DTSTART;TZID=Europe/London:20210907T090000
DTEND;TZID=Europe/London:20210907T220000
DTSTAMP:20260425T161222
CREATED:20210621T182634Z
LAST-MODIFIED:20210621T182634Z
UID:10001041-1631005200-1631052000@forsinardflyfishers.co.uk
SUMMARY:ALL DAY SESSION
DESCRIPTION:P.DODKIN + 1
URL:https://forsinardflyfishers.co.uk/booking/all-day-session-217/
CATEGORIES:Loch Caol Altnabreac
END:VEVENT
BEGIN:VEVENT
DTSTART;TZID=Europe/London:20210907T090000
DTEND;TZID=Europe/London:20210907T200000
DTSTAMP:20260425T161222
CREATED:20210821T062022Z
LAST-MODIFIED:20210823T062217Z
UID:10000870-1631005200-1631044800@forsinardflyfishers.co.uk
SUMMARY:ALL DAY SESSION
DESCRIPTION:G.PAGOAGA
URL:https://forsinardflyfishers.co.uk/booking/all-day-session-265/
CATEGORIES:Loch Leir
END:VEVENT
BEGIN:VEVENT
DTSTART;TZID=Europe/London:20210905T090000
DTEND;TZID=Europe/London:20210905T220000
DTSTAMP:20260425T161222
CREATED:20210725T174936Z
LAST-MODIFIED:20210725T174936Z
UID:10001094-1630832400-1630879200@forsinardflyfishers.co.uk
SUMMARY:ALL DAY SESSION
DESCRIPTION:K.MACKENZIE + 1
URL:https://forsinardflyfishers.co.uk/booking/all-day-session-246/
CATEGORIES:Loch Slethill
END:VEVENT
BEGIN:VEVENT
DTSTART;TZID=Europe/London:20210905T090000
DTEND;TZID=Europe/London:20210905T200000
DTSTAMP:20260425T161222
CREATED:20210903T184152Z
LAST-MODIFIED:20210903T184152Z
UID:10000876-1630832400-1630872000@forsinardflyfishers.co.uk
SUMMARY:ALL DAY SESSION
DESCRIPTION:A.PORTEOUS + 1
URL:https://forsinardflyfishers.co.uk/booking/all-day-session-281/
CATEGORIES:Loch Coulbackie
END:VEVENT
BEGIN:VEVENT
DTSTART;TZID=Europe/London:20210903T090000
DTEND;TZID=Europe/London:20210903T220000
DTSTAMP:20260425T161222
CREATED:20210621T183038Z
LAST-MODIFIED:20210621T183038Z
UID:10001043-1630659600-1630706400@forsinardflyfishers.co.uk
SUMMARY:ALL DAY SESSION
DESCRIPTION:S.LEACH
URL:https://forsinardflyfishers.co.uk/booking/all-day-session-219/
CATEGORIES:Loch Leir
END:VEVENT
BEGIN:VEVENT
DTSTART;TZID=Europe/London:20210902T090000
DTEND;TZID=Europe/London:20210902T200000
DTSTAMP:20260425T161222
CREATED:20210830T194431Z
LAST-MODIFIED:20210830T194431Z
UID:10000875-1630573200-1630612800@forsinardflyfishers.co.uk
SUMMARY:ALL DAY SESSION
DESCRIPTION:D.ROBSON
URL:https://forsinardflyfishers.co.uk/booking/all-day-session-280/
CATEGORIES:Cross Lochs
END:VEVENT
BEGIN:VEVENT
DTSTART;TZID=Europe/London:20210901T090000
DTEND;TZID=Europe/London:20210901T210000
DTSTAMP:20260425T161222
CREATED:20210828T082645Z
LAST-MODIFIED:20210828T082645Z
UID:10001121-1630486800-1630530000@forsinardflyfishers.co.uk
SUMMARY:ALL DAY SESSION
DESCRIPTION:T.BONNER
URL:https://forsinardflyfishers.co.uk/booking/all-day-session-276/
CATEGORIES:Loch Coulbackie,Loch Sgitheanach
END:VEVENT
BEGIN:VEVENT
DTSTART;TZID=Europe/London:20210901T090000
DTEND;TZID=Europe/London:20210901T200000
DTSTAMP:20260425T161222
CREATED:20210821T062204Z
LAST-MODIFIED:20210821T062204Z
UID:10000871-1630486800-1630526400@forsinardflyfishers.co.uk
SUMMARY:ALL DAY SESSION
DESCRIPTION:G.PAGOAGA
URL:https://forsinardflyfishers.co.uk/booking/all-day-session-266/
CATEGORIES:Loch Skyline
END:VEVENT
BEGIN:VEVENT
DTSTART;TZID=Europe/London:20210831T090000
DTEND;TZID=Europe/London:20210831T220000
DTSTAMP:20260425T161222
CREATED:20210830T193605Z
LAST-MODIFIED:20210830T193605Z
UID:10001122-1630400400-1630447200@forsinardflyfishers.co.uk
SUMMARY:ALL DAY SESSION
DESCRIPTION:A.PORTEOUS + 1
URL:https://forsinardflyfishers.co.uk/booking/all-day-session-277/
CATEGORIES:Loch Coulbackie
END:VEVENT
END:VCALENDAR