BEGIN:VCALENDAR
VERSION:2.0
PRODID:-//Forsinard Flyfishers&#039; Club - ECPv6.15.20//NONSGML v1.0//EN
CALSCALE:GREGORIAN
METHOD:PUBLISH
X-WR-CALNAME:Forsinard Flyfishers&#039; Club
X-ORIGINAL-URL:https://forsinardflyfishers.co.uk
X-WR-CALDESC:Events for Forsinard Flyfishers&#039; Club
REFRESH-INTERVAL;VALUE=DURATION:PT1H
X-Robots-Tag:noindex
X-PUBLISHED-TTL:PT1H
BEGIN:VTIMEZONE
TZID:Europe/London
BEGIN:DAYLIGHT
TZOFFSETFROM:+0000
TZOFFSETTO:+0100
TZNAME:BST
DTSTART:20200329T010000
END:DAYLIGHT
BEGIN:STANDARD
TZOFFSETFROM:+0100
TZOFFSETTO:+0000
TZNAME:GMT
DTSTART:20201025T010000
END:STANDARD
BEGIN:DAYLIGHT
TZOFFSETFROM:+0000
TZOFFSETTO:+0100
TZNAME:BST
DTSTART:20210328T010000
END:DAYLIGHT
BEGIN:STANDARD
TZOFFSETFROM:+0100
TZOFFSETTO:+0000
TZNAME:GMT
DTSTART:20211031T010000
END:STANDARD
BEGIN:DAYLIGHT
TZOFFSETFROM:+0000
TZOFFSETTO:+0100
TZNAME:BST
DTSTART:20220327T010000
END:DAYLIGHT
BEGIN:STANDARD
TZOFFSETFROM:+0100
TZOFFSETTO:+0000
TZNAME:GMT
DTSTART:20221030T010000
END:STANDARD
END:VTIMEZONE
BEGIN:VEVENT
DTSTART;TZID=Europe/London:20210528T090000
DTEND;TZID=Europe/London:20210528T220000
DTSTAMP:20260420T223011
CREATED:20210407T180210Z
LAST-MODIFIED:20210407T180210Z
UID:10000850-1622192400-1622239200@forsinardflyfishers.co.uk
SUMMARY:ALL DAY SESSION
DESCRIPTION:JAMES MORGAN + 1
URL:https://forsinardflyfishers.co.uk/booking/all-day-session-79/
CATEGORIES:Loch Achridigill,Loch na h-Eaglaise Beag,Loch na h-Eaglasie Mor (South end)
END:VEVENT
BEGIN:VEVENT
DTSTART;TZID=Europe/London:20210528T090000
DTEND;TZID=Europe/London:20210528T200000
DTSTAMP:20260420T223011
CREATED:20210331T235929Z
LAST-MODIFIED:20210402T083535Z
UID:10000731-1622192400-1622232000@forsinardflyfishers.co.uk
SUMMARY:ALL DAY SESSION
DESCRIPTION:GRAHAM WILLIAMS + 1
URL:https://forsinardflyfishers.co.uk/booking/all-day-session-14/
CATEGORIES:Loch Skyline
END:VEVENT
BEGIN:VEVENT
DTSTART;TZID=Europe/London:20210527T090000
DTEND;TZID=Europe/London:20210527T220000
DTSTAMP:20260420T223011
CREATED:20210407T175857Z
LAST-MODIFIED:20210407T175857Z
UID:10000846-1622106000-1622152800@forsinardflyfishers.co.uk
SUMMARY:ALL DAY SESSION
DESCRIPTION:JAMES MORGAN + 1 BOAT
URL:https://forsinardflyfishers.co.uk/booking/all-day-session-77/
CATEGORIES:Loch na Seilge
END:VEVENT
BEGIN:VEVENT
DTSTART;TZID=Europe/London:20210527T090000
DTEND;TZID=Europe/London:20210527T210000
DTSTAMP:20260420T223011
CREATED:20210521T073652Z
LAST-MODIFIED:20210521T073652Z
UID:10000962-1622106000-1622149200@forsinardflyfishers.co.uk
SUMMARY:ALL DAY SESSION
DESCRIPTION:FRED INGRAMS + 1
URL:https://forsinardflyfishers.co.uk/booking/all-day-session-165/
CATEGORIES:Loch Caol (Champagne)
END:VEVENT
BEGIN:VEVENT
DTSTART;TZID=Europe/London:20210527T090000
DTEND;TZID=Europe/London:20210527T210000
DTSTAMP:20260420T223011
CREATED:20210513T103608Z
LAST-MODIFIED:20210513T103608Z
UID:10000791-1622106000-1622149200@forsinardflyfishers.co.uk
SUMMARY:ALL DAY SESSION
DESCRIPTION:P.NICOL + 1 BOAT
URL:https://forsinardflyfishers.co.uk/booking/all-day-session-156/
CATEGORIES:Caol North
END:VEVENT
BEGIN:VEVENT
DTSTART;TZID=Europe/London:20210527T090000
DTEND;TZID=Europe/London:20210527T200000
DTSTAMP:20260420T223011
CREATED:20210331T235825Z
LAST-MODIFIED:20210402T091149Z
UID:10000728-1622106000-1622145600@forsinardflyfishers.co.uk
SUMMARY:ALL DAY SESSION
DESCRIPTION:GRAHAM WILLIAMS + 1
URL:https://forsinardflyfishers.co.uk/booking/all-day-session-13/
CATEGORIES:Cross Lochs
END:VEVENT
BEGIN:VEVENT
DTSTART;TZID=Europe/London:20210527T090000
DTEND;TZID=Europe/London:20210527T180000
DTSTAMP:20260420T223011
CREATED:20210402T175039Z
LAST-MODIFIED:20210402T175039Z
UID:10000819-1622106000-1622138400@forsinardflyfishers.co.uk
SUMMARY:ALL DAY SESSION
DESCRIPTION:PAUL BYRNE + 1
URL:https://forsinardflyfishers.co.uk/booking/all-day-session-48/
CATEGORIES:Loch nan Clach
END:VEVENT
BEGIN:VEVENT
DTSTART;TZID=Europe/London:20210526T190000
DTEND;TZID=Europe/London:20210526T230000
DTSTAMP:20260420T223011
CREATED:20210524T182935Z
LAST-MODIFIED:20210524T182935Z
UID:10000799-1622055600-1622070000@forsinardflyfishers.co.uk
SUMMARY:EVENING SESSION
DESCRIPTION:D.ROBSON
URL:https://forsinardflyfishers.co.uk/booking/evening-session-5/
CATEGORIES:Loch Baligill
END:VEVENT
BEGIN:VEVENT
DTSTART;TZID=Europe/London:20210526T090000
DTEND;TZID=Europe/London:20210528T180000
DTSTAMP:20260420T223011
CREATED:20210402T085851Z
LAST-MODIFIED:20210402T085851Z
UID:10000771-1622019600-1622224800@forsinardflyfishers.co.uk
SUMMARY:NO FISHING AVAILABLE
DESCRIPTION:
URL:https://forsinardflyfishers.co.uk/booking/no-fishing-available-3/
CATEGORIES:Cross Lochs,Loch Bad A'Bothain,Loch Caol Altnabreac,Loch Clach Geala,Loch Crocach,Loch Ealach Mor,Loch Leir,Loch Na Cloiche,Loch Na Saobhaide,Loch Skyline,Loch Slethill,Loch Talaheel
END:VEVENT
BEGIN:VEVENT
DTSTART;TZID=Europe/London:20210526T090000
DTEND;TZID=Europe/London:20210526T230000
DTSTAMP:20260420T223011
CREATED:20210524T183235Z
LAST-MODIFIED:20210524T183235Z
UID:10000800-1622019600-1622070000@forsinardflyfishers.co.uk
SUMMARY:ALL DAY SESSION
DESCRIPTION:A.KOZIOL + 3
URL:https://forsinardflyfishers.co.uk/booking/all-day-session-171/
CATEGORIES:Caol North,Loch an Fheoir
END:VEVENT
BEGIN:VEVENT
DTSTART;TZID=Europe/London:20210526T090000
DTEND;TZID=Europe/London:20210526T210000
DTSTAMP:20260420T223011
CREATED:20210520T190632Z
LAST-MODIFIED:20210520T190632Z
UID:10000961-1622019600-1622062800@forsinardflyfishers.co.uk
SUMMARY:ALL DAY SESSION
DESCRIPTION:FRED INGRAMS + 1
URL:https://forsinardflyfishers.co.uk/booking/all-day-session-164/
CATEGORIES:Loch na h-Eaglaise Beag
END:VEVENT
BEGIN:VEVENT
DTSTART;TZID=Europe/London:20210526T090000
DTEND;TZID=Europe/London:20210526T200000
DTSTAMP:20260420T223011
CREATED:20210513T103400Z
LAST-MODIFIED:20210520T191140Z
UID:10000790-1622019600-1622059200@forsinardflyfishers.co.uk
SUMMARY:ALL DAY SESSION
DESCRIPTION:P.NICOL + 1 BOAT
URL:https://forsinardflyfishers.co.uk/booking/all-day-session-155/
CATEGORIES:Loch na Seilge
END:VEVENT
BEGIN:VEVENT
DTSTART;TZID=Europe/London:20210526T090000
DTEND;TZID=Europe/London:20210526T200000
DTSTAMP:20260420T223011
CREATED:20210331T235731Z
LAST-MODIFIED:20210402T091703Z
UID:10000726-1622019600-1622059200@forsinardflyfishers.co.uk
SUMMARY:ALL DAY SESISON
DESCRIPTION:GRAHAM WILLIAMS + 1
URL:https://forsinardflyfishers.co.uk/booking/all-day-sesison/
CATEGORIES:Lochan na Ceardaich
END:VEVENT
BEGIN:VEVENT
DTSTART;TZID=Europe/London:20210526T090000
DTEND;TZID=Europe/London:20210526T090000
DTSTAMP:20260420T223011
CREATED:20210403T095751Z
LAST-MODIFIED:20210413T193551Z
UID:10000719-1622019600-1622019600@forsinardflyfishers.co.uk
SUMMARY:ALL DAY SESSION
DESCRIPTION:J.MORGAN + 1
URL:https://forsinardflyfishers.co.uk/booking/all-day-session-61/
CATEGORIES:Loch Slethill
END:VEVENT
BEGIN:VEVENT
DTSTART;TZID=Europe/London:20210525T190000
DTEND;TZID=Europe/London:20210525T230000
DTSTAMP:20260420T223011
CREATED:20210524T182711Z
LAST-MODIFIED:20210524T182711Z
UID:10000798-1621969200-1621983600@forsinardflyfishers.co.uk
SUMMARY:ALL DAY SESSION
DESCRIPTION:D.ROBSON
URL:https://forsinardflyfishers.co.uk/booking/all-day-session-170/
CATEGORIES:Loch a Mhuilinn
END:VEVENT
BEGIN:VEVENT
DTSTART;TZID=Europe/London:20210525T090000
DTEND;TZID=Europe/London:20210525T220000
DTSTAMP:20260420T223011
CREATED:20210413T193812Z
LAST-MODIFIED:20210523T183302Z
UID:10000760-1621933200-1621980000@forsinardflyfishers.co.uk
SUMMARY:ALL DAY SESSION
DESCRIPTION:V.HAMMOND + 1
URL:https://forsinardflyfishers.co.uk/booking/all-day-session-106/
CATEGORIES:Loch Talaheel
END:VEVENT
BEGIN:VEVENT
DTSTART;TZID=Europe/London:20210525T090000
DTEND;TZID=Europe/London:20210525T200000
DTSTAMP:20260420T223011
CREATED:20210331T235621Z
LAST-MODIFIED:20210402T091935Z
UID:10000724-1621933200-1621972800@forsinardflyfishers.co.uk
SUMMARY:ALL DAY SESSION
DESCRIPTION:GRAHAM WILLIAMS + 1
URL:https://forsinardflyfishers.co.uk/booking/all-day-session-12/
CATEGORIES:Loch Clach Geala
END:VEVENT
BEGIN:VEVENT
DTSTART;TZID=Europe/London:20210524T090000
DTEND;TZID=Europe/London:20210524T220000
DTSTAMP:20260420T223011
CREATED:20210504T054205Z
LAST-MODIFIED:20210504T054205Z
UID:10000781-1621846800-1621893600@forsinardflyfishers.co.uk
SUMMARY:ALL DAY SESSION
DESCRIPTION:P.NICOLL + 1
URL:https://forsinardflyfishers.co.uk/booking/all-day-session-139/
CATEGORIES:Loch Crocach
END:VEVENT
BEGIN:VEVENT
DTSTART;TZID=Europe/London:20210524T090000
DTEND;TZID=Europe/London:20210524T210000
DTSTAMP:20260420T223011
CREATED:20210403T095628Z
LAST-MODIFIED:20210403T095628Z
UID:10000717-1621846800-1621890000@forsinardflyfishers.co.uk
SUMMARY:ALL DAY SESSION
DESCRIPTION:L.HERBERTSON
URL:https://forsinardflyfishers.co.uk/booking/all-day-session-60/
CATEGORIES:Loch Skyline
END:VEVENT
BEGIN:VEVENT
DTSTART;TZID=Europe/London:20210524T090000
DTEND;TZID=Europe/London:20210524T200000
DTSTAMP:20260420T223011
CREATED:20210331T235525Z
LAST-MODIFIED:20210402T091827Z
UID:10000722-1621846800-1621886400@forsinardflyfishers.co.uk
SUMMARY:ALL DAY SESSION
DESCRIPTION:GRAHAM WILLIAMS + 1
URL:https://forsinardflyfishers.co.uk/booking/all-day-session-11/
CATEGORIES:Loch Badaireach na Gaoithe
END:VEVENT
BEGIN:VEVENT
DTSTART;TZID=Europe/London:20210523T090000
DTEND;TZID=Europe/London:20210523T220000
DTSTAMP:20260420T223011
CREATED:20210521T170740Z
LAST-MODIFIED:20210521T170740Z
UID:10000963-1621760400-1621807200@forsinardflyfishers.co.uk
SUMMARY:ALL DAY SESSION
DESCRIPTION:ALAN PORTEOUS
URL:https://forsinardflyfishers.co.uk/booking/all-day-session-166/
CATEGORIES:Caol North
END:VEVENT
BEGIN:VEVENT
DTSTART;TZID=Europe/London:20210523T090000
DTEND;TZID=Europe/London:20210523T200000
DTSTAMP:20260420T223011
CREATED:20210519T082613Z
LAST-MODIFIED:20210519T082613Z
UID:10000960-1621760400-1621800000@forsinardflyfishers.co.uk
SUMMARY:ALL DAY SESSION
DESCRIPTION:S.REED
URL:https://forsinardflyfishers.co.uk/booking/all-day-session-163/
CATEGORIES:Loch na h-Eaglaise Beag,Loch na h-Eaglasie Mor (South end)
END:VEVENT
BEGIN:VEVENT
DTSTART;TZID=Europe/London:20210523T090000
DTEND;TZID=Europe/London:20210523T200000
DTSTAMP:20260420T223011
CREATED:20210513T103825Z
LAST-MODIFIED:20210513T103825Z
UID:10000792-1621760400-1621800000@forsinardflyfishers.co.uk
SUMMARY:ALL DAY SESSION
DESCRIPTION:P.NICOL + 1
URL:https://forsinardflyfishers.co.uk/booking/all-day-session-157/
CATEGORIES:Loch Ealach Mor
END:VEVENT
BEGIN:VEVENT
DTSTART;TZID=Europe/London:20210523T090000
DTEND;TZID=Europe/London:20210523T200000
DTSTAMP:20260420T223011
CREATED:20210331T235413Z
LAST-MODIFIED:20210331T235413Z
UID:10000720-1621760400-1621800000@forsinardflyfishers.co.uk
SUMMARY:ALL DAY SESSION
DESCRIPTION:GRAHAM WILLIAMS + 1 BOAT
URL:https://forsinardflyfishers.co.uk/booking/all-day-session-10/
CATEGORIES:Loch Caol Altnabreac
END:VEVENT
BEGIN:VEVENT
DTSTART;TZID=Europe/London:20210523T090000
DTEND;TZID=Europe/London:20210523T180000
DTSTAMP:20260420T223011
CREATED:20210413T194016Z
LAST-MODIFIED:20210413T194016Z
UID:10000762-1621760400-1621792800@forsinardflyfishers.co.uk
SUMMARY:ALL DAY SESSION
DESCRIPTION:V.HAMMOND + 1
URL:https://forsinardflyfishers.co.uk/booking/all-day-session-107/
CATEGORIES:Loch Leir
END:VEVENT
BEGIN:VEVENT
DTSTART;TZID=Europe/London:20210522T090000
DTEND;TZID=Europe/London:20210522T220000
DTSTAMP:20260420T223011
CREATED:20210428T193551Z
LAST-MODIFIED:20210428T193551Z
UID:10000778-1621674000-1621720800@forsinardflyfishers.co.uk
SUMMARY:ALL DAY SESSION
DESCRIPTION:P.WILLIAMS
URL:https://forsinardflyfishers.co.uk/booking/all-day-session-136/
CATEGORIES:Bighouse Loch
END:VEVENT
BEGIN:VEVENT
DTSTART;TZID=Europe/London:20210522T090000
DTEND;TZID=Europe/London:20210522T220000
DTSTAMP:20260420T223011
CREATED:20210413T193647Z
LAST-MODIFIED:20210413T193647Z
UID:10000758-1621674000-1621720800@forsinardflyfishers.co.uk
SUMMARY:ALL DAY SESSION
DESCRIPTION:V.HAMMOND + 1
URL:https://forsinardflyfishers.co.uk/booking/all-day-session-105/
CATEGORIES:Loch Slethill
END:VEVENT
BEGIN:VEVENT
DTSTART;TZID=Europe/London:20210522T090000
DTEND;TZID=Europe/London:20210522T200000
DTSTAMP:20260420T223011
CREATED:20210519T082440Z
LAST-MODIFIED:20210519T082440Z
UID:10000959-1621674000-1621713600@forsinardflyfishers.co.uk
SUMMARY:ALL DAY SESSION
DESCRIPTION:SEYMOUR REED
URL:https://forsinardflyfishers.co.uk/booking/all-day-session-162/
CATEGORIES:Cross Lochs
END:VEVENT
BEGIN:VEVENT
DTSTART;TZID=Europe/London:20210521T090000
DTEND;TZID=Europe/London:20210521T220000
DTSTAMP:20260420T223012
CREATED:20210513T103155Z
LAST-MODIFIED:20210513T103155Z
UID:10000789-1621587600-1621634400@forsinardflyfishers.co.uk
SUMMARY:ALL DAY SESSION
DESCRIPTION:P.NICOLL + 1 BOAT
URL:https://forsinardflyfishers.co.uk/booking/all-day-session-154/
CATEGORIES:Loch Baligill,Loch Coulbackie,Loch Sgitheanach
END:VEVENT
BEGIN:VEVENT
DTSTART;TZID=Europe/London:20210520T190000
DTEND;TZID=Europe/London:20210520T230000
DTSTAMP:20260420T223012
CREATED:20210519T081411Z
LAST-MODIFIED:20210519T081411Z
UID:10000957-1621537200-1621551600@forsinardflyfishers.co.uk
SUMMARY:EVENING SESSION
DESCRIPTION:D.ROBSON
URL:https://forsinardflyfishers.co.uk/booking/evening-session-4/
CATEGORIES:Caol North
END:VEVENT
END:VCALENDAR