BEGIN:VCALENDAR
VERSION:2.0
PRODID:-//Forsinard Flyfishers&#039; Club - ECPv6.15.20//NONSGML v1.0//EN
CALSCALE:GREGORIAN
METHOD:PUBLISH
X-WR-CALNAME:Forsinard Flyfishers&#039; Club
X-ORIGINAL-URL:https://forsinardflyfishers.co.uk
X-WR-CALDESC:Events for Forsinard Flyfishers&#039; Club
REFRESH-INTERVAL;VALUE=DURATION:PT1H
X-Robots-Tag:noindex
X-PUBLISHED-TTL:PT1H
BEGIN:VTIMEZONE
TZID:Europe/London
BEGIN:DAYLIGHT
TZOFFSETFROM:+0000
TZOFFSETTO:+0100
TZNAME:BST
DTSTART:20200329T010000
END:DAYLIGHT
BEGIN:STANDARD
TZOFFSETFROM:+0100
TZOFFSETTO:+0000
TZNAME:GMT
DTSTART:20201025T010000
END:STANDARD
BEGIN:DAYLIGHT
TZOFFSETFROM:+0000
TZOFFSETTO:+0100
TZNAME:BST
DTSTART:20210328T010000
END:DAYLIGHT
BEGIN:STANDARD
TZOFFSETFROM:+0100
TZOFFSETTO:+0000
TZNAME:GMT
DTSTART:20211031T010000
END:STANDARD
BEGIN:DAYLIGHT
TZOFFSETFROM:+0000
TZOFFSETTO:+0100
TZNAME:BST
DTSTART:20220327T010000
END:DAYLIGHT
BEGIN:STANDARD
TZOFFSETFROM:+0100
TZOFFSETTO:+0000
TZNAME:GMT
DTSTART:20221030T010000
END:STANDARD
END:VTIMEZONE
BEGIN:VEVENT
DTSTART;TZID=Europe/London:20210609T090000
DTEND;TZID=Europe/London:20210609T220000
DTSTAMP:20260420T210118
CREATED:20210401T201753Z
LAST-MODIFIED:20210401T201753Z
UID:10000697-1623229200-1623276000@forsinardflyfishers.co.uk
SUMMARY:ALL DAY SESSION
DESCRIPTION:JOE HENDRIE + 1
URL:https://forsinardflyfishers.co.uk/booking/all-day-session-33/
CATEGORIES:Loch na Seilge
END:VEVENT
BEGIN:VEVENT
DTSTART;TZID=Europe/London:20210609T090000
DTEND;TZID=Europe/London:20210609T200000
DTSTAMP:20260420T210118
CREATED:20210408T110457Z
LAST-MODIFIED:20210408T110457Z
UID:10000856-1623229200-1623268800@forsinardflyfishers.co.uk
SUMMARY:ALL DAY SESSION
DESCRIPTION:IAIN MITCHELL + 2
URL:https://forsinardflyfishers.co.uk/booking/all-day-session-82/
CATEGORIES:Loch na Caorach
END:VEVENT
BEGIN:VEVENT
DTSTART;TZID=Europe/London:20210609T090000
DTEND;TZID=Europe/London:20210609T190000
DTSTAMP:20260420T210118
CREATED:20210401T105853Z
LAST-MODIFIED:20210401T105853Z
UID:10000744-1623229200-1623265200@forsinardflyfishers.co.uk
SUMMARY:DAY SESSION
DESCRIPTION:GORDON GRAHAM + 2
URL:https://forsinardflyfishers.co.uk/booking/day-session-11/
CATEGORIES:Caol North
END:VEVENT
BEGIN:VEVENT
DTSTART;TZID=Europe/London:20210609T090000
DTEND;TZID=Europe/London:20210609T180000
DTSTAMP:20260420T210118
CREATED:20210401T105603Z
LAST-MODIFIED:20210401T105603Z
UID:10000742-1623229200-1623261600@forsinardflyfishers.co.uk
SUMMARY:ALL DAY SESSION
DESCRIPTION:PETER WILLIAMS + 2
URL:https://forsinardflyfishers.co.uk/booking/all-day-session-21/
CATEGORIES:Loch an Fheoir,Loch Crasgach,Lochan na Ceardaich
END:VEVENT
BEGIN:VEVENT
DTSTART;TZID=Europe/London:20210608T090000
DTEND;TZID=Europe/London:20210608T230000
DTSTAMP:20260420T210118
CREATED:20210607T062921Z
LAST-MODIFIED:20210607T062921Z
UID:10000826-1623142800-1623193200@forsinardflyfishers.co.uk
SUMMARY:ALL DAY SESSION
DESCRIPTION:D.ROBSON
URL:https://forsinardflyfishers.co.uk/booking/all-day-session-194/
CATEGORIES:Loch Crocach
END:VEVENT
BEGIN:VEVENT
DTSTART;TZID=Europe/London:20210608T090000
DTEND;TZID=Europe/London:20210608T190000
DTSTAMP:20260420T210118
CREATED:20210511T062815Z
LAST-MODIFIED:20210511T062815Z
UID:10000787-1623142800-1623178800@forsinardflyfishers.co.uk
SUMMARY:DAY SESSION
DESCRIPTION:ERIC LAING
URL:https://forsinardflyfishers.co.uk/booking/day-session-20/
CATEGORIES:Loch Na Cloiche
END:VEVENT
BEGIN:VEVENT
DTSTART;TZID=Europe/London:20210608T090000
DTEND;TZID=Europe/London:20210608T180000
DTSTAMP:20260420T210118
CREATED:20210402T174215Z
LAST-MODIFIED:20210402T174215Z
UID:10000811-1623142800-1623175200@forsinardflyfishers.co.uk
SUMMARY:ALL DAY SESSION
DESCRIPTION:G.HALL + 1
URL:https://forsinardflyfishers.co.uk/booking/all-day-session-44/
CATEGORIES:Loch a Mhuilinn
END:VEVENT
BEGIN:VEVENT
DTSTART;TZID=Europe/London:20210608T090000
DTEND;TZID=Europe/London:20210608T180000
DTSTAMP:20260420T210118
CREATED:20210402T174111Z
LAST-MODIFIED:20210402T174111Z
UID:10000810-1623142800-1623175200@forsinardflyfishers.co.uk
SUMMARY:all day session
DESCRIPTION:D.DUNSTON + 1
URL:https://forsinardflyfishers.co.uk/booking/all-day-session-43/
CATEGORIES:Loch Bad A'Bothain
END:VEVENT
BEGIN:VEVENT
DTSTART;TZID=Europe/London:20210608T090000
DTEND;TZID=Europe/London:20210608T180000
DTSTAMP:20260420T210118
CREATED:20210402T071659Z
LAST-MODIFIED:20210402T071659Z
UID:10000768-1623142800-1623175200@forsinardflyfishers.co.uk
SUMMARY:EVENING SESSION
DESCRIPTION:GORDON GRAHAM + 2
URL:https://forsinardflyfishers.co.uk/booking/evening-session-2/
CATEGORIES:Loch Clach Geala
END:VEVENT
BEGIN:VEVENT
DTSTART;TZID=Europe/London:20210608T090000
DTEND;TZID=Europe/London:20210608T180000
DTSTAMP:20260420T210118
CREATED:20210401T114801Z
LAST-MODIFIED:20210401T114801Z
UID:10000689-1623142800-1623175200@forsinardflyfishers.co.uk
SUMMARY:DAY SESSION
DESCRIPTION:G.HALL + 2
URL:https://forsinardflyfishers.co.uk/booking/day-session-14/
CATEGORIES:Loch na Caorach
END:VEVENT
BEGIN:VEVENT
DTSTART;TZID=Europe/London:20210608T090000
DTEND;TZID=Europe/London:20210608T180000
DTSTAMP:20260420T210118
CREATED:20210401T114710Z
LAST-MODIFIED:20210531T082031Z
UID:10000687-1623142800-1623175200@forsinardflyfishers.co.uk
SUMMARY:ALL DAY SESSION
DESCRIPTION:S.OGG
URL:https://forsinardflyfishers.co.uk/booking/all-day-session-30/
CATEGORIES:Loch na Seilge
END:VEVENT
BEGIN:VEVENT
DTSTART;TZID=Europe/London:20210608T090000
DTEND;TZID=Europe/London:20210608T180000
DTSTAMP:20260420T210118
CREATED:20210401T105425Z
LAST-MODIFIED:20210401T105425Z
UID:10000741-1623142800-1623175200@forsinardflyfishers.co.uk
SUMMARY:ALL DAY SESSION
DESCRIPTION:PETER WILLIAMS + 2
URL:https://forsinardflyfishers.co.uk/booking/all-day-session-20/
CATEGORIES:Loch Talaheel
END:VEVENT
BEGIN:VEVENT
DTSTART;TZID=Europe/London:20210607T090000
DTEND;TZID=Europe/London:20210607T230000
DTSTAMP:20260420T210118
CREATED:20210531T081502Z
LAST-MODIFIED:20210531T081502Z
UID:10001003-1623056400-1623106800@forsinardflyfishers.co.uk
SUMMARY:ALL DAY SESSION
DESCRIPTION:S.OGG
URL:https://forsinardflyfishers.co.uk/booking/all-day-session-182/
CATEGORIES:Loch Akran,Loch Caol (Champagne)
END:VEVENT
BEGIN:VEVENT
DTSTART;TZID=Europe/London:20210607T090000
DTEND;TZID=Europe/London:20210607T210000
DTSTAMP:20260420T210118
CREATED:20210419T073705Z
LAST-MODIFIED:20210419T073705Z
UID:10000919-1623056400-1623099600@forsinardflyfishers.co.uk
SUMMARY:ALL DAY SESSION
DESCRIPTION:R.GOSS + 1
URL:https://forsinardflyfishers.co.uk/booking/all-day-session-119/
CATEGORIES:Bighouse Loch
END:VEVENT
BEGIN:VEVENT
DTSTART;TZID=Europe/London:20210607T090000
DTEND;TZID=Europe/London:20210607T200000
DTSTAMP:20260420T210118
CREATED:20210331T230139Z
LAST-MODIFIED:20210331T230139Z
UID:10000701-1623056400-1623096000@forsinardflyfishers.co.uk
SUMMARY:DAY SESSION
DESCRIPTION:A.BATES + 3
URL:https://forsinardflyfishers.co.uk/booking/day-session-5/
CATEGORIES:Loch Skyline
END:VEVENT
BEGIN:VEVENT
DTSTART;TZID=Europe/London:20210607T090000
DTEND;TZID=Europe/London:20210607T190000
DTSTAMP:20260420T210118
CREATED:20210331T225957Z
LAST-MODIFIED:20210402T071357Z
UID:10000700-1623056400-1623092400@forsinardflyfishers.co.uk
SUMMARY:DAY SESSION
DESCRIPTION:D.DUNSTON +3
URL:https://forsinardflyfishers.co.uk/booking/day-session-4/
CATEGORIES:Loch Caol Altnabreac
END:VEVENT
BEGIN:VEVENT
DTSTART;TZID=Europe/London:20210607T090000
DTEND;TZID=Europe/London:20210607T190000
DTSTAMP:20260420T210118
CREATED:20210331T225841Z
LAST-MODIFIED:20210331T225841Z
UID:10000699-1623056400-1623092400@forsinardflyfishers.co.uk
SUMMARY:DAY SESSION
DESCRIPTION:S.BALBACK +3
URL:https://forsinardflyfishers.co.uk/booking/day-session-3/
CATEGORIES:Loch Leir
END:VEVENT
BEGIN:VEVENT
DTSTART;TZID=Europe/London:20210607T090000
DTEND;TZID=Europe/London:20210607T190000
DTSTAMP:20260420T210118
CREATED:20210331T223954Z
LAST-MODIFIED:20210331T223954Z
UID:10000696-1623056400-1623092400@forsinardflyfishers.co.uk
SUMMARY:DAY SESSION
DESCRIPTION:G.HALL + 3 BOAT REQUIRED
URL:https://forsinardflyfishers.co.uk/booking/day-session/
CATEGORIES:Loch Slethill
END:VEVENT
BEGIN:VEVENT
DTSTART;TZID=Europe/London:20210607T090000
DTEND;TZID=Europe/London:20210607T180000
DTSTAMP:20260420T210118
CREATED:20210408T110340Z
LAST-MODIFIED:20210408T121558Z
UID:10000854-1623056400-1623088800@forsinardflyfishers.co.uk
SUMMARY:ALL DAY SESSION
DESCRIPTION:IAIN MITCHELL + 2
URL:https://forsinardflyfishers.co.uk/booking/all-day-session-81/
CATEGORIES:Loch Ealach Mor
END:VEVENT
BEGIN:VEVENT
DTSTART;TZID=Europe/London:20210607T090000
DTEND;TZID=Europe/London:20210607T180000
DTSTAMP:20260420T210118
CREATED:20210401T201636Z
LAST-MODIFIED:20210401T201636Z
UID:10000695-1623056400-1623088800@forsinardflyfishers.co.uk
SUMMARY:ALL DAY SESSION
DESCRIPTION:A.COUTTS + 1
URL:https://forsinardflyfishers.co.uk/booking/all-day-session-32/
CATEGORIES:Loch na Seilge
END:VEVENT
BEGIN:VEVENT
DTSTART;TZID=Europe/London:20210607T090000
DTEND;TZID=Europe/London:20210607T180000
DTSTAMP:20260420T210118
CREATED:20210401T105324Z
LAST-MODIFIED:20210402T071606Z
UID:10000740-1623056400-1623088800@forsinardflyfishers.co.uk
SUMMARY:ALL DAY SESSION
DESCRIPTION:GORDON GRAHAM + 2
URL:https://forsinardflyfishers.co.uk/booking/all-dy-session/
CATEGORIES:Cross Lochs
END:VEVENT
BEGIN:VEVENT
DTSTART;TZID=Europe/London:20210607T090000
DTEND;TZID=Europe/London:20210607T180000
DTSTAMP:20260420T210118
CREATED:20210401T105007Z
LAST-MODIFIED:20210401T105054Z
UID:10000739-1623056400-1623088800@forsinardflyfishers.co.uk
SUMMARY:ALL DAY SESSION
DESCRIPTION:PETER WILLIAMS + 2
URL:https://forsinardflyfishers.co.uk/booking/all-day-session-19/
CATEGORIES:Loch Baligill,Loch Coulbackie,Loch Sgitheanach
END:VEVENT
BEGIN:VEVENT
DTSTART;TZID=Europe/London:20210606T090000
DTEND;TZID=Europe/London:20210606T223000
DTSTAMP:20260420T210118
CREATED:20210407T135631Z
LAST-MODIFIED:20210407T135631Z
UID:10000840-1622970000-1623018600@forsinardflyfishers.co.uk
SUMMARY:ALL DAY SESSION
DESCRIPTION:IAIN MITCHELL + 2
URL:https://forsinardflyfishers.co.uk/booking/all-day-session-71/
CATEGORIES:Loch na Seilge
END:VEVENT
BEGIN:VEVENT
DTSTART;TZID=Europe/London:20210606T090000
DTEND;TZID=Europe/London:20210606T223000
DTSTAMP:20260420T210118
CREATED:20210404T170256Z
LAST-MODIFIED:20210404T170256Z
UID:10000837-1622970000-1623018600@forsinardflyfishers.co.uk
SUMMARY:ALL DAY SESSION
DESCRIPTION:PETER WILLIAMS + 2 BOAT
URL:https://forsinardflyfishers.co.uk/booking/all-day-session-68/
CATEGORIES:Loch na Caorach
END:VEVENT
BEGIN:VEVENT
DTSTART;TZID=Europe/London:20210606T090000
DTEND;TZID=Europe/London:20210606T220000
DTSTAMP:20260420T210118
CREATED:20210521T171000Z
LAST-MODIFIED:20210521T171000Z
UID:10000966-1622970000-1623016800@forsinardflyfishers.co.uk
SUMMARY:ALL DAY SESSION
DESCRIPTION:BILL CURRAN
URL:https://forsinardflyfishers.co.uk/booking/all-day-session-167/
CATEGORIES:Loch Na Saobhaide
END:VEVENT
BEGIN:VEVENT
DTSTART;TZID=Europe/London:20210605T090000
DTEND;TZID=Europe/London:20210605T180000
DTSTAMP:20260420T210118
CREATED:20210408T121710Z
LAST-MODIFIED:20210408T121710Z
UID:10000864-1622883600-1622916000@forsinardflyfishers.co.uk
SUMMARY:ALL DAY SESSION
DESCRIPTION:BRUCE MCNEIL
URL:https://forsinardflyfishers.co.uk/booking/all-day-session-86/
CATEGORIES:Loch Caol (Champagne)
END:VEVENT
BEGIN:VEVENT
DTSTART;TZID=Europe/London:20210605T090000
DTEND;TZID=Europe/London:20210605T180000
DTSTAMP:20260420T210118
CREATED:20210408T110241Z
LAST-MODIFIED:20210408T110241Z
UID:10000852-1622883600-1622916000@forsinardflyfishers.co.uk
SUMMARY:ALL DAY SESSION
DESCRIPTION:IAIN MITCHELL + 2
URL:https://forsinardflyfishers.co.uk/booking/all-day-session-80/
CATEGORIES:Loch Akran
END:VEVENT
BEGIN:VEVENT
DTSTART;TZID=Europe/London:20210604T190000
DTEND;TZID=Europe/London:20210604T230000
DTSTAMP:20260420T210118
CREATED:20210527T193924Z
LAST-MODIFIED:20210527T193924Z
UID:10000804-1622833200-1622847600@forsinardflyfishers.co.uk
SUMMARY:EVENING SESSION
DESCRIPTION:I.MITCHELL + 2
URL:https://forsinardflyfishers.co.uk/booking/evening-session-7/
CATEGORIES:Loch Bad A'Bothain
END:VEVENT
BEGIN:VEVENT
DTSTART;TZID=Europe/London:20210604T090000
DTEND;TZID=Europe/London:20210604T230000
DTSTAMP:20260420T210118
CREATED:20210601T093023Z
LAST-MODIFIED:20210601T093023Z
UID:10000812-1622797200-1622847600@forsinardflyfishers.co.uk
SUMMARY:ALL DAY SESSION
DESCRIPTION:FRED INGRAMS + 1
URL:https://forsinardflyfishers.co.uk/booking/all-day-session-188/
CATEGORIES:Lochan Nam Breac
END:VEVENT
BEGIN:VEVENT
DTSTART;TZID=Europe/London:20210604T090000
DTEND;TZID=Europe/London:20210604T220000
DTSTAMP:20260420T210118
CREATED:20210603T080126Z
LAST-MODIFIED:20210603T080126Z
UID:10000814-1622797200-1622844000@forsinardflyfishers.co.uk
SUMMARY:ALL DAY SESSION
DESCRIPTION:D.BARRIE + 1
URL:https://forsinardflyfishers.co.uk/booking/all-day-session-189/
CATEGORIES:Caol North
END:VEVENT
END:VCALENDAR