BEGIN:VCALENDAR
VERSION:2.0
PRODID:-//Forsinard Flyfishers&#039; Club - ECPv6.15.20//NONSGML v1.0//EN
CALSCALE:GREGORIAN
METHOD:PUBLISH
X-WR-CALNAME:Forsinard Flyfishers&#039; Club
X-ORIGINAL-URL:https://forsinardflyfishers.co.uk
X-WR-CALDESC:Events for Forsinard Flyfishers&#039; Club
REFRESH-INTERVAL;VALUE=DURATION:PT1H
X-Robots-Tag:noindex
X-PUBLISHED-TTL:PT1H
BEGIN:VTIMEZONE
TZID:Europe/London
BEGIN:DAYLIGHT
TZOFFSETFROM:+0000
TZOFFSETTO:+0100
TZNAME:BST
DTSTART:20210328T010000
END:DAYLIGHT
BEGIN:STANDARD
TZOFFSETFROM:+0100
TZOFFSETTO:+0000
TZNAME:GMT
DTSTART:20211031T010000
END:STANDARD
BEGIN:DAYLIGHT
TZOFFSETFROM:+0000
TZOFFSETTO:+0100
TZNAME:BST
DTSTART:20220327T010000
END:DAYLIGHT
BEGIN:STANDARD
TZOFFSETFROM:+0100
TZOFFSETTO:+0000
TZNAME:GMT
DTSTART:20221030T010000
END:STANDARD
BEGIN:DAYLIGHT
TZOFFSETFROM:+0000
TZOFFSETTO:+0100
TZNAME:BST
DTSTART:20230326T010000
END:DAYLIGHT
BEGIN:STANDARD
TZOFFSETFROM:+0100
TZOFFSETTO:+0000
TZNAME:GMT
DTSTART:20231029T010000
END:STANDARD
END:VTIMEZONE
BEGIN:VEVENT
DTSTART;TZID=Europe/London:20220725T040000
DTEND;TZID=Europe/London:20220728T003000
DTSTAMP:20260421T160735
CREATED:20220616T184749Z
LAST-MODIFIED:20220616T184749Z
UID:10001298-1658721600-1658968200@forsinardflyfishers.co.uk
SUMMARY:NO FISHING AVAILABLE
DESCRIPTION:NO FISHING AVAILABLE
URL:https://forsinardflyfishers.co.uk/booking/no-fishing-available-20/
CATEGORIES:Cross Lochs,Loch Bad A'Bothain,Loch Caol Altnabreac,Loch Clach Geala,Loch Crocach,Loch Ealach Mor,Loch Leir,Loch Na Cloiche,Loch Na Saobhaide,Loch Skyline,Loch Slethill,Loch Talaheel,Lochan Nam Breac
END:VEVENT
BEGIN:VEVENT
DTSTART;TZID=Europe/London:20220724T090000
DTEND;TZID=Europe/London:20220724T230000
DTSTAMP:20260421T160735
CREATED:20220718T132548Z
LAST-MODIFIED:20220718T132548Z
UID:10001320-1658653200-1658703600@forsinardflyfishers.co.uk
SUMMARY:ALL DAY SESSION
DESCRIPTION:M.NEWTON
URL:https://forsinardflyfishers.co.uk/booking/all-day-session-448/
CATEGORIES:Loch Coulbackie
END:VEVENT
BEGIN:VEVENT
DTSTART;TZID=Europe/London:20220724T090000
DTEND;TZID=Europe/London:20220724T223000
DTSTAMP:20260421T160735
CREATED:20220516T190451Z
LAST-MODIFIED:20220516T190451Z
UID:10001259-1658653200-1658701800@forsinardflyfishers.co.uk
SUMMARY:ALL DAY SESSION
DESCRIPTION:P.DUNCANSON\, B.ELMSHIRST\, H.JACKSON
URL:https://forsinardflyfishers.co.uk/booking/all-day-session-374/
CATEGORIES:Loch Achridigill,Loch Baligill
END:VEVENT
BEGIN:VEVENT
DTSTART;TZID=Europe/London:20220723T090000
DTEND;TZID=Europe/London:20220723T230000
DTSTAMP:20260421T160735
CREATED:20220404T181214Z
LAST-MODIFIED:20220404T181214Z
UID:10001234-1658566800-1658617200@forsinardflyfishers.co.uk
SUMMARY:ALL DAY SESSION
DESCRIPTION:G.PAGOAGA
URL:https://forsinardflyfishers.co.uk/booking/all-day-session-330/
CATEGORIES:Loch Caise
END:VEVENT
BEGIN:VEVENT
DTSTART;TZID=Europe/London:20220723T090000
DTEND;TZID=Europe/London:20220723T220000
DTSTAMP:20260421T160735
CREATED:20220722T191310Z
LAST-MODIFIED:20220722T191310Z
UID:10001322-1658566800-1658613600@forsinardflyfishers.co.uk
SUMMARY:ALL DAY SESSION
DESCRIPTION:G.LESLIE & FAMILY
URL:https://forsinardflyfishers.co.uk/booking/all-day-session-450/
CATEGORIES:Loch Caol Altnabreac
END:VEVENT
BEGIN:VEVENT
DTSTART;TZID=Europe/London:20220723T090000
DTEND;TZID=Europe/London:20220723T220000
DTSTAMP:20260421T160735
CREATED:20220516T191156Z
LAST-MODIFIED:20220516T191156Z
UID:10001263-1658566800-1658613600@forsinardflyfishers.co.uk
SUMMARY:ALL DAY SESSION
DESCRIPTION:J.RAWCLIFFE
URL:https://forsinardflyfishers.co.uk/booking/all-day-session-378/
CATEGORIES:Loch Slethill
END:VEVENT
BEGIN:VEVENT
DTSTART;TZID=Europe/London:20220722T090000
DTEND;TZID=Europe/London:20220722T230000
DTSTAMP:20260421T160735
CREATED:20220404T181947Z
LAST-MODIFIED:20220404T181947Z
UID:10000990-1658480400-1658530800@forsinardflyfishers.co.uk
SUMMARY:ALL DAY SESSION
DESCRIPTION:I.BIBBY\,D.GOODWIN
URL:https://forsinardflyfishers.co.uk/booking/all-day-session-336/
CATEGORIES:Loch na Seilge
END:VEVENT
BEGIN:VEVENT
DTSTART;TZID=Europe/London:20220722T090000
DTEND;TZID=Europe/London:20220722T220000
DTSTAMP:20260421T160735
CREATED:20220718T132622Z
LAST-MODIFIED:20220718T132622Z
UID:10001321-1658480400-1658527200@forsinardflyfishers.co.uk
SUMMARY:ALL DAY SESSION
DESCRIPTION:M.NEWTON
URL:https://forsinardflyfishers.co.uk/booking/all-day-session-449/
CATEGORIES:Loch Thormaid
END:VEVENT
BEGIN:VEVENT
DTSTART;TZID=Europe/London:20220720T090000
DTEND;TZID=Europe/London:20220720T223000
DTSTAMP:20260421T160735
CREATED:20220402T182936Z
LAST-MODIFIED:20220402T182936Z
UID:10000978-1658307600-1658356200@forsinardflyfishers.co.uk
SUMMARY:ALL DAY SESSION
DESCRIPTION:G.PAGOAGA
URL:https://forsinardflyfishers.co.uk/booking/all-day-session-314/
CATEGORIES:Loch Leir
END:VEVENT
BEGIN:VEVENT
DTSTART;TZID=Europe/London:20220720T090000
DTEND;TZID=Europe/London:20220720T220000
DTSTAMP:20260421T160735
CREATED:20220627T201045Z
LAST-MODIFIED:20220718T132655Z
UID:10001313-1658307600-1658354400@forsinardflyfishers.co.uk
SUMMARY:ALL DAY SESSION
DESCRIPTION:R.HARDY
URL:https://forsinardflyfishers.co.uk/booking/all-day-session-431/
CATEGORIES:Loch Coulbackie
END:VEVENT
BEGIN:VEVENT
DTSTART;TZID=Europe/London:20220719T090000
DTEND;TZID=Europe/London:20220719T230000
DTSTAMP:20260421T160735
CREATED:20220618T124715Z
LAST-MODIFIED:20220618T124715Z
UID:10001304-1658221200-1658271600@forsinardflyfishers.co.uk
SUMMARY:ALL DAY SESSION
DESCRIPTION:N.SWAN\, R.SWAN
URL:https://forsinardflyfishers.co.uk/booking/all-day-session-418/
CATEGORIES:Loch Caol Altnabreac,Lochan Nam Breac
END:VEVENT
BEGIN:VEVENT
DTSTART;TZID=Europe/London:20220719T090000
DTEND;TZID=Europe/London:20220719T220000
DTSTAMP:20260421T160735
CREATED:20220404T181857Z
LAST-MODIFIED:20220404T181857Z
UID:10000989-1658221200-1658268000@forsinardflyfishers.co.uk
SUMMARY:ALL DAY SESSION
DESCRIPTION:I.BIBBY\,D.GOODWIN
URL:https://forsinardflyfishers.co.uk/booking/all-day-session-335/
CATEGORIES:Loch Garbh
END:VEVENT
BEGIN:VEVENT
DTSTART;TZID=Europe/London:20220718T090000
DTEND;TZID=Europe/London:20220718T230000
DTSTAMP:20260421T160735
CREATED:20220402T171500Z
LAST-MODIFIED:20220402T171500Z
UID:10000975-1658134800-1658185200@forsinardflyfishers.co.uk
SUMMARY:ALL DAY SESSION
DESCRIPTION:G.PAGOAGA
URL:https://forsinardflyfishers.co.uk/booking/all-day-session-311/
CATEGORIES:Loch Skyline
END:VEVENT
BEGIN:VEVENT
DTSTART;TZID=Europe/London:20220718T090000
DTEND;TZID=Europe/London:20220718T220000
DTSTAMP:20260421T160735
CREATED:20220404T181557Z
LAST-MODIFIED:20220404T181557Z
UID:10000987-1658134800-1658181600@forsinardflyfishers.co.uk
SUMMARY:ALL DAY SESSION
DESCRIPTION:I.BIBBY\,D.GOODWIN
URL:https://forsinardflyfishers.co.uk/booking/all-day-session-333/
CATEGORIES:Loch Slethill
END:VEVENT
BEGIN:VEVENT
DTSTART;TZID=Europe/London:20220716T090000
DTEND;TZID=Europe/London:20220716T230000
DTSTAMP:20260421T160735
CREATED:20220402T171558Z
LAST-MODIFIED:20220402T171558Z
UID:10000976-1657962000-1658012400@forsinardflyfishers.co.uk
SUMMARY:ALL DAY SESSION
DESCRIPTION:G.PAGOAGA
URL:https://forsinardflyfishers.co.uk/booking/all-day-session-312/
CATEGORIES:Loch Ealach Mor
END:VEVENT
BEGIN:VEVENT
DTSTART;TZID=Europe/London:20220715T090000
DTEND;TZID=Europe/London:20220715T230000
DTSTAMP:20260421T160735
CREATED:20220404T181808Z
LAST-MODIFIED:20220404T181808Z
UID:10000988-1657875600-1657926000@forsinardflyfishers.co.uk
SUMMARY:ALL DAY SESSION
DESCRIPTION:I.BIBBY\,D.GOODWIN
URL:https://forsinardflyfishers.co.uk/booking/all-day-session-334/
CATEGORIES:Loch Caise
END:VEVENT
BEGIN:VEVENT
DTSTART;TZID=Europe/London:20220714T090000
DTEND;TZID=Europe/London:20220714T223000
DTSTAMP:20260421T160735
CREATED:20220402T171358Z
LAST-MODIFIED:20220402T171358Z
UID:10001224-1657789200-1657837800@forsinardflyfishers.co.uk
SUMMARY:ALL DAY SESSION
DESCRIPTION:G.PAGOAGA
URL:https://forsinardflyfishers.co.uk/booking/all-day-session-310/
CATEGORIES:Loch Slethill
END:VEVENT
BEGIN:VEVENT
DTSTART;TZID=Europe/London:20220712T090000
DTEND;TZID=Europe/London:20220712T230000
DTSTAMP:20260421T160735
CREATED:20220404T181333Z
LAST-MODIFIED:20220404T181333Z
UID:10000985-1657616400-1657666800@forsinardflyfishers.co.uk
SUMMARY:ALL DAY SESSION
DESCRIPTION:I.BIBBY\, D.GOODWIN
URL:https://forsinardflyfishers.co.uk/booking/all-day-session-331/
CATEGORIES:Loch Caol Altnabreac
END:VEVENT
BEGIN:VEVENT
DTSTART;TZID=Europe/London:20220711T090000
DTEND;TZID=Europe/London:20220711T180000
DTSTAMP:20260421T160735
CREATED:20220404T181449Z
LAST-MODIFIED:20220404T181449Z
UID:10000986-1657530000-1657562400@forsinardflyfishers.co.uk
SUMMARY:ALL DAY SESSION
DESCRIPTION:I.BIBBY\,D.GOODWIN
URL:https://forsinardflyfishers.co.uk/booking/all-day-session-332/
CATEGORIES:Loch Leir
END:VEVENT
BEGIN:VEVENT
DTSTART;TZID=Europe/London:20220711T050000
DTEND;TZID=Europe/London:20220713T003000
DTSTAMP:20260421T160735
CREATED:20220616T184419Z
LAST-MODIFIED:20220616T184419Z
UID:10001297-1657515600-1657672200@forsinardflyfishers.co.uk
SUMMARY:ALL DAY SESSION
DESCRIPTION:NO FISHING AVAILABLE
URL:https://forsinardflyfishers.co.uk/booking/all-day-session-422/
CATEGORIES:Cross Lochs,Loch Bad A'Bothain,Loch Caol Altnabreac,Loch Clach Geala,Loch Crocach,Loch Ealach Mor,Loch Leir,Loch Na Cloiche,Loch Na Saobhaide,Loch Skyline,Loch Slethill,Loch Talaheel,Lochan Nam Breac
END:VEVENT
BEGIN:VEVENT
DTSTART;TZID=Europe/London:20220710T090000
DTEND;TZID=Europe/London:20220710T230000
DTSTAMP:20260421T160735
CREATED:20220709T160047Z
LAST-MODIFIED:20220709T160047Z
UID:10001069-1657443600-1657494000@forsinardflyfishers.co.uk
SUMMARY:ALL DAY SESSION
DESCRIPTION:K.ALLAN
URL:https://forsinardflyfishers.co.uk/booking/all-day-session-437/
CATEGORIES:Loch Coulbackie
END:VEVENT
BEGIN:VEVENT
DTSTART;TZID=Europe/London:20220709T090000
DTEND;TZID=Europe/London:20220709T230000
DTSTAMP:20260421T160735
CREATED:20220521T110723Z
LAST-MODIFIED:20220521T110723Z
UID:10001269-1657357200-1657407600@forsinardflyfishers.co.uk
SUMMARY:ALL DAY SESSION
DESCRIPTION:PETER MACGREGOR
URL:https://forsinardflyfishers.co.uk/booking/all-day-session-385/
CATEGORIES:Loch Slethill
END:VEVENT
BEGIN:VEVENT
DTSTART;TZID=Europe/London:20220708T063000
DTEND;TZID=Europe/London:20220709T003000
DTSTAMP:20260421T160735
CREATED:20220616T184243Z
LAST-MODIFIED:20220616T184243Z
UID:10001296-1657261800-1657326600@forsinardflyfishers.co.uk
SUMMARY:NO FISHING AVAILABLE
DESCRIPTION:NO FISHING AVAILABLE
URL:https://forsinardflyfishers.co.uk/booking/no-fishing-available-19/
CATEGORIES:Cross Lochs,Loch Bad A'Bothain,Loch Caol Altnabreac,Loch Clach Geala,Loch Crocach,Loch Ealach Mor,Loch Leir,Loch Na Cloiche,Loch Na Saobhaide,Loch Skyline,Loch Slethill,Loch Talaheel,Lochan Nam Breac
END:VEVENT
BEGIN:VEVENT
DTSTART;TZID=Europe/London:20220707T090000
DTEND;TZID=Europe/London:20220707T220000
DTSTAMP:20260421T160735
CREATED:20220702T084009Z
LAST-MODIFIED:20220702T084009Z
UID:10001068-1657184400-1657231200@forsinardflyfishers.co.uk
SUMMARY:ALL DAY SESSION
DESCRIPTION:J.SHARP + 3
URL:https://forsinardflyfishers.co.uk/booking/all-day-session-436/
CATEGORIES:Loch Caol Altnabreac
END:VEVENT
BEGIN:VEVENT
DTSTART;TZID=Europe/London:20220706T090000
DTEND;TZID=Europe/London:20220706T213000
DTSTAMP:20260421T160735
CREATED:20220701T121336Z
LAST-MODIFIED:20220810T092553Z
UID:10001316-1657098000-1657143000@forsinardflyfishers.co.uk
SUMMARY:ALL DAY SESSION
DESCRIPTION:J.SHARP
URL:https://forsinardflyfishers.co.uk/booking/all-day-session-434/
CATEGORIES:Loch Achridigill,Loch Coulbackie
END:VEVENT
BEGIN:VEVENT
DTSTART;TZID=Europe/London:20220705T090000
DTEND;TZID=Europe/London:20220705T213000
DTSTAMP:20260421T160735
CREATED:20220701T121147Z
LAST-MODIFIED:20220701T121147Z
UID:10001315-1657011600-1657056600@forsinardflyfishers.co.uk
SUMMARY:ALL DAY SESSION
DESCRIPTION:J.SHARP + 3
URL:https://forsinardflyfishers.co.uk/booking/all-day-session-433/
CATEGORIES:Loch Na Cloiche
END:VEVENT
BEGIN:VEVENT
DTSTART;TZID=Europe/London:20220705T090000
DTEND;TZID=Europe/London:20220705T210000
DTSTAMP:20260421T160735
CREATED:20220527T145650Z
LAST-MODIFIED:20220527T145650Z
UID:10001276-1657011600-1657054800@forsinardflyfishers.co.uk
SUMMARY:ALL DAY SESSION
DESCRIPTION:R.CAIRNS
URL:https://forsinardflyfishers.co.uk/booking/all-day-session-391/
CATEGORIES:Loch na Seilge
END:VEVENT
BEGIN:VEVENT
DTSTART;TZID=Europe/London:20220704T090000
DTEND;TZID=Europe/London:20220704T230000
DTSTAMP:20260421T160735
CREATED:20220701T121640Z
LAST-MODIFIED:20220701T121640Z
UID:10001067-1656925200-1656975600@forsinardflyfishers.co.uk
SUMMARY:ALL DAY SESSION
DESCRIPTION:J.SHARP + 3
URL:https://forsinardflyfishers.co.uk/booking/all-day-session-435/
CATEGORIES:Loch na Seilge
END:VEVENT
BEGIN:VEVENT
DTSTART;TZID=Europe/London:20220704T090000
DTEND;TZID=Europe/London:20220704T220000
DTSTAMP:20260421T160735
CREATED:20220527T145608Z
LAST-MODIFIED:20220527T145608Z
UID:10001275-1656925200-1656972000@forsinardflyfishers.co.uk
SUMMARY:ALL DAY SESSION
DESCRIPTION:R.CAIRNS
URL:https://forsinardflyfishers.co.uk/booking/all-day-session-390/
CATEGORIES:Loch Skyline
END:VEVENT
BEGIN:VEVENT
DTSTART;TZID=Europe/London:20220704T090000
DTEND;TZID=Europe/London:20220704T190000
DTSTAMP:20260421T160735
CREATED:20220401T015048Z
LAST-MODIFIED:20220401T015048Z
UID:10001206-1656925200-1656961200@forsinardflyfishers.co.uk
SUMMARY:DAY SESSION
DESCRIPTION:M.MCKENZIE
URL:https://forsinardflyfishers.co.uk/booking/day-session-97/
CATEGORIES:Loch Slethill
END:VEVENT
END:VCALENDAR