BEGIN:VCALENDAR
VERSION:2.0
PRODID:-//Forsinard Flyfishers&#039; Club - ECPv6.15.20//NONSGML v1.0//EN
CALSCALE:GREGORIAN
METHOD:PUBLISH
X-WR-CALNAME:Forsinard Flyfishers&#039; Club
X-ORIGINAL-URL:https://forsinardflyfishers.co.uk
X-WR-CALDESC:Events for Forsinard Flyfishers&#039; Club
REFRESH-INTERVAL;VALUE=DURATION:PT1H
X-Robots-Tag:noindex
X-PUBLISHED-TTL:PT1H
BEGIN:VTIMEZONE
TZID:Europe/London
BEGIN:DAYLIGHT
TZOFFSETFROM:+0000
TZOFFSETTO:+0100
TZNAME:BST
DTSTART:20200329T010000
END:DAYLIGHT
BEGIN:STANDARD
TZOFFSETFROM:+0100
TZOFFSETTO:+0000
TZNAME:GMT
DTSTART:20201025T010000
END:STANDARD
BEGIN:DAYLIGHT
TZOFFSETFROM:+0000
TZOFFSETTO:+0100
TZNAME:BST
DTSTART:20210328T010000
END:DAYLIGHT
BEGIN:STANDARD
TZOFFSETFROM:+0100
TZOFFSETTO:+0000
TZNAME:GMT
DTSTART:20211031T010000
END:STANDARD
BEGIN:DAYLIGHT
TZOFFSETFROM:+0000
TZOFFSETTO:+0100
TZNAME:BST
DTSTART:20220327T010000
END:DAYLIGHT
BEGIN:STANDARD
TZOFFSETFROM:+0100
TZOFFSETTO:+0000
TZNAME:GMT
DTSTART:20221030T010000
END:STANDARD
END:VTIMEZONE
BEGIN:VEVENT
DTSTART;TZID=Europe/London:20210702T090000
DTEND;TZID=Europe/London:20210702T200000
DTSTAMP:20260420T181025
CREATED:20210402T173241Z
LAST-MODIFIED:20210402T173241Z
UID:10000808-1625216400-1625256000@forsinardflyfishers.co.uk
SUMMARY:ALL DAY SESSION
DESCRIPTION:MAT HENDERSON + 2 BOAT
URL:https://forsinardflyfishers.co.uk/booking/all-day-session-41/
CATEGORIES:Loch Skyline
END:VEVENT
BEGIN:VEVENT
DTSTART;TZID=Europe/London:20210701T090000
DTEND;TZID=Europe/London:20210701T220000
DTSTAMP:20260420T181025
CREATED:20210625T085423Z
LAST-MODIFIED:20210625T085423Z
UID:10001050-1625130000-1625176800@forsinardflyfishers.co.uk
SUMMARY:ALL DAY SESSION
DESCRIPTION:I.MACALLUM
URL:https://forsinardflyfishers.co.uk/booking/all-day-session-223/
CATEGORIES:Loch na Seilge
END:VEVENT
BEGIN:VEVENT
DTSTART;TZID=Europe/London:20210701T090000
DTEND;TZID=Europe/London:20210701T220000
DTSTAMP:20260420T181025
CREATED:20210402T070904Z
LAST-MODIFIED:20210402T070904Z
UID:10000765-1625130000-1625176800@forsinardflyfishers.co.uk
SUMMARY:ALL DAY SESSION
DESCRIPTION:MAT HENDERSON + 2 BOAT
URL:https://forsinardflyfishers.co.uk/booking/all-day-session-38/
CATEGORIES:Loch Caol Altnabreac
END:VEVENT
BEGIN:VEVENT
DTSTART;TZID=Europe/London:20210701T090000
DTEND;TZID=Europe/London:20210701T210000
DTSTAMP:20260420T181025
CREATED:20210523T185015Z
LAST-MODIFIED:20210523T185015Z
UID:10000995-1625130000-1625173200@forsinardflyfishers.co.uk
SUMMARY:ALL DAY SESSION
DESCRIPTION:I.MORRIS
URL:https://forsinardflyfishers.co.uk/booking/all-day-session-168/
CATEGORIES:Bighouse Loch
END:VEVENT
BEGIN:VEVENT
DTSTART;TZID=Europe/London:20210701T090000
DTEND;TZID=Europe/London:20210701T210000
DTSTAMP:20260420T181025
CREATED:20210413T094347Z
LAST-MODIFIED:20210413T094347Z
UID:10000893-1625130000-1625173200@forsinardflyfishers.co.uk
SUMMARY:ALL DAY SESSION
DESCRIPTION:R.CAIRNS + 1
URL:https://forsinardflyfishers.co.uk/booking/all-day-session-92/
CATEGORIES:Cross Lochs
END:VEVENT
BEGIN:VEVENT
DTSTART;TZID=Europe/London:20210701T090000
DTEND;TZID=Europe/London:20210701T180000
DTSTAMP:20260420T181025
CREATED:20210413T094504Z
LAST-MODIFIED:20210413T094504Z
UID:10000895-1625130000-1625162400@forsinardflyfishers.co.uk
SUMMARY:ALL DAY SESSION
DESCRIPTION:R.LIVINGSTONE + 1
URL:https://forsinardflyfishers.co.uk/booking/all-day-session-93/
CATEGORIES:Loch Ealach Mor
END:VEVENT
BEGIN:VEVENT
DTSTART;TZID=Europe/London:20210630T090000
DTEND;TZID=Europe/London:20210630T220000
DTSTAMP:20260420T181025
CREATED:20210402T070748Z
LAST-MODIFIED:20210402T070748Z
UID:10000763-1625043600-1625090400@forsinardflyfishers.co.uk
SUMMARY:ALL DAY SESION
DESCRIPTION:Mat Henderson + 2
URL:https://forsinardflyfishers.co.uk/booking/all-day-sesion-2/
CATEGORIES:Loch Talaheel
END:VEVENT
BEGIN:VEVENT
DTSTART;TZID=Europe/London:20210629T090000
DTEND;TZID=Europe/London:20210629T220000
DTSTAMP:20260420T181025
CREATED:20210402T070619Z
LAST-MODIFIED:20210402T070619Z
UID:10000761-1624957200-1625004000@forsinardflyfishers.co.uk
SUMMARY:ALL DAY SESSION
DESCRIPTION:MAT HENDERSON + 2 Boat
URL:https://forsinardflyfishers.co.uk/booking/all-day-session-37/
CATEGORIES:Loch Slethill
END:VEVENT
BEGIN:VEVENT
DTSTART;TZID=Europe/London:20210628T090000
DTEND;TZID=Europe/London:20210628T223000
DTSTAMP:20260420T181025
CREATED:20210627T204018Z
LAST-MODIFIED:20210627T204018Z
UID:10001059-1624870800-1624919400@forsinardflyfishers.co.uk
SUMMARY:ALL DAY SESSION
DESCRIPTION:I.MORRIS
URL:https://forsinardflyfishers.co.uk/booking/all-day-session-227/
CATEGORIES:Loch nam Bo Uidhre
END:VEVENT
BEGIN:VEVENT
DTSTART;TZID=Europe/London:20210628T090000
DTEND;TZID=Europe/London:20210628T220000
DTSTAMP:20260420T181025
CREATED:20210625T111154Z
LAST-MODIFIED:20210625T111154Z
UID:10001052-1624870800-1624917600@forsinardflyfishers.co.uk
SUMMARY:ALL DAY SESSION
DESCRIPTION:MAT HENDERSON
URL:https://forsinardflyfishers.co.uk/booking/all-day-session-224/
CATEGORIES:Loch Bad A'Bothain
END:VEVENT
BEGIN:VEVENT
DTSTART;TZID=Europe/London:20210628T090000
DTEND;TZID=Europe/London:20210628T220000
DTSTAMP:20260420T181025
CREATED:20210607T062342Z
LAST-MODIFIED:20210607T062342Z
UID:10000820-1624870800-1624917600@forsinardflyfishers.co.uk
SUMMARY:ALL DAY SESSION
DESCRIPTION:M.PETRIE
URL:https://forsinardflyfishers.co.uk/booking/all-day-session-191/
CATEGORIES:Caol Loch (South)
END:VEVENT
BEGIN:VEVENT
DTSTART;TZID=Europe/London:20210628T090000
DTEND;TZID=Europe/London:20210628T220000
DTSTAMP:20260420T181025
CREATED:20210523T185142Z
LAST-MODIFIED:20210523T185218Z
UID:10000796-1624870800-1624917600@forsinardflyfishers.co.uk
SUMMARY:ALL DAY SESSION
DESCRIPTION:I.MORRIS
URL:https://forsinardflyfishers.co.uk/booking/all-day-session-169/
CATEGORIES:Caol North
END:VEVENT
BEGIN:VEVENT
DTSTART;TZID=Europe/London:20210628T090000
DTEND;TZID=Europe/London:20210628T200000
DTSTAMP:20260420T181025
CREATED:20210402T172831Z
LAST-MODIFIED:20210402T172831Z
UID:10000807-1624870800-1624910400@forsinardflyfishers.co.uk
SUMMARY:ALL DAY SESSION
DESCRIPTION:MAT HENDERSON + 2 BOAT
URL:https://forsinardflyfishers.co.uk/booking/all-day-session-40/
CATEGORIES:Loch Leir
END:VEVENT
BEGIN:VEVENT
DTSTART;TZID=Europe/London:20210627T190000
DTEND;TZID=Europe/London:20210628T000000
DTSTAMP:20260420T181025
CREATED:20210605T072320Z
LAST-MODIFIED:20210605T072320Z
UID:10000818-1624820400-1624838400@forsinardflyfishers.co.uk
SUMMARY:EVENING SESSION
DESCRIPTION:M.PETRIE
URL:https://forsinardflyfishers.co.uk/booking/evening-session-9/
CATEGORIES:Bighouse Loch
END:VEVENT
BEGIN:VEVENT
DTSTART;TZID=Europe/London:20210627T090000
DTEND;TZID=Europe/London:20210627T223000
DTSTAMP:20260420T181025
CREATED:20210626T070150Z
LAST-MODIFIED:20210626T070150Z
UID:10001054-1624784400-1624833000@forsinardflyfishers.co.uk
SUMMARY:ALL DAY SESSION
DESCRIPTION:S.CURTIS + 1
URL:https://forsinardflyfishers.co.uk/booking/all-day-session-225/
CATEGORIES:Caol North
END:VEVENT
BEGIN:VEVENT
DTSTART;TZID=Europe/London:20210627T090000
DTEND;TZID=Europe/London:20210627T220000
DTSTAMP:20260420T181025
CREATED:20210413T095450Z
LAST-MODIFIED:20210413T095450Z
UID:10000902-1624784400-1624831200@forsinardflyfishers.co.uk
SUMMARY:ALL DAY SESSION
DESCRIPTION:R.LIVINGSTONE + 1
URL:https://forsinardflyfishers.co.uk/booking/all-day-session-96/
CATEGORIES:Loch Ealach Mor
END:VEVENT
BEGIN:VEVENT
DTSTART;TZID=Europe/London:20210627T090000
DTEND;TZID=Europe/London:20210627T220000
DTSTAMP:20260420T181025
CREATED:20210413T095000Z
LAST-MODIFIED:20210413T095000Z
UID:10000900-1624784400-1624831200@forsinardflyfishers.co.uk
SUMMARY:ALL DAY SESSION
DESCRIPTION:R.CAIRNS + 1
URL:https://forsinardflyfishers.co.uk/booking/all-day-session-95/
CATEGORIES:Loch Caol Altnabreac
END:VEVENT
BEGIN:VEVENT
DTSTART;TZID=Europe/London:20210627T090000
DTEND;TZID=Europe/London:20210627T200000
DTSTAMP:20260420T181025
CREATED:20210605T072213Z
LAST-MODIFIED:20210605T072213Z
UID:10000816-1624784400-1624824000@forsinardflyfishers.co.uk
SUMMARY:ALL DAY SESSION
DESCRIPTION:M.PETRIE
URL:https://forsinardflyfishers.co.uk/booking/all-day-session-190/
CATEGORIES:Loch Akran
END:VEVENT
BEGIN:VEVENT
DTSTART;TZID=Europe/London:20210626T190000
DTEND;TZID=Europe/London:20210626T230000
DTSTAMP:20260420T181025
CREATED:20210526T210339Z
LAST-MODIFIED:20210526T210339Z
UID:10000801-1624734000-1624748400@forsinardflyfishers.co.uk
SUMMARY:Evening session
DESCRIPTION:MARK PETRIE
URL:https://forsinardflyfishers.co.uk/booking/evening-session-6/
CATEGORIES:Loch na Caorach
END:VEVENT
BEGIN:VEVENT
DTSTART;TZID=Europe/London:20210626T090000
DTEND;TZID=Europe/London:20210626T230000
DTSTAMP:20260420T181025
CREATED:20210622T112318Z
LAST-MODIFIED:20210624T120122Z
UID:10001044-1624698000-1624748400@forsinardflyfishers.co.uk
SUMMARY:ALL DAY SESSION
DESCRIPTION:T.BONNER + 1
URL:https://forsinardflyfishers.co.uk/booking/all-day-session-220/
CATEGORIES:Loch Crocach
END:VEVENT
BEGIN:VEVENT
DTSTART;TZID=Europe/London:20210626T090000
DTEND;TZID=Europe/London:20210626T220000
DTSTAMP:20260420T181025
CREATED:20210413T094855Z
LAST-MODIFIED:20210413T094855Z
UID:10000898-1624698000-1624744800@forsinardflyfishers.co.uk
SUMMARY:ALL DAY SESSION
DESCRIPTION:R.LIVINGSTONE + 1
URL:https://forsinardflyfishers.co.uk/booking/all-day-session-94/
CATEGORIES:Cross Lochs
END:VEVENT
BEGIN:VEVENT
DTSTART;TZID=Europe/London:20210626T090000
DTEND;TZID=Europe/London:20210626T200000
DTSTAMP:20260420T181025
CREATED:20210403T094121Z
LAST-MODIFIED:20210403T094121Z
UID:10000835-1624698000-1624737600@forsinardflyfishers.co.uk
SUMMARY:ALL DAY SESSION
DESCRIPTION:STUART GRAY BOAT
URL:https://forsinardflyfishers.co.uk/booking/all-day-session-58/
CATEGORIES:Loch Clach Geala
END:VEVENT
BEGIN:VEVENT
DTSTART;TZID=Europe/London:20210626T090000
DTEND;TZID=Europe/London:20210626T180000
DTSTAMP:20260420T181025
CREATED:20210523T185344Z
LAST-MODIFIED:20210523T185344Z
UID:10000797-1624698000-1624730400@forsinardflyfishers.co.uk
SUMMARY:ALL DAY SESSIO
DESCRIPTION:MARK PETRIE
URL:https://forsinardflyfishers.co.uk/booking/all-day-sessio/
CATEGORIES:Loch na Seilge
END:VEVENT
BEGIN:VEVENT
DTSTART;TZID=Europe/London:20210625T090000
DTEND;TZID=Europe/London:20210625T230000
DTSTAMP:20260420T181025
CREATED:20210624T115851Z
LAST-MODIFIED:20210624T115851Z
UID:10001045-1624611600-1624662000@forsinardflyfishers.co.uk
SUMMARY:ALL DAY SESSION
DESCRIPTION:T.BONNER + 1 BOAT
URL:https://forsinardflyfishers.co.uk/booking/all-day-session-221/
CATEGORIES:Loch na Seilge
END:VEVENT
BEGIN:VEVENT
DTSTART;TZID=Europe/London:20210625T090000
DTEND;TZID=Europe/London:20210625T220000
DTSTAMP:20260420T181025
CREATED:20210616T195151Z
LAST-MODIFIED:20210616T195151Z
UID:10001031-1624611600-1624658400@forsinardflyfishers.co.uk
SUMMARY:ALL DAY SESSION
DESCRIPTION:L.ORGAN
URL:https://forsinardflyfishers.co.uk/booking/all-day-session-207/
CATEGORIES:Loch na Caorach
END:VEVENT
BEGIN:VEVENT
DTSTART;TZID=Europe/London:20210625T090000
DTEND;TZID=Europe/London:20210625T220000
DTSTAMP:20260420T181025
CREATED:20210528T182855Z
LAST-MODIFIED:20210528T182855Z
UID:10000998-1624611600-1624658400@forsinardflyfishers.co.uk
SUMMARY:ALL DAY SESSION
DESCRIPTION:SANDY CUMMING + 1
URL:https://forsinardflyfishers.co.uk/booking/all-day-session-177/
CATEGORIES:Loch Sainn,Loch Saird
END:VEVENT
BEGIN:VEVENT
DTSTART;TZID=Europe/London:20210625T090000
DTEND;TZID=Europe/London:20210625T200000
DTSTAMP:20260420T181025
CREATED:20210403T094512Z
LAST-MODIFIED:20210403T094512Z
UID:10000836-1624611600-1624651200@forsinardflyfishers.co.uk
SUMMARY:ALL DAY SESSION
DESCRIPTION:STUART GRAY
URL:https://forsinardflyfishers.co.uk/booking/all-day-session-59/
CATEGORIES:Loch a Mhuilinn
END:VEVENT
BEGIN:VEVENT
DTSTART;TZID=Europe/London:20210625T090000
DTEND;TZID=Europe/London:20210625T200000
DTSTAMP:20260420T181025
CREATED:20210331T235221Z
LAST-MODIFIED:20210331T235221Z
UID:10000718-1624611600-1624651200@forsinardflyfishers.co.uk
SUMMARY:ALL DAY SESSION
DESCRIPTION:M.MCKENZIE +1
URL:https://forsinardflyfishers.co.uk/booking/all-day-session-9/
CATEGORIES:Loch Slethill
END:VEVENT
BEGIN:VEVENT
DTSTART;TZID=Europe/London:20210624T090000
DTEND;TZID=Europe/London:20210624T220000
DTSTAMP:20260420T181025
CREATED:20210616T195052Z
LAST-MODIFIED:20210616T195052Z
UID:10001030-1624525200-1624572000@forsinardflyfishers.co.uk
SUMMARY:ALL DAY SESSION
DESCRIPTION:L.ORGAN
URL:https://forsinardflyfishers.co.uk/booking/all-day-session-206/
CATEGORIES:Loch Akran,Loch Caol (Champagne)
END:VEVENT
BEGIN:VEVENT
DTSTART;TZID=Europe/London:20210624T090000
DTEND;TZID=Europe/London:20210624T220000
DTSTAMP:20260420T181025
CREATED:20210529T073356Z
LAST-MODIFIED:20210529T073356Z
UID:10001001-1624525200-1624572000@forsinardflyfishers.co.uk
SUMMARY:ALL DAY SESSION
DESCRIPTION:T.BONNER + 1
URL:https://forsinardflyfishers.co.uk/booking/all-day-session-180/
CATEGORIES:Caol Loch (South),Loch an Fheoir,Loch Crasgach,Loch Preas an Lochan,Lochan na Ceardaich
END:VEVENT
END:VCALENDAR