BEGIN:VCALENDAR
VERSION:2.0
PRODID:-//Forsinard Flyfishers&#039; Club - ECPv6.15.20//NONSGML v1.0//EN
CALSCALE:GREGORIAN
METHOD:PUBLISH
X-WR-CALNAME:Forsinard Flyfishers&#039; Club
X-ORIGINAL-URL:https://forsinardflyfishers.co.uk
X-WR-CALDESC:Events for Forsinard Flyfishers&#039; Club
REFRESH-INTERVAL;VALUE=DURATION:PT1H
X-Robots-Tag:noindex
X-PUBLISHED-TTL:PT1H
BEGIN:VTIMEZONE
TZID:Europe/London
BEGIN:DAYLIGHT
TZOFFSETFROM:+0000
TZOFFSETTO:+0100
TZNAME:BST
DTSTART:20210328T010000
END:DAYLIGHT
BEGIN:STANDARD
TZOFFSETFROM:+0100
TZOFFSETTO:+0000
TZNAME:GMT
DTSTART:20211031T010000
END:STANDARD
BEGIN:DAYLIGHT
TZOFFSETFROM:+0000
TZOFFSETTO:+0100
TZNAME:BST
DTSTART:20220327T010000
END:DAYLIGHT
BEGIN:STANDARD
TZOFFSETFROM:+0100
TZOFFSETTO:+0000
TZNAME:GMT
DTSTART:20221030T010000
END:STANDARD
BEGIN:DAYLIGHT
TZOFFSETFROM:+0000
TZOFFSETTO:+0100
TZNAME:BST
DTSTART:20230326T010000
END:DAYLIGHT
BEGIN:STANDARD
TZOFFSETFROM:+0100
TZOFFSETTO:+0000
TZNAME:GMT
DTSTART:20231029T010000
END:STANDARD
END:VTIMEZONE
BEGIN:VEVENT
DTSTART;TZID=Europe/London:20220903T090000
DTEND;TZID=Europe/London:20220903T180000
DTSTAMP:20260421T145333
CREATED:20220726T165532Z
LAST-MODIFIED:20220726T165532Z
UID:10001326-1662195600-1662228000@forsinardflyfishers.co.uk
SUMMARY:ALL DAY SESSION
DESCRIPTION:ROTARY CLUB
URL:https://forsinardflyfishers.co.uk/booking/all-day-session-454/
CATEGORIES:Loch Leir
END:VEVENT
BEGIN:VEVENT
DTSTART;TZID=Europe/London:20220902T090000
DTEND;TZID=Europe/London:20220902T180000
DTSTAMP:20260421T145333
CREATED:20220401T013451Z
LAST-MODIFIED:20220401T013451Z
UID:10001197-1662109200-1662141600@forsinardflyfishers.co.uk
SUMMARY:DAY SESSION
DESCRIPTION:N.MURRAY\, B.WOODHOUSE
URL:https://forsinardflyfishers.co.uk/booking/day-session-88/
CATEGORIES:Loch Slethill
END:VEVENT
BEGIN:VEVENT
DTSTART;TZID=Europe/London:20220901T090000
DTEND;TZID=Europe/London:20221006T180000
DTSTAMP:20260421T145333
CREATED:20220109T203452Z
LAST-MODIFIED:20220109T203522Z
UID:10000894-1662022800-1665079200@forsinardflyfishers.co.uk
SUMMARY:NO FISHING AVAILABLE
DESCRIPTION:NO FISHING AVAILABLE
URL:https://forsinardflyfishers.co.uk/booking/no-fishing-available-8/
CATEGORIES:Loch Sainn,Loch Saird
END:VEVENT
BEGIN:VEVENT
DTSTART;TZID=Europe/London:20220901T090000
DTEND;TZID=Europe/London:20220901T220000
DTSTAMP:20260421T145333
CREATED:20220825T190016Z
LAST-MODIFIED:20220825T190016Z
UID:10001344-1662022800-1662069600@forsinardflyfishers.co.uk
SUMMARY:ALL DAY SESSION
DESCRIPTION:C.BONNER
URL:https://forsinardflyfishers.co.uk/booking/all-day-session-491/
CATEGORIES:Loch Caol Altnabreac
END:VEVENT
BEGIN:VEVENT
DTSTART;TZID=Europe/London:20220830T090000
DTEND;TZID=Europe/London:20220830T180000
DTSTAMP:20260421T145333
CREATED:20220401T003019Z
LAST-MODIFIED:20220401T003019Z
UID:10001164-1661850000-1661882400@forsinardflyfishers.co.uk
SUMMARY:DAY SESSION
DESCRIPTION:D.GIBSON\, L.SMART
URL:https://forsinardflyfishers.co.uk/booking/day-session-45/
CATEGORIES:Loch Leir
END:VEVENT
BEGIN:VEVENT
DTSTART;TZID=Europe/London:20220829T090000
DTEND;TZID=Europe/London:20220829T180000
DTSTAMP:20260421T145333
CREATED:20220401T013552Z
LAST-MODIFIED:20220401T013552Z
UID:10001198-1661763600-1661796000@forsinardflyfishers.co.uk
SUMMARY:DAY SESSION
DESCRIPTION:O.APPLEBY\, E.APPLEBY
URL:https://forsinardflyfishers.co.uk/booking/day-session-89/
CATEGORIES:Loch Slethill
END:VEVENT
BEGIN:VEVENT
DTSTART;TZID=Europe/London:20220828T090000
DTEND;TZID=Europe/London:20220828T223000
DTSTAMP:20260421T145333
CREATED:20220824T050937Z
LAST-MODIFIED:20220824T050937Z
UID:10001339-1661677200-1661725800@forsinardflyfishers.co.uk
SUMMARY:ALL DAY SESSION
DESCRIPTION:M.RICHARDSON
URL:https://forsinardflyfishers.co.uk/booking/all-day-session-485/
CATEGORIES:Loch Caol Altnabreac
END:VEVENT
BEGIN:VEVENT
DTSTART;TZID=Europe/London:20220827T090000
DTEND;TZID=Europe/London:20220827T223000
DTSTAMP:20260421T145333
CREATED:20220824T050852Z
LAST-MODIFIED:20220824T050852Z
UID:10001107-1661590800-1661639400@forsinardflyfishers.co.uk
SUMMARY:ALL DAY SESSION
DESCRIPTION:M.RICHARDSON
URL:https://forsinardflyfishers.co.uk/booking/all-day-session-484/
CATEGORIES:Loch na Seilge
END:VEVENT
BEGIN:VEVENT
DTSTART;TZID=Europe/London:20220827T090000
DTEND;TZID=Europe/London:20220827T220000
DTSTAMP:20260421T145333
CREATED:20220825T185230Z
LAST-MODIFIED:20220825T185230Z
UID:10001341-1661590800-1661637600@forsinardflyfishers.co.uk
SUMMARY:ALL DAY SESSION
DESCRIPTION:K.ALLAN
URL:https://forsinardflyfishers.co.uk/booking/all-day-session-486/
CATEGORIES:Loch Coulbackie
END:VEVENT
BEGIN:VEVENT
DTSTART;TZID=Europe/London:20220827T090000
DTEND;TZID=Europe/London:20220827T220000
DTSTAMP:20260421T145333
CREATED:20220819T172824Z
LAST-MODIFIED:20220819T172824Z
UID:10001103-1661590800-1661637600@forsinardflyfishers.co.uk
SUMMARY:ALL DAY SESSION
DESCRIPTION:J.WASTLE
URL:https://forsinardflyfishers.co.uk/booking/all-day-session-482/
CATEGORIES:Cross Lochs
END:VEVENT
BEGIN:VEVENT
DTSTART;TZID=Europe/London:20220826T090000
DTEND;TZID=Europe/London:20220826T230000
DTSTAMP:20260421T145333
CREATED:20220812T112825Z
LAST-MODIFIED:20220812T112825Z
UID:10001336-1661504400-1661554800@forsinardflyfishers.co.uk
SUMMARY:ALL DAY SESSION
DESCRIPTION:W.GREEN
URL:https://forsinardflyfishers.co.uk/booking/all-day-session-472/
CATEGORIES:Loch Leir
END:VEVENT
BEGIN:VEVENT
DTSTART;TZID=Europe/London:20220826T090000
DTEND;TZID=Europe/London:20220826T223000
DTSTAMP:20260421T145333
CREATED:20220824T050756Z
LAST-MODIFIED:20220824T050756Z
UID:10001105-1661504400-1661553000@forsinardflyfishers.co.uk
SUMMARY:ALL DAY SESSION
DESCRIPTION:C.BONNER
URL:https://forsinardflyfishers.co.uk/booking/all-day-session-483/
CATEGORIES:Loch Skyline
END:VEVENT
BEGIN:VEVENT
DTSTART;TZID=Europe/London:20220826T090000
DTEND;TZID=Europe/London:20220826T220000
DTSTAMP:20260421T145333
CREATED:20220825T185839Z
LAST-MODIFIED:20220825T185839Z
UID:10001343-1661504400-1661551200@forsinardflyfishers.co.uk
SUMMARY:ALL DAY SESSION
DESCRIPTION:P.SMITH
URL:https://forsinardflyfishers.co.uk/booking/all-day-session-489/
CATEGORIES:Bighouse Loch
END:VEVENT
BEGIN:VEVENT
DTSTART;TZID=Europe/London:20220826T090000
DTEND;TZID=Europe/London:20220826T220000
DTSTAMP:20260421T145333
CREATED:20220825T185754Z
LAST-MODIFIED:20220825T185754Z
UID:10001342-1661504400-1661551200@forsinardflyfishers.co.uk
SUMMARY:ALL DAY SESSION
DESCRIPTION:T.BONNER
URL:https://forsinardflyfishers.co.uk/booking/all-day-session-488/
CATEGORIES:Loch Talaheel
END:VEVENT
BEGIN:VEVENT
DTSTART;TZID=Europe/London:20220826T090000
DTEND;TZID=Europe/London:20220826T220000
DTSTAMP:20260421T145333
CREATED:20220819T172735Z
LAST-MODIFIED:20220819T172857Z
UID:10001101-1661504400-1661551200@forsinardflyfishers.co.uk
SUMMARY:ALL DAY SESSION
DESCRIPTION:J.WASTLE
URL:https://forsinardflyfishers.co.uk/booking/all-day-session-481/
CATEGORIES:Loch Coulbackie,Loch Sgitheanach
END:VEVENT
BEGIN:VEVENT
DTSTART;TZID=Europe/London:20220825T090000
DTEND;TZID=Europe/London:20220825T210000
DTSTAMP:20260421T145333
CREATED:20220714T163840Z
LAST-MODIFIED:20220714T163840Z
UID:10001072-1661418000-1661461200@forsinardflyfishers.co.uk
SUMMARY:ALL DAY SESSION
DESCRIPTION:G.DUNN
URL:https://forsinardflyfishers.co.uk/booking/all-day-session-440/
CATEGORIES:Loch na Seilge
END:VEVENT
BEGIN:VEVENT
DTSTART;TZID=Europe/London:20220824T090000
DTEND;TZID=Europe/London:20220824T223000
DTSTAMP:20260421T145333
CREATED:20220714T163725Z
LAST-MODIFIED:20220714T163946Z
UID:10001071-1661331600-1661380200@forsinardflyfishers.co.uk
SUMMARY:ALL DAY SESSION
DESCRIPTION:G.DUNN
URL:https://forsinardflyfishers.co.uk/booking/all-day-session-439/
CATEGORIES:Loch Caol Altnabreac
END:VEVENT
BEGIN:VEVENT
DTSTART;TZID=Europe/London:20220823T090000
DTEND;TZID=Europe/London:20220823T223000
DTSTAMP:20260421T145333
CREATED:20220714T163612Z
LAST-MODIFIED:20220714T163612Z
UID:10001070-1661245200-1661293800@forsinardflyfishers.co.uk
SUMMARY:ALL DAY SESSION
DESCRIPTION:G.DUNN
URL:https://forsinardflyfishers.co.uk/booking/all-day-session-438/
CATEGORIES:Loch Slethill
END:VEVENT
BEGIN:VEVENT
DTSTART;TZID=Europe/London:20220822T090000
DTEND;TZID=Europe/London:20220822T223000
DTSTAMP:20260421T145333
CREATED:20220812T112608Z
LAST-MODIFIED:20220812T112608Z
UID:10001335-1661158800-1661207400@forsinardflyfishers.co.uk
SUMMARY:ALL DAY SESSION
DESCRIPTION:A.BATES
URL:https://forsinardflyfishers.co.uk/booking/all-day-session-471/
CATEGORIES:Loch Leir
END:VEVENT
BEGIN:VEVENT
DTSTART;TZID=Europe/London:20220822T090000
DTEND;TZID=Europe/London:20220822T220000
DTSTAMP:20260421T145333
CREATED:20220807T125124Z
LAST-MODIFIED:20220807T125124Z
UID:10001333-1661158800-1661205600@forsinardflyfishers.co.uk
SUMMARY:ALL DAY SESSION
DESCRIPTION:G.PAGOAGA
URL:https://forsinardflyfishers.co.uk/booking/all-day-session-470/
CATEGORIES:Loch Ealach Mor
END:VEVENT
BEGIN:VEVENT
DTSTART;TZID=Europe/London:20220821T090000
DTEND;TZID=Europe/London:20220821T200000
DTSTAMP:20260421T145333
CREATED:20220815T070733Z
LAST-MODIFIED:20220815T070733Z
UID:10001089-1661072400-1661112000@forsinardflyfishers.co.uk
SUMMARY:ALL DAY SESSION
DESCRIPTION:M.McKENZIE
URL:https://forsinardflyfishers.co.uk/booking/all-day-session-475/
CATEGORIES:Loch Caise
END:VEVENT
BEGIN:VEVENT
DTSTART;TZID=Europe/London:20220820T090000
DTEND;TZID=Europe/London:20220820T223000
DTSTAMP:20260421T145333
CREATED:20220807T124816Z
LAST-MODIFIED:20220807T124816Z
UID:10001331-1660986000-1661034600@forsinardflyfishers.co.uk
SUMMARY:ALL DAY SESSION
DESCRIPTION:J.GOODCHILD\, J.FLOWER
URL:https://forsinardflyfishers.co.uk/booking/all-day-session-469/
CATEGORIES:Loch na Seilge
END:VEVENT
BEGIN:VEVENT
DTSTART;TZID=Europe/London:20220819T090000
DTEND;TZID=Europe/London:20220819T230000
DTSTAMP:20260421T145333
CREATED:20220717T182042Z
LAST-MODIFIED:20220717T182042Z
UID:10001317-1660899600-1660950000@forsinardflyfishers.co.uk
SUMMARY:ALL DAY SESSION
DESCRIPTION:G.PAGOAGA
URL:https://forsinardflyfishers.co.uk/booking/all-day-session-445/
CATEGORIES:Loch Slethill
END:VEVENT
BEGIN:VEVENT
DTSTART;TZID=Europe/London:20220819T090000
DTEND;TZID=Europe/London:20220819T220000
DTSTAMP:20260421T145333
CREATED:20220815T070549Z
LAST-MODIFIED:20220815T070611Z
UID:10001337-1660899600-1660946400@forsinardflyfishers.co.uk
SUMMARY:ALL DAY SESSION
DESCRIPTION:M.McKENZIE
URL:https://forsinardflyfishers.co.uk/booking/all-day-session-473/
CATEGORIES:Loch Caol Altnabreac
END:VEVENT
BEGIN:VEVENT
DTSTART;TZID=Europe/London:20220818T090000
DTEND;TZID=Europe/London:20220818T180000
DTSTAMP:20260421T145333
CREATED:20220815T070648Z
LAST-MODIFIED:20220815T070648Z
UID:10001338-1660813200-1660845600@forsinardflyfishers.co.uk
SUMMARY:ALL DAY SESSION
DESCRIPTION:M.McKENZIE
URL:https://forsinardflyfishers.co.uk/booking/all-day-session-474/
CATEGORIES:Loch Bad A'Bothain
END:VEVENT
BEGIN:VEVENT
DTSTART;TZID=Europe/London:20220817T090000
DTEND;TZID=Europe/London:20220817T220000
DTSTAMP:20260421T145333
CREATED:20220728T103915Z
LAST-MODIFIED:20220805T202115Z
UID:10001082-1660726800-1660773600@forsinardflyfishers.co.uk
SUMMARY:ALL DAY SESSION
DESCRIPTION:J.GOODCHILD\, J.FLOWER
URL:https://forsinardflyfishers.co.uk/booking/all-day-session-460/
CATEGORIES:Loch na h-Eaglaise Beag,Loch na h-Eaglasie Mor (South end)
END:VEVENT
BEGIN:VEVENT
DTSTART;TZID=Europe/London:20220816T090000
DTEND;TZID=Europe/London:20220816T223000
DTSTAMP:20260421T145333
CREATED:20220722T191410Z
LAST-MODIFIED:20220722T191410Z
UID:10001323-1660640400-1660689000@forsinardflyfishers.co.uk
SUMMARY:ALL DAY SESSION
DESCRIPTION:GERARD and XAVIER PAGOAGA
URL:https://forsinardflyfishers.co.uk/booking/all-day-session-451/
CATEGORIES:Loch Leir
END:VEVENT
BEGIN:VEVENT
DTSTART;TZID=Europe/London:20220816T090000
DTEND;TZID=Europe/London:20220816T220000
DTSTAMP:20260421T145333
CREATED:20220726T165329Z
LAST-MODIFIED:20220726T165329Z
UID:10001325-1660640400-1660687200@forsinardflyfishers.co.uk
SUMMARY:ALL DAY SESSION
DESCRIPTION:G.PAGOAGA\, X.PAGOAGA
URL:https://forsinardflyfishers.co.uk/booking/all-day-session-453/
CATEGORIES:Loch Leir
END:VEVENT
BEGIN:VEVENT
DTSTART;TZID=Europe/London:20220813T090000
DTEND;TZID=Europe/London:20220813T230000
DTSTAMP:20260421T145333
CREATED:20220812T111757Z
LAST-MODIFIED:20220812T111757Z
UID:10001334-1660381200-1660431600@forsinardflyfishers.co.uk
SUMMARY:ALL DAY SESSION
DESCRIPTION:F.INGRAMS
URL:https://forsinardflyfishers.co.uk/booking/all-day-session-411/
CATEGORIES:Loch Caol Altnabreac
END:VEVENT
BEGIN:VEVENT
DTSTART;TZID=Europe/London:20220813T090000
DTEND;TZID=Europe/London:20220813T200000
DTSTAMP:20260421T145333
CREATED:20220810T111047Z
LAST-MODIFIED:20220810T111047Z
UID:10001332-1660381200-1660420800@forsinardflyfishers.co.uk
SUMMARY:ALL DAY SESSION
DESCRIPTION:K.ALLAN
URL:https://forsinardflyfishers.co.uk/booking/all-day-session-410/
CATEGORIES:Loch Coulbackie
END:VEVENT
END:VCALENDAR