BEGIN:VCALENDAR
VERSION:2.0
PRODID:-//Forsinard Flyfishers&#039; Club - ECPv6.15.20//NONSGML v1.0//EN
CALSCALE:GREGORIAN
METHOD:PUBLISH
X-WR-CALNAME:Forsinard Flyfishers&#039; Club
X-ORIGINAL-URL:https://forsinardflyfishers.co.uk
X-WR-CALDESC:Events for Forsinard Flyfishers&#039; Club
REFRESH-INTERVAL;VALUE=DURATION:PT1H
X-Robots-Tag:noindex
X-PUBLISHED-TTL:PT1H
BEGIN:VTIMEZONE
TZID:Europe/London
BEGIN:DAYLIGHT
TZOFFSETFROM:+0000
TZOFFSETTO:+0100
TZNAME:BST
DTSTART:20200329T010000
END:DAYLIGHT
BEGIN:STANDARD
TZOFFSETFROM:+0100
TZOFFSETTO:+0000
TZNAME:GMT
DTSTART:20201025T010000
END:STANDARD
BEGIN:DAYLIGHT
TZOFFSETFROM:+0000
TZOFFSETTO:+0100
TZNAME:BST
DTSTART:20210328T010000
END:DAYLIGHT
BEGIN:STANDARD
TZOFFSETFROM:+0100
TZOFFSETTO:+0000
TZNAME:GMT
DTSTART:20211031T010000
END:STANDARD
BEGIN:DAYLIGHT
TZOFFSETFROM:+0000
TZOFFSETTO:+0100
TZNAME:BST
DTSTART:20220327T010000
END:DAYLIGHT
BEGIN:STANDARD
TZOFFSETFROM:+0100
TZOFFSETTO:+0000
TZNAME:GMT
DTSTART:20221030T010000
END:STANDARD
END:VTIMEZONE
BEGIN:VEVENT
DTSTART;TZID=Europe/London:20210728T090000
DTEND;TZID=Europe/London:20210728T220000
DTSTAMP:20260420T165344
CREATED:20210618T141733Z
LAST-MODIFIED:20210618T141733Z
UID:10001035-1627462800-1627509600@forsinardflyfishers.co.uk
SUMMARY:ALL DAY SESSION
DESCRIPTION:G.PAGOAGA
URL:https://forsinardflyfishers.co.uk/booking/all-day-session-211/
CATEGORIES:Loch Clach Geala
END:VEVENT
BEGIN:VEVENT
DTSTART;TZID=Europe/London:20210726T090000
DTEND;TZID=Europe/London:20210727T180000
DTSTAMP:20260420T165344
CREATED:20210402T090554Z
LAST-MODIFIED:20210402T090554Z
UID:10000774-1627290000-1627408800@forsinardflyfishers.co.uk
SUMMARY:NO FISHING AVAILABLE
DESCRIPTION:
URL:https://forsinardflyfishers.co.uk/booking/no-fishing-available-6/
CATEGORIES:Cross Lochs,Loch Bad A'Bothain,Loch Caol Altnabreac,Loch Clach Geala,Loch Crocach,Loch Ealach Mor,Loch Leir,Loch Na Cloiche,Loch Na Saobhaide,Loch Skyline,Loch Slethill,Loch Talaheel,Lochan Nam Breac
END:VEVENT
BEGIN:VEVENT
DTSTART;TZID=Europe/London:20210726T090000
DTEND;TZID=Europe/London:20210726T220000
DTSTAMP:20260420T165344
CREATED:20210608T181215Z
LAST-MODIFIED:20210608T181215Z
UID:10001018-1627290000-1627336800@forsinardflyfishers.co.uk
SUMMARY:ALL DAY SESSION
DESCRIPTION:S.COLE + 1 BOAT
URL:https://forsinardflyfishers.co.uk/booking/all-day-session-198/
CATEGORIES:Loch na Seilge
END:VEVENT
BEGIN:VEVENT
DTSTART;TZID=Europe/London:20210725T090000
DTEND;TZID=Europe/London:20210725T220000
DTSTAMP:20260420T165344
CREATED:20210608T181058Z
LAST-MODIFIED:20210608T181058Z
UID:10001016-1627203600-1627250400@forsinardflyfishers.co.uk
SUMMARY:ALL DAY SESSION
DESCRIPTION:S.COLE +1 BOAT
URL:https://forsinardflyfishers.co.uk/booking/all-day-session-197/
CATEGORIES:Loch Skyline
END:VEVENT
BEGIN:VEVENT
DTSTART;TZID=Europe/London:20210725T090000
DTEND;TZID=Europe/London:20210725T220000
DTSTAMP:20260420T165344
CREATED:20210504T053955Z
LAST-MODIFIED:20210504T053955Z
UID:10000780-1627203600-1627250400@forsinardflyfishers.co.uk
SUMMARY:ALL DAY SESSION
DESCRIPTION:K.MACKENZIE +1 BOAT
URL:https://forsinardflyfishers.co.uk/booking/all-day-session-138/
CATEGORIES:Loch Leir
END:VEVENT
BEGIN:VEVENT
DTSTART;TZID=Europe/London:20210724T090000
DTEND;TZID=Europe/London:20210724T220000
DTSTAMP:20260420T165344
CREATED:20210723T202005Z
LAST-MODIFIED:20210723T202005Z
UID:10001088-1627117200-1627164000@forsinardflyfishers.co.uk
SUMMARY:ALL DAY SESSION
DESCRIPTION:D.PETHERAM + 1
URL:https://forsinardflyfishers.co.uk/booking/all-day-session-243/
CATEGORIES:Lochan Nam Breac
END:VEVENT
BEGIN:VEVENT
DTSTART;TZID=Europe/London:20210724T090000
DTEND;TZID=Europe/London:20210724T220000
DTSTAMP:20260420T165344
CREATED:20210614T190226Z
LAST-MODIFIED:20210614T190226Z
UID:10001026-1627117200-1627164000@forsinardflyfishers.co.uk
SUMMARY:ALL DAY SESSION
DESCRIPTION:M.BAILEY + 2
URL:https://forsinardflyfishers.co.uk/booking/all-day-session-202/
CATEGORIES:Loch Slethill
END:VEVENT
BEGIN:VEVENT
DTSTART;TZID=Europe/London:20210724T090000
DTEND;TZID=Europe/London:20210724T220000
DTSTAMP:20260420T165344
CREATED:20210608T180914Z
LAST-MODIFIED:20210608T180914Z
UID:10000830-1627117200-1627164000@forsinardflyfishers.co.uk
SUMMARY:ALL DAY SESSION
DESCRIPTION:S.COLE + 1 BOAT
URL:https://forsinardflyfishers.co.uk/booking/all-day-session-196/
CATEGORIES:Loch Caol Altnabreac
END:VEVENT
BEGIN:VEVENT
DTSTART;TZID=Europe/London:20210723T090000
DTEND;TZID=Europe/London:20210723T230000
DTSTAMP:20260420T165344
CREATED:20210618T141610Z
LAST-MODIFIED:20210618T141610Z
UID:10001034-1627030800-1627081200@forsinardflyfishers.co.uk
SUMMARY:ALL DAY SESSION
DESCRIPTION:G.PAGOAGA
URL:https://forsinardflyfishers.co.uk/booking/all-day-session-210/
CATEGORIES:Loch Talaheel
END:VEVENT
BEGIN:VEVENT
DTSTART;TZID=Europe/London:20210722T090000
DTEND;TZID=Europe/London:20210723T180000
DTSTAMP:20260420T165344
CREATED:20210402T090354Z
LAST-MODIFIED:20210402T090354Z
UID:10000773-1626944400-1627063200@forsinardflyfishers.co.uk
SUMMARY:NO FISHING AVAILABLE
DESCRIPTION:
URL:https://forsinardflyfishers.co.uk/booking/no-fishing-available-5/
CATEGORIES:Cross Lochs,Loch Bad A'Bothain,Loch Caol Altnabreac,Loch Clach Geala,Loch Crocach,Loch Ealach Mor,Loch Leir,Loch Na Cloiche,Loch Na Saobhaide,Loch Skyline,Loch Slethill,Loch Talaheel,Lochan Nam Breac
END:VEVENT
BEGIN:VEVENT
DTSTART;TZID=Europe/London:20210721T090000
DTEND;TZID=Europe/London:20210721T230000
DTSTAMP:20260420T165344
CREATED:20210719T070521Z
LAST-MODIFIED:20210719T070521Z
UID:10000862-1626858000-1626908400@forsinardflyfishers.co.uk
SUMMARY:ALL DAY SESSION
DESCRIPTION:P.DODKIN
URL:https://forsinardflyfishers.co.uk/booking/all-day-session-239/
CATEGORIES:Loch Coulbackie
END:VEVENT
BEGIN:VEVENT
DTSTART;TZID=Europe/London:20210720T090000
DTEND;TZID=Europe/London:20210720T220000
DTSTAMP:20260420T165344
CREATED:20210614T190128Z
LAST-MODIFIED:20210614T190128Z
UID:10001024-1626771600-1626818400@forsinardflyfishers.co.uk
SUMMARY:ALL DAY SESSION
DESCRIPTION:M.BAILEY + 2
URL:https://forsinardflyfishers.co.uk/booking/all-day-session-201/
CATEGORIES:Loch Leir
END:VEVENT
BEGIN:VEVENT
DTSTART;TZID=Europe/London:20210719T090000
DTEND;TZID=Europe/London:20210719T220000
DTSTAMP:20260420T165344
CREATED:20210718T114323Z
LAST-MODIFIED:20210718T114323Z
UID:10000861-1626685200-1626732000@forsinardflyfishers.co.uk
SUMMARY:ALL DAY SESSION
DESCRIPTION:S.MUSGROVE + 1
URL:https://forsinardflyfishers.co.uk/booking/all-day-session-238/
CATEGORIES:Loch a Mhuilinn
END:VEVENT
BEGIN:VEVENT
DTSTART;TZID=Europe/London:20210719T090000
DTEND;TZID=Europe/London:20210719T220000
DTSTAMP:20260420T165344
CREATED:20210718T114224Z
LAST-MODIFIED:20210718T114224Z
UID:10000859-1626685200-1626732000@forsinardflyfishers.co.uk
SUMMARY:all day session
DESCRIPTION:d.dunston + 1
URL:https://forsinardflyfishers.co.uk/booking/all-day-session-237/
CATEGORIES:Loch Coulbackie
END:VEVENT
BEGIN:VEVENT
DTSTART;TZID=Europe/London:20210719T090000
DTEND;TZID=Europe/London:20210719T220000
DTSTAMP:20260420T165344
CREATED:20210618T141512Z
LAST-MODIFIED:20210618T141512Z
UID:10001033-1626685200-1626732000@forsinardflyfishers.co.uk
SUMMARY:ALL DAY SESSION
DESCRIPTION:G.PAGOAGA BOAT
URL:https://forsinardflyfishers.co.uk/booking/all-day-session-209/
CATEGORIES:Loch Skyline
END:VEVENT
BEGIN:VEVENT
DTSTART;TZID=Europe/London:20210718T090000
DTEND;TZID=Europe/London:20210718T220000
DTSTAMP:20260420T165344
CREATED:20210504T053850Z
LAST-MODIFIED:20210504T053850Z
UID:10000779-1626598800-1626645600@forsinardflyfishers.co.uk
SUMMARY:ALL DAY SESSION
DESCRIPTION:K.MACKENZIE + 1 BOAT
URL:https://forsinardflyfishers.co.uk/booking/all-day-session-137/
CATEGORIES:Loch Slethill
END:VEVENT
BEGIN:VEVENT
DTSTART;TZID=Europe/London:20210718T090000
DTEND;TZID=Europe/London:20210718T220000
DTSTAMP:20260420T165344
CREATED:20210415T071448Z
LAST-MODIFIED:20210415T071448Z
UID:10000769-1626598800-1626645600@forsinardflyfishers.co.uk
SUMMARY:ALL DAY SESSION
DESCRIPTION:MURRAY RICHARDSON
URL:https://forsinardflyfishers.co.uk/booking/all-day-session-110/
CATEGORIES:Loch Caol Altnabreac
END:VEVENT
BEGIN:VEVENT
DTSTART;TZID=Europe/London:20210717T090000
DTEND;TZID=Europe/London:20210717T220000
DTSTAMP:20260420T165344
CREATED:20210710T074854Z
LAST-MODIFIED:20210710T074854Z
UID:10000847-1626512400-1626559200@forsinardflyfishers.co.uk
SUMMARY:ALL DAY SESSION
DESCRIPTION:M.RICHARDSON
URL:https://forsinardflyfishers.co.uk/booking/all-day-session-232/
CATEGORIES:Bighouse Loch,Loch na Seilge
END:VEVENT
BEGIN:VEVENT
DTSTART;TZID=Europe/London:20210716T090000
DTEND;TZID=Europe/London:20210716T220000
DTSTAMP:20260420T165344
CREATED:20210528T182451Z
LAST-MODIFIED:20210528T182451Z
UID:10000997-1626426000-1626472800@forsinardflyfishers.co.uk
SUMMARY:ALL DAY SESSION
DESCRIPTION:SANDY CUMMING + 1
URL:https://forsinardflyfishers.co.uk/booking/all-day-session-176/
CATEGORIES:Loch Leir
END:VEVENT
BEGIN:VEVENT
DTSTART;TZID=Europe/London:20210715T090000
DTEND;TZID=Europe/London:20210715T220000
DTSTAMP:20260420T165344
CREATED:20210722T173743Z
LAST-MODIFIED:20210722T173743Z
UID:10001065-1626339600-1626386400@forsinardflyfishers.co.uk
SUMMARY:ALL DAY SESSION
DESCRIPTION:A.SHEARER + 1
URL:https://forsinardflyfishers.co.uk/booking/all-day-session-240/
CATEGORIES:Loch Ealach Mor
END:VEVENT
BEGIN:VEVENT
DTSTART;TZID=Europe/London:20210715T090000
DTEND;TZID=Europe/London:20210715T220000
DTSTAMP:20260420T165344
CREATED:20210531T140430Z
LAST-MODIFIED:20210531T140430Z
UID:10001006-1626339600-1626386400@forsinardflyfishers.co.uk
SUMMARY:ALL DAY SESSION
DESCRIPTION:R.WILSON
URL:https://forsinardflyfishers.co.uk/booking/all-day-session-185/
CATEGORIES:Loch Skyline
END:VEVENT
BEGIN:VEVENT
DTSTART;TZID=Europe/London:20210714T090000
DTEND;TZID=Europe/London:20210714T220000
DTSTAMP:20260420T165344
CREATED:20210710T183947Z
LAST-MODIFIED:20210710T183947Z
UID:10000851-1626253200-1626300000@forsinardflyfishers.co.uk
SUMMARY:ALL DAY SESSION
DESCRIPTION:M.RICHMOND
URL:https://forsinardflyfishers.co.uk/booking/all-day-session-233/
CATEGORIES:Bighouse Loch
END:VEVENT
BEGIN:VEVENT
DTSTART;TZID=Europe/London:20210714T090000
DTEND;TZID=Europe/London:20210714T220000
DTSTAMP:20260420T165344
CREATED:20210413T095912Z
LAST-MODIFIED:20210413T100356Z
UID:10000907-1626253200-1626300000@forsinardflyfishers.co.uk
SUMMARY:ALL DAY SESSION
DESCRIPTION:R.WILSON
URL:https://forsinardflyfishers.co.uk/booking/all-day-session-99/
CATEGORIES:Loch Caol Altnabreac
END:VEVENT
BEGIN:VEVENT
DTSTART;TZID=Europe/London:20210713T090000
DTEND;TZID=Europe/London:20210713T223000
DTSTAMP:20260420T165344
CREATED:20210712T155114Z
LAST-MODIFIED:20210712T155114Z
UID:10000857-1626166800-1626215400@forsinardflyfishers.co.uk
SUMMARY:ALL DAY SESSION
DESCRIPTION:J.CHAPMAN + 2
URL:https://forsinardflyfishers.co.uk/booking/all-day-session-236/
CATEGORIES:Loch Crocach
END:VEVENT
BEGIN:VEVENT
DTSTART;TZID=Europe/London:20210713T090000
DTEND;TZID=Europe/London:20210713T220000
DTSTAMP:20260420T165344
CREATED:20210712T075806Z
LAST-MODIFIED:20210712T075806Z
UID:10000853-1626166800-1626213600@forsinardflyfishers.co.uk
SUMMARY:ALL DAY SESSION
DESCRIPTION:P.DODKINS
URL:https://forsinardflyfishers.co.uk/booking/all-day-session-234/
CATEGORIES:Loch Caol (Champagne)
END:VEVENT
BEGIN:VEVENT
DTSTART;TZID=Europe/London:20210713T090000
DTEND;TZID=Europe/London:20210713T213000
DTSTAMP:20260420T165344
CREATED:20210413T095807Z
LAST-MODIFIED:20210413T100245Z
UID:10000905-1626166800-1626211800@forsinardflyfishers.co.uk
SUMMARY:ALL DAY SESSION
DESCRIPTION:R.WILSON + 3
URL:https://forsinardflyfishers.co.uk/booking/all-day-session-98/
CATEGORIES:Loch Slethill
END:VEVENT
BEGIN:VEVENT
DTSTART;TZID=Europe/London:20210711T090000
DTEND;TZID=Europe/London:20210711T220000
DTSTAMP:20260420T165344
CREATED:20210710T074547Z
LAST-MODIFIED:20210710T074547Z
UID:10000845-1625994000-1626040800@forsinardflyfishers.co.uk
SUMMARY:all day session
DESCRIPTION:A.PORTEOUS + 1
URL:https://forsinardflyfishers.co.uk/booking/all-day-session-231/
CATEGORIES:Loch Coulbackie
END:VEVENT
BEGIN:VEVENT
DTSTART;TZID=Europe/London:20210711T090000
DTEND;TZID=Europe/London:20210711T213000
DTSTAMP:20260420T165344
CREATED:20210413T095656Z
LAST-MODIFIED:20210413T095656Z
UID:10000903-1625994000-1626039000@forsinardflyfishers.co.uk
SUMMARY:ALL DAY SESSION
DESCRIPTION:R.WILSON + 3
URL:https://forsinardflyfishers.co.uk/booking/all-day-session-97/
CATEGORIES:Loch Leir
END:VEVENT
BEGIN:VEVENT
DTSTART;TZID=Europe/London:20210710T150000
DTEND;TZID=Europe/London:20210711T000000
DTSTAMP:20260420T165344
CREATED:20210407T151808Z
LAST-MODIFIED:20210408T171347Z
UID:10000842-1625929200-1625961600@forsinardflyfishers.co.uk
SUMMARY:AFTERNOON SESSION
DESCRIPTION:STEVEN COOK + 3 BOAT
URL:https://forsinardflyfishers.co.uk/booking/all-day-session-74/
CATEGORIES:Loch Caol Altnabreac
END:VEVENT
BEGIN:VEVENT
DTSTART;TZID=Europe/London:20210710T090000
DTEND;TZID=Europe/London:20210710T230000
DTSTAMP:20260420T165344
CREATED:20210626T070447Z
LAST-MODIFIED:20210626T070447Z
UID:10001056-1625907600-1625958000@forsinardflyfishers.co.uk
SUMMARY:ALL DAY SESSION
DESCRIPTION:A.BUGLASS + 2
URL:https://forsinardflyfishers.co.uk/booking/all-day-session-226/
CATEGORIES:Loch Clach Geala
END:VEVENT
END:VCALENDAR