BEGIN:VCALENDAR
VERSION:2.0
PRODID:-//Forsinard Flyfishers&#039; Club - ECPv6.15.20//NONSGML v1.0//EN
CALSCALE:GREGORIAN
METHOD:PUBLISH
X-WR-CALNAME:Forsinard Flyfishers&#039; Club
X-ORIGINAL-URL:https://forsinardflyfishers.co.uk
X-WR-CALDESC:Events for Forsinard Flyfishers&#039; Club
REFRESH-INTERVAL;VALUE=DURATION:PT1H
X-Robots-Tag:noindex
X-PUBLISHED-TTL:PT1H
BEGIN:VTIMEZONE
TZID:Europe/London
BEGIN:DAYLIGHT
TZOFFSETFROM:+0000
TZOFFSETTO:+0100
TZNAME:BST
DTSTART:20200329T010000
END:DAYLIGHT
BEGIN:STANDARD
TZOFFSETFROM:+0100
TZOFFSETTO:+0000
TZNAME:GMT
DTSTART:20201025T010000
END:STANDARD
BEGIN:DAYLIGHT
TZOFFSETFROM:+0000
TZOFFSETTO:+0100
TZNAME:BST
DTSTART:20210328T010000
END:DAYLIGHT
BEGIN:STANDARD
TZOFFSETFROM:+0100
TZOFFSETTO:+0000
TZNAME:GMT
DTSTART:20211031T010000
END:STANDARD
BEGIN:DAYLIGHT
TZOFFSETFROM:+0000
TZOFFSETTO:+0100
TZNAME:BST
DTSTART:20220327T010000
END:DAYLIGHT
BEGIN:STANDARD
TZOFFSETFROM:+0100
TZOFFSETTO:+0000
TZNAME:GMT
DTSTART:20221030T010000
END:STANDARD
END:VTIMEZONE
BEGIN:VEVENT
DTSTART;TZID=Europe/London:20210901T090000
DTEND;TZID=Europe/London:20210901T200000
DTSTAMP:20260420T153741
CREATED:20210821T062204Z
LAST-MODIFIED:20210821T062204Z
UID:10000871-1630486800-1630526400@forsinardflyfishers.co.uk
SUMMARY:ALL DAY SESSION
DESCRIPTION:G.PAGOAGA
URL:https://forsinardflyfishers.co.uk/booking/all-day-session-266/
CATEGORIES:Loch Skyline
END:VEVENT
BEGIN:VEVENT
DTSTART;TZID=Europe/London:20210831T090000
DTEND;TZID=Europe/London:20210831T220000
DTSTAMP:20260420T153741
CREATED:20210830T193605Z
LAST-MODIFIED:20210830T193605Z
UID:10001122-1630400400-1630447200@forsinardflyfishers.co.uk
SUMMARY:ALL DAY SESSION
DESCRIPTION:A.PORTEOUS + 1
URL:https://forsinardflyfishers.co.uk/booking/all-day-session-277/
CATEGORIES:Loch Coulbackie
END:VEVENT
BEGIN:VEVENT
DTSTART;TZID=Europe/London:20210831T090000
DTEND;TZID=Europe/London:20210831T200000
DTSTAMP:20260420T153741
CREATED:20210830T194249Z
LAST-MODIFIED:20210830T194249Z
UID:10001124-1630400400-1630440000@forsinardflyfishers.co.uk
SUMMARY:ALL DAY SESSION
DESCRIPTION:D.ROBSON
URL:https://forsinardflyfishers.co.uk/booking/all-day-session-279/
CATEGORIES:Loch Nam Breac
END:VEVENT
BEGIN:VEVENT
DTSTART;TZID=Europe/London:20210831T090000
DTEND;TZID=Europe/London:20210831T190000
DTSTAMP:20260420T153741
CREATED:20210513T104020Z
LAST-MODIFIED:20210513T104020Z
UID:10000793-1630400400-1630436400@forsinardflyfishers.co.uk
SUMMARY:ALL DAY SESSION
DESCRIPTION:D.ARUNDEL + 1 BOAT
URL:https://forsinardflyfishers.co.uk/booking/all-day-session-158/
CATEGORIES:Loch Slethill
END:VEVENT
BEGIN:VEVENT
DTSTART;TZID=Europe/London:20210830T090000
DTEND;TZID=Europe/London:20210830T210000
DTSTAMP:20260420T153741
CREATED:20210828T082445Z
LAST-MODIFIED:20210828T082445Z
UID:10001120-1630314000-1630357200@forsinardflyfishers.co.uk
SUMMARY:ALL DAY SESSION
DESCRIPTION:T.BONNER
URL:https://forsinardflyfishers.co.uk/booking/all-day-session-275/
CATEGORIES:Loch Clach Geala
END:VEVENT
BEGIN:VEVENT
DTSTART;TZID=Europe/London:20210830T090000
DTEND;TZID=Europe/London:20210830T210000
DTSTAMP:20260420T153741
CREATED:20210828T082237Z
LAST-MODIFIED:20210828T082237Z
UID:10001119-1630314000-1630357200@forsinardflyfishers.co.uk
SUMMARY:ALL DAY SESSION
DESCRIPTION:G.PAGOAGA
URL:https://forsinardflyfishers.co.uk/booking/all-day-session-274/
CATEGORIES:Loch Ealach Mor
END:VEVENT
BEGIN:VEVENT
DTSTART;TZID=Europe/London:20210829T090000
DTEND;TZID=Europe/London:20210829T220000
DTSTAMP:20260420T153741
CREATED:20210725T174827Z
LAST-MODIFIED:20210725T174827Z
UID:10001092-1630227600-1630274400@forsinardflyfishers.co.uk
SUMMARY:ALL DAY SESSION
DESCRIPTION:K.MCKENZIE +1
URL:https://forsinardflyfishers.co.uk/booking/all-day-session-245/
CATEGORIES:Loch Leir
END:VEVENT
BEGIN:VEVENT
DTSTART;TZID=Europe/London:20210828T090000
DTEND;TZID=Europe/London:20210828T223000
DTSTAMP:20260420T153741
CREATED:20210807T060143Z
LAST-MODIFIED:20210807T060143Z
UID:10001110-1630141200-1630189800@forsinardflyfishers.co.uk
SUMMARY:ALL DAY SESSION
DESCRIPTION:J.WASTLE
URL:https://forsinardflyfishers.co.uk/booking/all-day-session-255/
CATEGORIES:Cross Lochs
END:VEVENT
BEGIN:VEVENT
DTSTART;TZID=Europe/London:20210828T090000
DTEND;TZID=Europe/London:20210828T220000
DTSTAMP:20260420T153741
CREATED:20210823T061524Z
LAST-MODIFIED:20210823T061524Z
UID:10001118-1630141200-1630188000@forsinardflyfishers.co.uk
SUMMARY:ALL DAY SESSION
DESCRIPTION:T.BONNER + 3 BOAT
URL:https://forsinardflyfishers.co.uk/booking/all-day-session-273/
CATEGORIES:Loch Skyline
END:VEVENT
BEGIN:VEVENT
DTSTART;TZID=Europe/London:20210828T090000
DTEND;TZID=Europe/London:20210828T220000
DTSTAMP:20260420T153741
CREATED:20210823T061304Z
LAST-MODIFIED:20210823T061304Z
UID:10001117-1630141200-1630188000@forsinardflyfishers.co.uk
SUMMARY:ALL DAY SESSION
DESCRIPTION:K.PORTEOUS + 1
URL:https://forsinardflyfishers.co.uk/booking/all-day-session-272/
CATEGORIES:Loch Coulbackie
END:VEVENT
BEGIN:VEVENT
DTSTART;TZID=Europe/London:20210828T090000
DTEND;TZID=Europe/London:20210828T220000
DTSTAMP:20260420T153741
CREATED:20210821T062356Z
LAST-MODIFIED:20210821T062356Z
UID:10000872-1630141200-1630188000@forsinardflyfishers.co.uk
SUMMARY:ALL DAY SESSION
DESCRIPTION:G.PAGOAGA
URL:https://forsinardflyfishers.co.uk/booking/all-day-session-267/
CATEGORIES:Loch Talaheel
END:VEVENT
BEGIN:VEVENT
DTSTART;TZID=Europe/London:20210827T090000
DTEND;TZID=Europe/London:20210827T220000
DTSTAMP:20260420T153741
CREATED:20210618T142035Z
LAST-MODIFIED:20210618T142035Z
UID:10001038-1630054800-1630101600@forsinardflyfishers.co.uk
SUMMARY:ALL DAY SESSION
DESCRIPTION:G.PAGOAGA
URL:https://forsinardflyfishers.co.uk/booking/all-day-session-214/
CATEGORIES:Loch Caol Altnabreac
END:VEVENT
BEGIN:VEVENT
DTSTART;TZID=Europe/London:20210827T090000
DTEND;TZID=Europe/London:20210827T213000
DTSTAMP:20260420T153741
CREATED:20210821T063400Z
LAST-MODIFIED:20210821T063400Z
UID:10001116-1630054800-1630099800@forsinardflyfishers.co.uk
SUMMARY:ALL DAY SESSION
DESCRIPTION:J.WASTLE
URL:https://forsinardflyfishers.co.uk/booking/all-day-session-271/
CATEGORIES:Loch na h-Eaglaise Beag,Loch na h-Eaglasie Mor (South end),Loch nan Clach,Loch nan Gall
END:VEVENT
BEGIN:VEVENT
DTSTART;TZID=Europe/London:20210826T090000
DTEND;TZID=Europe/London:20210826T220000
DTSTAMP:20260420T153741
CREATED:20210807T060053Z
LAST-MODIFIED:20210807T060053Z
UID:10001109-1629968400-1630015200@forsinardflyfishers.co.uk
SUMMARY:ALL DAY SESSION
DESCRIPTION:J.WASTLE
URL:https://forsinardflyfishers.co.uk/booking/all-day-session-254/
CATEGORIES:Loch na Seilge
END:VEVENT
BEGIN:VEVENT
DTSTART;TZID=Europe/London:20210826T090000
DTEND;TZID=Europe/London:20210826T213000
DTSTAMP:20260420T153741
CREATED:20210821T062753Z
LAST-MODIFIED:20210821T062753Z
UID:10000874-1629968400-1630013400@forsinardflyfishers.co.uk
SUMMARY:ALL DAY SESSION
DESCRIPTION:D.ROBSON
URL:https://forsinardflyfishers.co.uk/booking/all-day-session-269/
CATEGORIES:Loch Clach Geala
END:VEVENT
BEGIN:VEVENT
DTSTART;TZID=Europe/London:20210825T090000
DTEND;TZID=Europe/London:20210825T220000
DTSTAMP:20260420T153741
CREATED:20210821T063052Z
LAST-MODIFIED:20210821T063052Z
UID:10001115-1629882000-1629928800@forsinardflyfishers.co.uk
SUMMARY:ALL DAY SESSION
DESCRIPTION:M.HENDERSON
URL:https://forsinardflyfishers.co.uk/booking/all-day-session-270/
CATEGORIES:Loch Bad A'Bothain
END:VEVENT
BEGIN:VEVENT
DTSTART;TZID=Europe/London:20210824T090000
DTEND;TZID=Europe/London:20210824T223000
DTSTAMP:20260420T153741
CREATED:20210702T064152Z
LAST-MODIFIED:20210702T064152Z
UID:10001061-1629795600-1629844200@forsinardflyfishers.co.uk
SUMMARY:ALL DAY SESSION
DESCRIPTION:T.BONNER + 2 (BOAT)
URL:https://forsinardflyfishers.co.uk/booking/all-day-session-228/
CATEGORIES:Loch Slethill
END:VEVENT
BEGIN:VEVENT
DTSTART;TZID=Europe/London:20210824T090000
DTEND;TZID=Europe/London:20210824T220000
DTSTAMP:20260420T153741
CREATED:20210821T062635Z
LAST-MODIFIED:20210821T062635Z
UID:10000873-1629795600-1629842400@forsinardflyfishers.co.uk
SUMMARY:ALL DAY SESSION
DESCRIPTION:D.ROBSON
URL:https://forsinardflyfishers.co.uk/booking/all-day-session-268/
CATEGORIES:Loch Coulbackie
END:VEVENT
BEGIN:VEVENT
DTSTART;TZID=Europe/London:20210823T090000
DTEND;TZID=Europe/London:20210823T200000
DTSTAMP:20260420T153741
CREATED:20210818T062614Z
LAST-MODIFIED:20210818T062614Z
UID:10000869-1629709200-1629748800@forsinardflyfishers.co.uk
SUMMARY:ALL DAY SESSION
DESCRIPTION:G.PAGOAGA
URL:https://forsinardflyfishers.co.uk/booking/all-day-session-264/
CATEGORIES:Loch Ealach Mor
END:VEVENT
BEGIN:VEVENT
DTSTART;TZID=Europe/London:20210822T090000
DTEND;TZID=Europe/London:20210822T210000
DTSTAMP:20260420T153741
CREATED:20210516T192738Z
LAST-MODIFIED:20210516T192738Z
UID:10000795-1629622800-1629666000@forsinardflyfishers.co.uk
SUMMARY:ALL DAY SESSION
DESCRIPTION:G.WARREN + 1 BOAT
URL:https://forsinardflyfishers.co.uk/booking/all-day-session-160/
CATEGORIES:Loch Leir
END:VEVENT
BEGIN:VEVENT
DTSTART;TZID=Europe/London:20210820T090000
DTEND;TZID=Europe/London:20210820T220000
DTSTAMP:20260420T153741
CREATED:20210818T062450Z
LAST-MODIFIED:20210818T062450Z
UID:10000868-1629450000-1629496800@forsinardflyfishers.co.uk
SUMMARY:ALL DAY SESSION
DESCRIPTION:G.PAGOAGA
URL:https://forsinardflyfishers.co.uk/booking/all-day-session-263/
CATEGORIES:Loch Talaheel
END:VEVENT
BEGIN:VEVENT
DTSTART;TZID=Europe/London:20210820T090000
DTEND;TZID=Europe/London:20210820T220000
DTSTAMP:20260420T153741
CREATED:20210528T180645Z
LAST-MODIFIED:20210528T180645Z
UID:10000996-1629450000-1629496800@forsinardflyfishers.co.uk
SUMMARY:ALL DAY SESSION
DESCRIPTION:SANDY CUMMING + 3
URL:https://forsinardflyfishers.co.uk/booking/all-day-session-175/
CATEGORIES:Loch Slethill
END:VEVENT
BEGIN:VEVENT
DTSTART;TZID=Europe/London:20210819T090000
DTEND;TZID=Europe/London:20210819T220000
DTSTAMP:20260420T153741
CREATED:20210807T061021Z
LAST-MODIFIED:20210807T061021Z
UID:10001113-1629363600-1629410400@forsinardflyfishers.co.uk
SUMMARY:ALL DAY SESSION
DESCRIPTION:S.CUMMING + 2
URL:https://forsinardflyfishers.co.uk/booking/all-day-session-258/
CATEGORIES:Loch Bad A'Bothain
END:VEVENT
BEGIN:VEVENT
DTSTART;TZID=Europe/London:20210818T090000
DTEND;TZID=Europe/London:20210818T220000
DTSTAMP:20260420T153741
CREATED:20210807T060846Z
LAST-MODIFIED:20210807T060846Z
UID:10001112-1629277200-1629324000@forsinardflyfishers.co.uk
SUMMARY:ALL DAY SESSION
DESCRIPTION:G.PAGOAGA + 1
URL:https://forsinardflyfishers.co.uk/booking/all-day-session-257/
CATEGORIES:Loch Leir
END:VEVENT
BEGIN:VEVENT
DTSTART;TZID=Europe/London:20210816T090000
DTEND;TZID=Europe/London:20210816T220000
DTSTAMP:20260420T153741
CREATED:20210510T141928Z
LAST-MODIFIED:20210510T141928Z
UID:10000953-1629104400-1629151200@forsinardflyfishers.co.uk
SUMMARY:ALL DAY SESSION
DESCRIPTION:S.LEACH + 1
URL:https://forsinardflyfishers.co.uk/booking/all-day-session-150/
CATEGORIES:Loch Slethill
END:VEVENT
BEGIN:VEVENT
DTSTART;TZID=Europe/London:20210814T090000
DTEND;TZID=Europe/London:20210814T220000
DTSTAMP:20260420T153741
CREATED:20210804T074717Z
LAST-MODIFIED:20210804T074717Z
UID:10001106-1628931600-1628978400@forsinardflyfishers.co.uk
SUMMARY:ALL DAY SESSION
DESCRIPTION:G.PAGOAGA
URL:https://forsinardflyfishers.co.uk/booking/all-day-session-252/
CATEGORIES:Loch Skyline
END:VEVENT
BEGIN:VEVENT
DTSTART;TZID=Europe/London:20210814T090000
DTEND;TZID=Europe/London:20210814T200000
DTSTAMP:20260420T153741
CREATED:20210510T141719Z
LAST-MODIFIED:20210510T141719Z
UID:10000952-1628931600-1628971200@forsinardflyfishers.co.uk
SUMMARY:ALL DAY SESSION
DESCRIPTION:S.BALBACH
URL:https://forsinardflyfishers.co.uk/booking/all-day-session-149/
CATEGORIES:Loch Leir
END:VEVENT
BEGIN:VEVENT
DTSTART;TZID=Europe/London:20210812T090000
DTEND;TZID=Europe/London:20210812T220000
DTSTAMP:20260420T153741
CREATED:20210810T044655Z
LAST-MODIFIED:20210810T044655Z
UID:10000866-1628758800-1628805600@forsinardflyfishers.co.uk
SUMMARY:ALL DAY SESSION
DESCRIPTION:I.CARTWRIGHT + 1 BOAT
URL:https://forsinardflyfishers.co.uk/booking/all-day-session-261/
CATEGORIES:Loch Caol Altnabreac
END:VEVENT
BEGIN:VEVENT
DTSTART;TZID=Europe/London:20210812T090000
DTEND;TZID=Europe/London:20210812T220000
DTSTAMP:20260420T153741
CREATED:20210618T141940Z
LAST-MODIFIED:20210618T141940Z
UID:10001037-1628758800-1628805600@forsinardflyfishers.co.uk
SUMMARY:ALL DAY SESSION
DESCRIPTION:G.PAGOAGA
URL:https://forsinardflyfishers.co.uk/booking/all-day-session-213/
CATEGORIES:Loch Slethill
END:VEVENT
BEGIN:VEVENT
DTSTART;TZID=Europe/London:20210809T090000
DTEND;TZID=Europe/London:20210811T180000
DTSTAMP:20260420T153741
CREATED:20210402T090729Z
LAST-MODIFIED:20210402T090729Z
UID:10000775-1628499600-1628704800@forsinardflyfishers.co.uk
SUMMARY:NO FISHING AVAILABLE
DESCRIPTION:
URL:https://forsinardflyfishers.co.uk/booking/no-fishing-available-7/
CATEGORIES:Cross Lochs,Loch Bad A'Bothain,Loch Caol Altnabreac,Loch Clach Geala,Loch Crocach,Loch Ealach Mor,Loch Leir,Loch Na Cloiche,Loch Na Saobhaide,Loch Skyline,Loch Slethill,Loch Talaheel,Lochan Nam Breac
END:VEVENT
END:VCALENDAR