BEGIN:VCALENDAR
VERSION:2.0
PRODID:-//Forsinard Flyfishers&#039; Club - ECPv6.15.20//NONSGML v1.0//EN
CALSCALE:GREGORIAN
METHOD:PUBLISH
X-WR-CALNAME:Forsinard Flyfishers&#039; Club
X-ORIGINAL-URL:https://forsinardflyfishers.co.uk
X-WR-CALDESC:Events for Forsinard Flyfishers&#039; Club
REFRESH-INTERVAL;VALUE=DURATION:PT1H
X-Robots-Tag:noindex
X-PUBLISHED-TTL:PT1H
BEGIN:VTIMEZONE
TZID:Europe/London
BEGIN:DAYLIGHT
TZOFFSETFROM:+0000
TZOFFSETTO:+0100
TZNAME:BST
DTSTART:20220327T010000
END:DAYLIGHT
BEGIN:STANDARD
TZOFFSETFROM:+0100
TZOFFSETTO:+0000
TZNAME:GMT
DTSTART:20221030T010000
END:STANDARD
BEGIN:DAYLIGHT
TZOFFSETFROM:+0000
TZOFFSETTO:+0100
TZNAME:BST
DTSTART:20230326T010000
END:DAYLIGHT
BEGIN:STANDARD
TZOFFSETFROM:+0100
TZOFFSETTO:+0000
TZNAME:GMT
DTSTART:20231029T010000
END:STANDARD
BEGIN:DAYLIGHT
TZOFFSETFROM:+0000
TZOFFSETTO:+0100
TZNAME:BST
DTSTART:20240331T010000
END:DAYLIGHT
BEGIN:STANDARD
TZOFFSETFROM:+0100
TZOFFSETTO:+0000
TZNAME:GMT
DTSTART:20241027T010000
END:STANDARD
END:VTIMEZONE
BEGIN:VEVENT
DTSTART;TZID=Europe/London:20230601T090000
DTEND;TZID=Europe/London:20230601T200000
DTSTAMP:20260421T115048
CREATED:20230528T162332Z
LAST-MODIFIED:20230528T162332Z
UID:10001573-1685610000-1685649600@forsinardflyfishers.co.uk
SUMMARY:ALL DAY SESSION
DESCRIPTION:I.MACALLAM
URL:https://forsinardflyfishers.co.uk/booking/all-day-session-703/
CATEGORIES:Loch Garbh
END:VEVENT
BEGIN:VEVENT
DTSTART;TZID=Europe/London:20230601T090000
DTEND;TZID=Europe/London:20230601T180000
DTSTAMP:20260421T115048
CREATED:20230403T190600Z
LAST-MODIFIED:20230403T190600Z
UID:10001508-1685610000-1685642400@forsinardflyfishers.co.uk
SUMMARY:ALL DAY SESSION
DESCRIPTION:A.BATES
URL:https://forsinardflyfishers.co.uk/booking/all-day-session-642/
CATEGORIES:Lochan Croc nan Lair
END:VEVENT
BEGIN:VEVENT
DTSTART;TZID=Europe/London:20230531T090000
DTEND;TZID=Europe/London:20230531T223000
DTSTAMP:20260421T115048
CREATED:20230403T190400Z
LAST-MODIFIED:20230403T190400Z
UID:10001507-1685523600-1685572200@forsinardflyfishers.co.uk
SUMMARY:ALL DAY SESSION
DESCRIPTION:D.THOMPSON
URL:https://forsinardflyfishers.co.uk/booking/all-day-session-641/
CATEGORIES:Lochan Croc nan Lair
END:VEVENT
BEGIN:VEVENT
DTSTART;TZID=Europe/London:20230531T090000
DTEND;TZID=Europe/London:20230531T223000
DTSTAMP:20260421T115048
CREATED:20230403T190256Z
LAST-MODIFIED:20230403T190256Z
UID:10001506-1685523600-1685572200@forsinardflyfishers.co.uk
SUMMARY:ALL DAY SESSION
DESCRIPTION:J.MORGAN
URL:https://forsinardflyfishers.co.uk/booking/all-day-session-640/
CATEGORIES:Loch Coulbackie
END:VEVENT
BEGIN:VEVENT
DTSTART;TZID=Europe/London:20230530T090000
DTEND;TZID=Europe/London:20230601T223000
DTSTAMP:20260421T115048
CREATED:20230403T173436Z
LAST-MODIFIED:20230403T173436Z
UID:10001488-1685437200-1685658600@forsinardflyfishers.co.uk
SUMMARY:NO FISHING AVAILABLE
DESCRIPTION:NO FISHING AVAILABLE
URL:https://forsinardflyfishers.co.uk/booking/no-fishing-available-26/
CATEGORIES:Cross Lochs,Loch Bad A'Bothain,Loch Caol Altnabreac,Loch Clach Geala,Loch Crocach,Loch Ealach Mor,Loch Leir,Loch Na Cloiche,Loch Na Saobhaide,Loch Skyline,Loch Slethill,Loch Talaheel,Lochan Nam Breac
END:VEVENT
BEGIN:VEVENT
DTSTART;TZID=Europe/London:20230530T090000
DTEND;TZID=Europe/London:20230530T223000
DTSTAMP:20260421T115048
CREATED:20230403T190203Z
LAST-MODIFIED:20230403T190203Z
UID:10001505-1685437200-1685485800@forsinardflyfishers.co.uk
SUMMARY:ALL DAY SESSION
DESCRIPTION:J.MORGAN
URL:https://forsinardflyfishers.co.uk/booking/all-day-session-639/
CATEGORIES:Caol North
END:VEVENT
BEGIN:VEVENT
DTSTART;TZID=Europe/London:20230529T090000
DTEND;TZID=Europe/London:20230529T223000
DTSTAMP:20260421T115048
CREATED:20230528T162813Z
LAST-MODIFIED:20230528T162813Z
UID:10001577-1685350800-1685399400@forsinardflyfishers.co.uk
SUMMARY:ALL DAY SESSION
DESCRIPTION:L.MACNEIL
URL:https://forsinardflyfishers.co.uk/booking/all-day-session-707/
CATEGORIES:Loch Coulbackie
END:VEVENT
BEGIN:VEVENT
DTSTART;TZID=Europe/London:20230529T090000
DTEND;TZID=Europe/London:20230529T223000
DTSTAMP:20260421T115048
CREATED:20230517T051844Z
LAST-MODIFIED:20230517T051844Z
UID:10001566-1685350800-1685399400@forsinardflyfishers.co.uk
SUMMARY:ALL DAY SESSION
DESCRIPTION:I.CARTWRIGHT
URL:https://forsinardflyfishers.co.uk/booking/all-day-session-696/
CATEGORIES:Cross Lochs
END:VEVENT
BEGIN:VEVENT
DTSTART;TZID=Europe/London:20230529T090000
DTEND;TZID=Europe/London:20230529T223000
DTSTAMP:20260421T115048
CREATED:20230403T190106Z
LAST-MODIFIED:20230403T190106Z
UID:10001504-1685350800-1685399400@forsinardflyfishers.co.uk
SUMMARY:ALL DAY SESSION
DESCRIPTION:J.MORGAN
URL:https://forsinardflyfishers.co.uk/booking/all-day-session-638/
CATEGORIES:Loch Slethill
END:VEVENT
BEGIN:VEVENT
DTSTART;TZID=Europe/London:20230526T090000
DTEND;TZID=Europe/London:20230526T200000
DTSTAMP:20260421T115048
CREATED:20230518T162931Z
LAST-MODIFIED:20230518T162931Z
UID:10001569-1685091600-1685131200@forsinardflyfishers.co.uk
SUMMARY:ALL DAY SESSION
DESCRIPTION:B.JONES
URL:https://forsinardflyfishers.co.uk/booking/all-day-session-699/
CATEGORIES:Loch Caol Altnabreac
END:VEVENT
BEGIN:VEVENT
DTSTART;TZID=Europe/London:20230526T090000
DTEND;TZID=Europe/London:20230526T200000
DTSTAMP:20260421T115048
CREATED:20230517T052202Z
LAST-MODIFIED:20230517T052202Z
UID:10001567-1685091600-1685131200@forsinardflyfishers.co.uk
SUMMARY:ALL DAY SESSION
DESCRIPTION:S.CUMMING
URL:https://forsinardflyfishers.co.uk/booking/all-day-session-697/
CATEGORIES:Loch Achridigill
END:VEVENT
BEGIN:VEVENT
DTSTART;TZID=Europe/London:20230525T090000
DTEND;TZID=Europe/London:20230525T223000
DTSTAMP:20260421T115048
CREATED:20230521T171546Z
LAST-MODIFIED:20230521T171546Z
UID:10001571-1685005200-1685053800@forsinardflyfishers.co.uk
SUMMARY:ALL DAY SESSION
DESCRIPTION:J.LIVINGSTONE/N.BORLAND
URL:https://forsinardflyfishers.co.uk/booking/all-day-session-701/
CATEGORIES:Loch Earacha
END:VEVENT
BEGIN:VEVENT
DTSTART;TZID=Europe/London:20230525T090000
DTEND;TZID=Europe/London:20230525T203000
DTSTAMP:20260421T115048
CREATED:20230518T163102Z
LAST-MODIFIED:20230518T163102Z
UID:10001570-1685005200-1685046600@forsinardflyfishers.co.uk
SUMMARY:ALL DAY SESSION
DESCRIPTION:T.BURN
URL:https://forsinardflyfishers.co.uk/booking/all-day-session-700/
CATEGORIES:Loch Leir
END:VEVENT
BEGIN:VEVENT
DTSTART;TZID=Europe/London:20230524T090000
DTEND;TZID=Europe/London:20230524T220000
DTSTAMP:20260421T115048
CREATED:20230422T175343Z
LAST-MODIFIED:20230422T175343Z
UID:10001529-1684918800-1684965600@forsinardflyfishers.co.uk
SUMMARY:ALL DAY SESSION
DESCRIPTION:J.LIVINGSTONE
URL:https://forsinardflyfishers.co.uk/booking/all-day-session-663/
CATEGORIES:Loch Slethill
END:VEVENT
BEGIN:VEVENT
DTSTART;TZID=Europe/London:20230523T090000
DTEND;TZID=Europe/London:20230523T223000
DTSTAMP:20260421T115048
CREATED:20230513T062153Z
LAST-MODIFIED:20230513T062153Z
UID:10001562-1684832400-1684881000@forsinardflyfishers.co.uk
SUMMARY:ALL DAY SESSION
DESCRIPTION:I.Cartwright/T.Bracey
URL:https://forsinardflyfishers.co.uk/booking/all-day-session-692/
CATEGORIES:Caol North
END:VEVENT
BEGIN:VEVENT
DTSTART;TZID=Europe/London:20230523T090000
DTEND;TZID=Europe/London:20230523T200000
DTSTAMP:20260421T115048
CREATED:20230511T092536Z
LAST-MODIFIED:20230511T092536Z
UID:10001551-1684832400-1684872000@forsinardflyfishers.co.uk
SUMMARY:ALL DAY SESSION
DESCRIPTION:J.LIVINGSTONE\, N.BORLAND
URL:https://forsinardflyfishers.co.uk/booking/all-day-session-682/
CATEGORIES:Lochan Croc nan Lair
END:VEVENT
BEGIN:VEVENT
DTSTART;TZID=Europe/London:20230522T090000
DTEND;TZID=Europe/London:20230522T200000
DTSTAMP:20260421T115048
CREATED:20230518T162844Z
LAST-MODIFIED:20230518T162844Z
UID:10001568-1684746000-1684785600@forsinardflyfishers.co.uk
SUMMARY:ALL DAY SESSION
DESCRIPTION:T.BURN
URL:https://forsinardflyfishers.co.uk/booking/all-day-session-698/
CATEGORIES:Loch Caol Altnabreac
END:VEVENT
BEGIN:VEVENT
DTSTART;TZID=Europe/London:20230521T090000
DTEND;TZID=Europe/London:20230521T220000
DTSTAMP:20260421T115048
CREATED:20230422T175603Z
LAST-MODIFIED:20230422T175603Z
UID:10001530-1684659600-1684706400@forsinardflyfishers.co.uk
SUMMARY:ALL DAY SESSION
DESCRIPTION:J.LIVINGSTONE
URL:https://forsinardflyfishers.co.uk/booking/all-day-session-664/
CATEGORIES:Loch Leir
END:VEVENT
BEGIN:VEVENT
DTSTART;TZID=Europe/London:20230520T090000
DTEND;TZID=Europe/London:20230520T223000
DTSTAMP:20260421T115048
CREATED:20230507T061913Z
LAST-MODIFIED:20230507T061913Z
UID:10001546-1684573200-1684621800@forsinardflyfishers.co.uk
SUMMARY:ALL DAY SESSION
DESCRIPTION:G.MACKAY
URL:https://forsinardflyfishers.co.uk/booking/all-day-session-612/
CATEGORIES:Loch Skyline
END:VEVENT
BEGIN:VEVENT
DTSTART;TZID=Europe/London:20230520T090000
DTEND;TZID=Europe/London:20230520T223000
DTSTAMP:20260421T115048
CREATED:20230401T001913Z
LAST-MODIFIED:20230403T174432Z
UID:10001414-1684573200-1684621800@forsinardflyfishers.co.uk
SUMMARY:ALL DAY SESSION
DESCRIPTION:I.MACALLUM
URL:https://forsinardflyfishers.co.uk/booking/all-day-session-556/
CATEGORIES:Loch Slethill
END:VEVENT
BEGIN:VEVENT
DTSTART;TZID=Europe/London:20230519T090000
DTEND;TZID=Europe/London:20230519T223000
DTSTAMP:20260421T115048
CREATED:20230401T004103Z
LAST-MODIFIED:20230401T004103Z
UID:10001426-1684486800-1684535400@forsinardflyfishers.co.uk
SUMMARY:ALL DAY SESSION
DESCRIPTION:R.BALDWIN/NAT BALDWIN/OLIVIA FINCH
URL:https://forsinardflyfishers.co.uk/booking/all-day-session-568/
CATEGORIES:Loch na Seilge
END:VEVENT
BEGIN:VEVENT
DTSTART;TZID=Europe/London:20230519T090000
DTEND;TZID=Europe/London:20230519T223000
DTSTAMP:20260421T115048
CREATED:20230401T001829Z
LAST-MODIFIED:20230401T001829Z
UID:10001413-1684486800-1684535400@forsinardflyfishers.co.uk
SUMMARY:ALL DAY SESSION
DESCRIPTION:R.HARDY
URL:https://forsinardflyfishers.co.uk/booking/all-day-session-555/
CATEGORIES:Loch Caol Altnabreac
END:VEVENT
BEGIN:VEVENT
DTSTART;TZID=Europe/London:20230518T090000
DTEND;TZID=Europe/London:20230518T220000
DTSTAMP:20260421T115048
CREATED:20230517T051554Z
LAST-MODIFIED:20230517T051554Z
UID:10001565-1684400400-1684447200@forsinardflyfishers.co.uk
SUMMARY:ALL DAY SESSION
DESCRIPTION:D.ROBSON
URL:https://forsinardflyfishers.co.uk/booking/all-day-session-695/
CATEGORIES:Loch a Mhuilinn
END:VEVENT
BEGIN:VEVENT
DTSTART;TZID=Europe/London:20230518T090000
DTEND;TZID=Europe/London:20230518T220000
DTSTAMP:20260421T115048
CREATED:20230401T001734Z
LAST-MODIFIED:20230401T001734Z
UID:10001412-1684400400-1684447200@forsinardflyfishers.co.uk
SUMMARY:ALL DAY SESSION
DESCRIPTION:R.HARDY/IMACALLUM
URL:https://forsinardflyfishers.co.uk/booking/all-day-session-554/
CATEGORIES:Loch Achridigill,Loch Coulbackie
END:VEVENT
BEGIN:VEVENT
DTSTART;TZID=Europe/London:20230517T090000
DTEND;TZID=Europe/London:20230517T213000
DTSTAMP:20260421T115048
CREATED:20230401T001622Z
LAST-MODIFIED:20230403T174259Z
UID:10001411-1684314000-1684359000@forsinardflyfishers.co.uk
SUMMARY:ALL DAY SESSION
DESCRIPTION:I.MACALLUM
URL:https://forsinardflyfishers.co.uk/booking/all-day-session-553/
CATEGORIES:Loch Caise,Lochan Croc nan Lair
END:VEVENT
BEGIN:VEVENT
DTSTART;TZID=Europe/London:20230514T090000
DTEND;TZID=Europe/London:20230514T223000
DTSTAMP:20260421T115048
CREATED:20230513T061555Z
LAST-MODIFIED:20230513T061555Z
UID:10001561-1684054800-1684103400@forsinardflyfishers.co.uk
SUMMARY:ALL DAY SESSION
DESCRIPTION:M.Wigan
URL:https://forsinardflyfishers.co.uk/booking/all-day-session-691/
CATEGORIES:Loch Caise
END:VEVENT
BEGIN:VEVENT
DTSTART;TZID=Europe/London:20230514T090000
DTEND;TZID=Europe/London:20230514T223000
DTSTAMP:20260421T115048
CREATED:20230420T072837Z
LAST-MODIFIED:20230420T072837Z
UID:10001527-1684054800-1684103400@forsinardflyfishers.co.uk
SUMMARY:ALL DAY SESSION
DESCRIPTION:J.WASTLE
URL:https://forsinardflyfishers.co.uk/booking/all-day-session-661/
CATEGORIES:Caol North
END:VEVENT
BEGIN:VEVENT
DTSTART;TZID=Europe/London:20230513T090000
DTEND;TZID=Europe/London:20230513T230000
DTSTAMP:20260421T115048
CREATED:20230503T114946Z
LAST-MODIFIED:20230503T114946Z
UID:10001542-1683968400-1684018800@forsinardflyfishers.co.uk
SUMMARY:ALL DAY SESSION
DESCRIPTION:H.SCURFIELD
URL:https://forsinardflyfishers.co.uk/booking/all-day-session-674/
CATEGORIES:Loch Slethill
END:VEVENT
BEGIN:VEVENT
DTSTART;TZID=Europe/London:20230513T090000
DTEND;TZID=Europe/London:20230513T223000
DTSTAMP:20260421T115048
CREATED:20230512T185836Z
LAST-MODIFIED:20230512T185836Z
UID:10001553-1683968400-1684017000@forsinardflyfishers.co.uk
SUMMARY:ALL DAY SESSION
DESCRIPTION:P.SMITH
URL:https://forsinardflyfishers.co.uk/booking/all-day-session-683/
CATEGORIES:Loch na h-Eaglaise Beag
END:VEVENT
BEGIN:VEVENT
DTSTART;TZID=Europe/London:20230513T090000
DTEND;TZID=Europe/London:20230513T200000
DTSTAMP:20260421T115048
CREATED:20230420T072925Z
LAST-MODIFIED:20230420T072925Z
UID:10001528-1683968400-1684008000@forsinardflyfishers.co.uk
SUMMARY:ALL DAY SESSION
DESCRIPTION:J.WASTLE
URL:https://forsinardflyfishers.co.uk/booking/all-day-session-662/
CATEGORIES:Loch Skyline
END:VEVENT
END:VCALENDAR