BEGIN:VCALENDAR
VERSION:2.0
PRODID:-//Forsinard Flyfishers&#039; Club - ECPv6.15.20//NONSGML v1.0//EN
CALSCALE:GREGORIAN
METHOD:PUBLISH
X-WR-CALNAME:Forsinard Flyfishers&#039; Club
X-ORIGINAL-URL:https://forsinardflyfishers.co.uk
X-WR-CALDESC:Events for Forsinard Flyfishers&#039; Club
REFRESH-INTERVAL;VALUE=DURATION:PT1H
X-Robots-Tag:noindex
X-PUBLISHED-TTL:PT1H
BEGIN:VTIMEZONE
TZID:Europe/London
BEGIN:DAYLIGHT
TZOFFSETFROM:+0000
TZOFFSETTO:+0100
TZNAME:BST
DTSTART:20210328T010000
END:DAYLIGHT
BEGIN:STANDARD
TZOFFSETFROM:+0100
TZOFFSETTO:+0000
TZNAME:GMT
DTSTART:20211031T010000
END:STANDARD
BEGIN:DAYLIGHT
TZOFFSETFROM:+0000
TZOFFSETTO:+0100
TZNAME:BST
DTSTART:20220327T010000
END:DAYLIGHT
BEGIN:STANDARD
TZOFFSETFROM:+0100
TZOFFSETTO:+0000
TZNAME:GMT
DTSTART:20221030T010000
END:STANDARD
BEGIN:DAYLIGHT
TZOFFSETFROM:+0000
TZOFFSETTO:+0100
TZNAME:BST
DTSTART:20230326T010000
END:DAYLIGHT
BEGIN:STANDARD
TZOFFSETFROM:+0100
TZOFFSETTO:+0000
TZNAME:GMT
DTSTART:20231029T010000
END:STANDARD
END:VTIMEZONE
BEGIN:VEVENT
DTSTART;TZID=Europe/London:20220618T090000
DTEND;TZID=Europe/London:20220618T230000
DTSTAMP:20260421T213042
CREATED:20220611T194837Z
LAST-MODIFIED:20220611T194837Z
UID:10001053-1655542800-1655593200@forsinardflyfishers.co.uk
SUMMARY:ALL DAY SESSION
DESCRIPTION:D.HOWE
URL:https://forsinardflyfishers.co.uk/booking/all-day-session-416/
CATEGORIES:Loch Caise
END:VEVENT
BEGIN:VEVENT
DTSTART;TZID=Europe/London:20220618T090000
DTEND;TZID=Europe/London:20220618T230000
DTSTAMP:20260421T213042
CREATED:20220403T180804Z
LAST-MODIFIED:20220403T181432Z
UID:10001226-1655542800-1655593200@forsinardflyfishers.co.uk
SUMMARY:ALL DAY SESSION
DESCRIPTION:I.MACALLUM
URL:https://forsinardflyfishers.co.uk/booking/all-day-session-322/
CATEGORIES:Loch Talaheel
END:VEVENT
BEGIN:VEVENT
DTSTART;TZID=Europe/London:20220618T090000
DTEND;TZID=Europe/London:20220618T230000
DTSTAMP:20260421T213042
CREATED:20220403T180717Z
LAST-MODIFIED:20220403T181345Z
UID:10001225-1655542800-1655593200@forsinardflyfishers.co.uk
SUMMARY:ALL DAY SESSION
DESCRIPTION:R.HARDY
URL:https://forsinardflyfishers.co.uk/booking/all-day-session-321/
CATEGORIES:Loch Ealach Mor
END:VEVENT
BEGIN:VEVENT
DTSTART;TZID=Europe/London:20220618T090000
DTEND;TZID=Europe/London:20220618T220000
DTSTAMP:20260421T213042
CREATED:20220610T184822Z
LAST-MODIFIED:20220610T184822Z
UID:10001292-1655542800-1655589600@forsinardflyfishers.co.uk
SUMMARY:ALL DAY SESSION
DESCRIPTION:R.BRANKIN FRISBY
URL:https://forsinardflyfishers.co.uk/booking/all-day-session-406/
CATEGORIES:Loch Garbh
END:VEVENT
BEGIN:VEVENT
DTSTART;TZID=Europe/London:20220618T090000
DTEND;TZID=Europe/London:20220618T180000
DTSTAMP:20260421T213042
CREATED:20220401T010610Z
LAST-MODIFIED:20220401T010610Z
UID:10001176-1655542800-1655575200@forsinardflyfishers.co.uk
SUMMARY:DAY SESSION
DESCRIPTION:R.COLVIL\, R.SUTTON
URL:https://forsinardflyfishers.co.uk/booking/day-session-69/
CATEGORIES:Loch Caol Altnabreac
END:VEVENT
BEGIN:VEVENT
DTSTART;TZID=Europe/London:20220618T090000
DTEND;TZID=Europe/London:20220618T180000
DTSTAMP:20260421T213042
CREATED:20220401T005444Z
LAST-MODIFIED:20220401T005444Z
UID:10000934-1655542800-1655575200@forsinardflyfishers.co.uk
SUMMARY:DAY SESSION
DESCRIPTION:S.BALBACH\, B.WOODHOUSE
URL:https://forsinardflyfishers.co.uk/booking/day-session-63/
CATEGORIES:Loch Bad A'Bothain
END:VEVENT
BEGIN:VEVENT
DTSTART;TZID=Europe/London:20220618T090000
DTEND;TZID=Europe/London:20220618T180000
DTSTAMP:20260421T213042
CREATED:20220401T003437Z
LAST-MODIFIED:20220401T003437Z
UID:10001168-1655542800-1655575200@forsinardflyfishers.co.uk
SUMMARY:DAY SESSION
DESCRIPTION:M.GRANTHAM\, T.ROGERS
URL:https://forsinardflyfishers.co.uk/booking/day-session-49/
CATEGORIES:Loch Leir
END:VEVENT
BEGIN:VEVENT
DTSTART;TZID=Europe/London:20220617T090000
DTEND;TZID=Europe/London:20220617T230000
DTSTAMP:20260421T213042
CREATED:20220616T183523Z
LAST-MODIFIED:20220616T183523Z
UID:10001295-1655456400-1655506800@forsinardflyfishers.co.uk
SUMMARY:ALL DAY SESSION
DESCRIPTION:P.WILLIAMS\, G.WILLIAMS\, M.CORNEILSON
URL:https://forsinardflyfishers.co.uk/booking/all-day-session-421/
CATEGORIES:Bighouse Loch
END:VEVENT
BEGIN:VEVENT
DTSTART;TZID=Europe/London:20220617T090000
DTEND;TZID=Europe/London:20220617T230000
DTSTAMP:20260421T213042
CREATED:20220403T174720Z
LAST-MODIFIED:20220403T180242Z
UID:10000984-1655456400-1655506800@forsinardflyfishers.co.uk
SUMMARY:ALL DAY SESSION
DESCRIPTION:R.HARDY
URL:https://forsinardflyfishers.co.uk/booking/all-day-session-320/
CATEGORIES:Loch na Caorach
END:VEVENT
BEGIN:VEVENT
DTSTART;TZID=Europe/London:20220617T090000
DTEND;TZID=Europe/London:20220617T230000
DTSTAMP:20260421T213042
CREATED:20220403T174626Z
LAST-MODIFIED:20220403T180328Z
UID:10000983-1655456400-1655506800@forsinardflyfishers.co.uk
SUMMARY:ALL DAY SESSION
DESCRIPTION:I.MACALLAM
URL:https://forsinardflyfishers.co.uk/booking/all-day-session-319/
CATEGORIES:Loch na Seilge
END:VEVENT
BEGIN:VEVENT
DTSTART;TZID=Europe/London:20220617T090000
DTEND;TZID=Europe/London:20220617T223000
DTSTAMP:20260421T213042
CREATED:20220610T185428Z
LAST-MODIFIED:20220610T185428Z
UID:10001294-1655456400-1655505000@forsinardflyfishers.co.uk
SUMMARY:ALL DAY SESSION
DESCRIPTION:R.BRANKIN FRISBY
URL:https://forsinardflyfishers.co.uk/booking/all-day-session-409/
CATEGORIES:Loch na h-Eaglasie Mor (South end)
END:VEVENT
BEGIN:VEVENT
DTSTART;TZID=Europe/London:20220617T090000
DTEND;TZID=Europe/London:20220617T180000
DTSTAMP:20260421T213042
CREATED:20220401T004043Z
LAST-MODIFIED:20220401T004043Z
UID:10001173-1655456400-1655488800@forsinardflyfishers.co.uk
SUMMARY:DAY SESSION
DESCRIPTION:N.WHITLEY\, M.WHITLEY
URL:https://forsinardflyfishers.co.uk/booking/day-session-54/
CATEGORIES:Loch Clach Geala
END:VEVENT
BEGIN:VEVENT
DTSTART;TZID=Europe/London:20220617T090000
DTEND;TZID=Europe/London:20220617T180000
DTSTAMP:20260421T213042
CREATED:20220401T002452Z
LAST-MODIFIED:20220401T002452Z
UID:10001162-1655456400-1655488800@forsinardflyfishers.co.uk
SUMMARY:DAY SESSION
DESCRIPTION:R.SUTTON\, R.COLVIL
URL:https://forsinardflyfishers.co.uk/booking/day-session-43/
CATEGORIES:Loch Caise
END:VEVENT
BEGIN:VEVENT
DTSTART;TZID=Europe/London:20220617T090000
DTEND;TZID=Europe/London:20220617T180000
DTSTAMP:20260421T213042
CREATED:20220401T000946Z
LAST-MODIFIED:20220401T000946Z
UID:10001152-1655456400-1655488800@forsinardflyfishers.co.uk
SUMMARY:DAY SESSION
DESCRIPTION:W.GREEN\, D.GIBSON
URL:https://forsinardflyfishers.co.uk/booking/day-session-33/
CATEGORIES:Loch Garbh
END:VEVENT
BEGIN:VEVENT
DTSTART;TZID=Europe/London:20220616T090000
DTEND;TZID=Europe/London:20220616T230000
DTSTAMP:20260421T213042
CREATED:20220610T185226Z
LAST-MODIFIED:20220610T185226Z
UID:10001293-1655370000-1655420400@forsinardflyfishers.co.uk
SUMMARY:ALL DAY SESSION
DESCRIPTION:R.BRANKIN FRISBY
URL:https://forsinardflyfishers.co.uk/booking/all-day-session-408/
END:VEVENT
BEGIN:VEVENT
DTSTART;TZID=Europe/London:20220616T090000
DTEND;TZID=Europe/London:20220616T230000
DTSTAMP:20260421T213042
CREATED:20220403T182146Z
LAST-MODIFIED:20220403T182146Z
UID:10001231-1655370000-1655420400@forsinardflyfishers.co.uk
SUMMARY:ALL DAY SESSION
DESCRIPTION:M.PETRIE
URL:https://forsinardflyfishers.co.uk/booking/all-day-session-327/
CATEGORIES:Caol Loch (South),Loch an Fheoir
END:VEVENT
BEGIN:VEVENT
DTSTART;TZID=Europe/London:20220616T090000
DTEND;TZID=Europe/London:20220616T223000
DTSTAMP:20260421T213042
CREATED:20220615T171258Z
LAST-MODIFIED:20220615T171258Z
UID:10001058-1655370000-1655418600@forsinardflyfishers.co.uk
SUMMARY:ALL DAY SESSION
DESCRIPTION:L.SMART\, D.DUNSTON
URL:https://forsinardflyfishers.co.uk/booking/all-day-session-419/
CATEGORIES:Loch Caise,Loch Garbh
END:VEVENT
BEGIN:VEVENT
DTSTART;TZID=Europe/London:20220616T090000
DTEND;TZID=Europe/London:20220616T220000
DTSTAMP:20260421T213042
CREATED:20220612T121833Z
LAST-MODIFIED:20220612T121833Z
UID:10001055-1655370000-1655416800@forsinardflyfishers.co.uk
SUMMARY:ALL DAY SESSION
DESCRIPTION:PETER WILLIAMS + 2
URL:https://forsinardflyfishers.co.uk/booking/all-day-session-343/
CATEGORIES:Loch a Mhuilinn
END:VEVENT
BEGIN:VEVENT
DTSTART;TZID=Europe/London:20220616T090000
DTEND;TZID=Europe/London:20220616T193000
DTSTAMP:20260421T213042
CREATED:20220401T125454Z
LAST-MODIFIED:20220408T140136Z
UID:10000973-1655370000-1655407800@forsinardflyfishers.co.uk
SUMMARY:DAY SESSION
DESCRIPTION:R.SUTTON\, M.CORDWELL SMITH
URL:https://forsinardflyfishers.co.uk/booking/day-session-112/
CATEGORIES:Loch Saorach,Loch Thormaid
END:VEVENT
BEGIN:VEVENT
DTSTART;TZID=Europe/London:20220616T090000
DTEND;TZID=Europe/London:20220616T180000
DTSTAMP:20260421T213042
CREATED:20220331T234259Z
LAST-MODIFIED:20220331T234259Z
UID:10001141-1655370000-1655402400@forsinardflyfishers.co.uk
SUMMARY:DAY SESSION
DESCRIPTION:R.SMITH\, L.HENDERSON; A.ROBERTSON\, D.RUNDLE\, N.MURRAY. B.WOODHOUSE
URL:https://forsinardflyfishers.co.uk/booking/day-session-22/
CATEGORIES:Loch na Caorach,Loch na Seilge
END:VEVENT
BEGIN:VEVENT
DTSTART;TZID=Europe/London:20220615T090000
DTEND;TZID=Europe/London:20220615T230000
DTSTAMP:20260421T213042
CREATED:20220403T181759Z
LAST-MODIFIED:20220403T181759Z
UID:10001230-1655283600-1655334000@forsinardflyfishers.co.uk
SUMMARY:ALL DAY SESSION
DESCRIPTION:F.TOOLEY
URL:https://forsinardflyfishers.co.uk/booking/all-day-session-326/
CATEGORIES:Loch Baligill
END:VEVENT
BEGIN:VEVENT
DTSTART;TZID=Europe/London:20220615T090000
DTEND;TZID=Europe/London:20220615T230000
DTSTAMP:20260421T213042
CREATED:20220403T181122Z
LAST-MODIFIED:20220403T181122Z
UID:10001229-1655283600-1655334000@forsinardflyfishers.co.uk
SUMMARY:ALL DAY SESSION
DESCRIPTION:K.GRAINGER
URL:https://forsinardflyfishers.co.uk/booking/all-day-session-325/
CATEGORIES:Loch na h-Eaglasie Mor (South end)
END:VEVENT
BEGIN:VEVENT
DTSTART;TZID=Europe/London:20220615T090000
DTEND;TZID=Europe/London:20220615T230000
DTSTAMP:20260421T213042
CREATED:20220403T180937Z
LAST-MODIFIED:20220403T180937Z
UID:10001227-1655283600-1655334000@forsinardflyfishers.co.uk
SUMMARY:ALL DAY SESSION
DESCRIPTION:I.MACALLUM
URL:https://forsinardflyfishers.co.uk/booking/all-day-session-323/
CATEGORIES:Loch Achridigill
END:VEVENT
BEGIN:VEVENT
DTSTART;TZID=Europe/London:20220615T090000
DTEND;TZID=Europe/London:20220615T230000
DTSTAMP:20260421T213042
CREATED:20220402T192915Z
LAST-MODIFIED:20220409T190410Z
UID:10000980-1655283600-1655334000@forsinardflyfishers.co.uk
SUMMARY:ALL DAY SESSION
DESCRIPTION:S.BYRNE
URL:https://forsinardflyfishers.co.uk/booking/all-day-session-316/
CATEGORIES:Loch na Caorach
END:VEVENT
BEGIN:VEVENT
DTSTART;TZID=Europe/London:20220615T090000
DTEND;TZID=Europe/London:20220615T230000
DTSTAMP:20260421T213042
CREATED:20220402T192830Z
LAST-MODIFIED:20220409T190334Z
UID:10000979-1655283600-1655334000@forsinardflyfishers.co.uk
SUMMARY:ALL DAY SESSION
DESCRIPTION:M.STAFFORD
URL:https://forsinardflyfishers.co.uk/booking/all-day-session-315/
CATEGORIES:Loch na Seilge
END:VEVENT
BEGIN:VEVENT
DTSTART;TZID=Europe/London:20220615T090000
DTEND;TZID=Europe/London:20220615T220000
DTSTAMP:20260421T213042
CREATED:20220610T192946Z
LAST-MODIFIED:20220610T192946Z
UID:10001051-1655283600-1655330400@forsinardflyfishers.co.uk
SUMMARY:ALL DAY SESSION
DESCRIPTION:J.WASTLE
URL:https://forsinardflyfishers.co.uk/booking/all-day-session-415/
CATEGORIES:Loch Badaireach na Gaoithe
END:VEVENT
BEGIN:VEVENT
DTSTART;TZID=Europe/London:20220615T090000
DTEND;TZID=Europe/London:20220615T220000
DTSTAMP:20260421T213042
CREATED:20220610T185116Z
LAST-MODIFIED:20220610T185116Z
UID:10001291-1655283600-1655330400@forsinardflyfishers.co.uk
SUMMARY:ALL DAY SESSION
DESCRIPTION:R.BRANKIN FRISBY
URL:https://forsinardflyfishers.co.uk/booking/all-day-session-407/
CATEGORIES:Cross Lochs
END:VEVENT
BEGIN:VEVENT
DTSTART;TZID=Europe/London:20220615T090000
DTEND;TZID=Europe/London:20220615T220000
DTSTAMP:20260421T213042
CREATED:20220403T181021Z
LAST-MODIFIED:20220403T181021Z
UID:10001228-1655283600-1655330400@forsinardflyfishers.co.uk
SUMMARY:ALL DAY SESSION
DESCRIPTION:R.HARDY
URL:https://forsinardflyfishers.co.uk/booking/all-day-session-324/
CATEGORIES:Loch Coulbackie
END:VEVENT
BEGIN:VEVENT
DTSTART;TZID=Europe/London:20220615T090000
DTEND;TZID=Europe/London:20220615T190000
DTSTAMP:20260421T213042
CREATED:20220402T092409Z
LAST-MODIFIED:20220402T092409Z
UID:10001222-1655283600-1655319600@forsinardflyfishers.co.uk
SUMMARY:DAY SESSION
DESCRIPTION:M.PETRIE
URL:https://forsinardflyfishers.co.uk/booking/day-session-122/
CATEGORIES:Loch na h-Eaglaise Beag
END:VEVENT
BEGIN:VEVENT
DTSTART;TZID=Europe/London:20220615T090000
DTEND;TZID=Europe/London:20220615T180000
DTSTAMP:20260421T213042
CREATED:20220401T005649Z
LAST-MODIFIED:20220401T005649Z
UID:10000936-1655283600-1655316000@forsinardflyfishers.co.uk
SUMMARY:DAY SESSION
DESCRIPTION:P.WILLIAMS\, G.WILLIAMS\, M.CORNELLISON
URL:https://forsinardflyfishers.co.uk/booking/day-session-64/
CATEGORIES:Loch Skyline
END:VEVENT
END:VCALENDAR