BEGIN:VCALENDAR
VERSION:2.0
PRODID:-//Forsinard Flyfishers&#039; Club - ECPv6.15.20//NONSGML v1.0//EN
CALSCALE:GREGORIAN
METHOD:PUBLISH
X-WR-CALNAME:Forsinard Flyfishers&#039; Club
X-ORIGINAL-URL:https://forsinardflyfishers.co.uk
X-WR-CALDESC:Events for Forsinard Flyfishers&#039; Club
REFRESH-INTERVAL;VALUE=DURATION:PT1H
X-Robots-Tag:noindex
X-PUBLISHED-TTL:PT1H
BEGIN:VTIMEZONE
TZID:Europe/London
BEGIN:DAYLIGHT
TZOFFSETFROM:+0000
TZOFFSETTO:+0100
TZNAME:BST
DTSTART:20210328T010000
END:DAYLIGHT
BEGIN:STANDARD
TZOFFSETFROM:+0100
TZOFFSETTO:+0000
TZNAME:GMT
DTSTART:20211031T010000
END:STANDARD
BEGIN:DAYLIGHT
TZOFFSETFROM:+0000
TZOFFSETTO:+0100
TZNAME:BST
DTSTART:20220327T010000
END:DAYLIGHT
BEGIN:STANDARD
TZOFFSETFROM:+0100
TZOFFSETTO:+0000
TZNAME:GMT
DTSTART:20221030T010000
END:STANDARD
BEGIN:DAYLIGHT
TZOFFSETFROM:+0000
TZOFFSETTO:+0100
TZNAME:BST
DTSTART:20230326T010000
END:DAYLIGHT
BEGIN:STANDARD
TZOFFSETFROM:+0100
TZOFFSETTO:+0000
TZNAME:GMT
DTSTART:20231029T010000
END:STANDARD
END:VTIMEZONE
BEGIN:VEVENT
DTSTART;TZID=Europe/London:20220612T090000
DTEND;TZID=Europe/London:20220612T230000
DTSTAMP:20260420T112524
CREATED:20220604T173519Z
LAST-MODIFIED:20220604T173519Z
UID:10001281-1655024400-1655074800@forsinardflyfishers.co.uk
SUMMARY:ALL DAY SESSION
DESCRIPTION:M.RICHARDSON
URL:https://forsinardflyfishers.co.uk/booking/all-day-session-395/
CATEGORIES:Loch na Seilge
END:VEVENT
BEGIN:VEVENT
DTSTART;TZID=Europe/London:20220612T090000
DTEND;TZID=Europe/London:20220612T223000
DTSTAMP:20260420T112524
CREATED:20220610T054022Z
LAST-MODIFIED:20220610T054022Z
UID:10001287-1655024400-1655073000@forsinardflyfishers.co.uk
SUMMARY:ALL DAY SESSION
DESCRIPTION:K.ALLAN
URL:https://forsinardflyfishers.co.uk/booking/all-day-session-401/
CATEGORIES:Loch nam Bo Uidhre
END:VEVENT
BEGIN:VEVENT
DTSTART;TZID=Europe/London:20220612T090000
DTEND;TZID=Europe/London:20220612T220000
DTSTAMP:20260420T112524
CREATED:20220610T191439Z
LAST-MODIFIED:20220610T191439Z
UID:10001046-1655024400-1655071200@forsinardflyfishers.co.uk
SUMMARY:ALL DAY SESSION
DESCRIPTION:J.WASTLE
URL:https://forsinardflyfishers.co.uk/booking/all-day-session-412/
CATEGORIES:Loch Coulbackie
END:VEVENT
BEGIN:VEVENT
DTSTART;TZID=Europe/London:20220612T090000
DTEND;TZID=Europe/London:20220612T180000
DTSTAMP:20260420T112524
CREATED:20220401T004422Z
LAST-MODIFIED:20220401T004422Z
UID:10001174-1655024400-1655056800@forsinardflyfishers.co.uk
SUMMARY:DAY SESSION
DESCRIPTION:P.WILLIAMS\, G.WILLIAMS\, M.CORNELLISON
URL:https://forsinardflyfishers.co.uk/booking/day-session-55/
CATEGORIES:Caol North
END:VEVENT
BEGIN:VEVENT
DTSTART;TZID=Europe/London:20220611T090000
DTEND;TZID=Europe/London:20220611T230000
DTSTAMP:20260420T112524
CREATED:20220604T173429Z
LAST-MODIFIED:20220604T173429Z
UID:10001280-1654938000-1654988400@forsinardflyfishers.co.uk
SUMMARY:ALL DAY SESSION
DESCRIPTION:M.RICHARDSON
URL:https://forsinardflyfishers.co.uk/booking/all-day-session-394/
CATEGORIES:Loch Crasgach,Lochan na Ceardaich
END:VEVENT
BEGIN:VEVENT
DTSTART;TZID=Europe/London:20220611T090000
DTEND;TZID=Europe/London:20220611T223000
DTSTAMP:20260420T112524
CREATED:20220505T181519Z
LAST-MODIFIED:20220610T053801Z
UID:10001253-1654938000-1654986600@forsinardflyfishers.co.uk
SUMMARY:ALL DAY SESSION
DESCRIPTION:S.REID\,J\,SIMPSON\,A.LAWRIE\,A.STEVENSON
URL:https://forsinardflyfishers.co.uk/booking/all-day-session-358/
CATEGORIES:Lochan Croc nan Lair
END:VEVENT
BEGIN:VEVENT
DTSTART;TZID=Europe/London:20220611T090000
DTEND;TZID=Europe/London:20220611T223000
DTSTAMP:20260420T112524
CREATED:20220408T120409Z
LAST-MODIFIED:20220408T120409Z
UID:10001240-1654938000-1654986600@forsinardflyfishers.co.uk
SUMMARY:ALL DAY SESSION
DESCRIPTION:S.GRAY
URL:https://forsinardflyfishers.co.uk/booking/all-day-session-350/
CATEGORIES:Loch na Seilge
END:VEVENT
BEGIN:VEVENT
DTSTART;TZID=Europe/London:20220611T090000
DTEND;TZID=Europe/London:20220611T180000
DTSTAMP:20260420T112524
CREATED:20220401T124945Z
LAST-MODIFIED:20220401T124945Z
UID:10000972-1654938000-1654970400@forsinardflyfishers.co.uk
SUMMARY:DAY SESSION
DESCRIPTION:O.WHITE\, R.WARDALE
URL:https://forsinardflyfishers.co.uk/booking/day-session-111/
CATEGORIES:Loch Caise
END:VEVENT
BEGIN:VEVENT
DTSTART;TZID=Europe/London:20220611T090000
DTEND;TZID=Europe/London:20220611T180000
DTSTAMP:20260420T112524
CREATED:20220401T011534Z
LAST-MODIFIED:20220401T011534Z
UID:10001185-1654938000-1654970400@forsinardflyfishers.co.uk
SUMMARY:DAY SESSION
DESCRIPTION:G.WILLIAMS\, P.WILLIAMS\, M.CORNELLISON
URL:https://forsinardflyfishers.co.uk/booking/day-session-76/
CATEGORIES:Loch Badaireach na Gaoithe
END:VEVENT
BEGIN:VEVENT
DTSTART;TZID=Europe/London:20220611T090000
DTEND;TZID=Europe/London:20220611T180000
DTSTAMP:20260420T112524
CREATED:20220401T005940Z
LAST-MODIFIED:20220401T005940Z
UID:10000940-1654938000-1654970400@forsinardflyfishers.co.uk
SUMMARY:DAY SESSION
DESCRIPTION:F.BEATTIE\, S.HELM
URL:https://forsinardflyfishers.co.uk/booking/day-session-66/
CATEGORIES:Loch Skyline
END:VEVENT
BEGIN:VEVENT
DTSTART;TZID=Europe/London:20220611T090000
DTEND;TZID=Europe/London:20220611T180000
DTSTAMP:20260420T112524
CREATED:20220401T003958Z
LAST-MODIFIED:20220401T003958Z
UID:10001172-1654938000-1654970400@forsinardflyfishers.co.uk
SUMMARY:DAY SESSION
DESCRIPTION:M.WILSON\, C.BAYNES
URL:https://forsinardflyfishers.co.uk/booking/day-session-53/
CATEGORIES:Loch Clach Geala
END:VEVENT
BEGIN:VEVENT
DTSTART;TZID=Europe/London:20220611T090000
DTEND;TZID=Europe/London:20220611T180000
DTSTAMP:20260420T112524
CREATED:20220401T001455Z
LAST-MODIFIED:20220401T001455Z
UID:10001155-1654938000-1654970400@forsinardflyfishers.co.uk
SUMMARY:DAY SESSION
DESCRIPTION:C.ANTON\, I.MCDONALD\, R.SPIERS\, P.ALISON
URL:https://forsinardflyfishers.co.uk/booking/day-session-36/
CATEGORIES:Loch Garbh
END:VEVENT
BEGIN:VEVENT
DTSTART;TZID=Europe/London:20220610T090000
DTEND;TZID=Europe/London:20220610T230000
DTSTAMP:20260420T112524
CREATED:20220604T173332Z
LAST-MODIFIED:20220604T173332Z
UID:10001279-1654851600-1654902000@forsinardflyfishers.co.uk
SUMMARY:ALL DAY SESSION
DESCRIPTION:M.RICHARDSON
URL:https://forsinardflyfishers.co.uk/booking/all-day-session-393/
CATEGORIES:Bighouse Loch
END:VEVENT
BEGIN:VEVENT
DTSTART;TZID=Europe/London:20220610T090000
DTEND;TZID=Europe/London:20220610T230000
DTSTAMP:20260420T112524
CREATED:20220401T012546Z
LAST-MODIFIED:20220604T173710Z
UID:10001190-1654851600-1654902000@forsinardflyfishers.co.uk
SUMMARY:DAY SESSION
DESCRIPTION:R.BALDWIN
URL:https://forsinardflyfishers.co.uk/booking/day-session-81/
CATEGORIES:Loch na Seilge
END:VEVENT
BEGIN:VEVENT
DTSTART;TZID=Europe/London:20220610T090000
DTEND;TZID=Europe/London:20220610T220000
DTSTAMP:20260420T112524
CREATED:20220401T012030Z
LAST-MODIFIED:20220408T122654Z
UID:10001189-1654851600-1654898400@forsinardflyfishers.co.uk
SUMMARY:DAY SESSION
DESCRIPTION:BRUCE MCNEIL\, I.MITCHELL\, D.BRYCE
URL:https://forsinardflyfishers.co.uk/booking/day-session-80/
CATEGORIES:Loch Saorach,Loch Thormaid
END:VEVENT
BEGIN:VEVENT
DTSTART;TZID=Europe/London:20220610T090000
DTEND;TZID=Europe/London:20220610T180000
DTSTAMP:20260420T112524
CREATED:20220401T014141Z
LAST-MODIFIED:20220401T014141Z
UID:10001201-1654851600-1654884000@forsinardflyfishers.co.uk
SUMMARY:DAY SESSION
DESCRIPTION:H.McCLELLAN\, D.WHITE
URL:https://forsinardflyfishers.co.uk/booking/day-session-92/
CATEGORIES:Loch Slethill
END:VEVENT
BEGIN:VEVENT
DTSTART;TZID=Europe/London:20220610T090000
DTEND;TZID=Europe/London:20220610T180000
DTSTAMP:20260420T112524
CREATED:20220401T011215Z
LAST-MODIFIED:20220401T011215Z
UID:10001182-1654851600-1654884000@forsinardflyfishers.co.uk
SUMMARY:DAY SESSION
DESCRIPTION:G.WILLIAMS\, P.WILLIAMS\, M.CORNELLISON
URL:https://forsinardflyfishers.co.uk/booking/day-session-73/
CATEGORIES:Loch an Fheoir
END:VEVENT
BEGIN:VEVENT
DTSTART;TZID=Europe/London:20220610T090000
DTEND;TZID=Europe/London:20220610T180000
DTSTAMP:20260420T112524
CREATED:20220401T010747Z
LAST-MODIFIED:20220401T010747Z
UID:10001178-1654851600-1654884000@forsinardflyfishers.co.uk
SUMMARY:DAY SESSION
DESCRIPTION:J.RANKIN\, S.BALL
URL:https://forsinardflyfishers.co.uk/booking/day-session-70/
CATEGORIES:Loch Caol Altnabreac
END:VEVENT
BEGIN:VEVENT
DTSTART;TZID=Europe/London:20220610T090000
DTEND;TZID=Europe/London:20220610T180000
DTSTAMP:20260420T112524
CREATED:20220401T005320Z
LAST-MODIFIED:20220401T005320Z
UID:10000930-1654851600-1654884000@forsinardflyfishers.co.uk
SUMMARY:DAY SESSION
DESCRIPTION:P.ALISON\, C.ANTON
URL:https://forsinardflyfishers.co.uk/booking/day-session-61/
CATEGORIES:Loch Bad A'Bothain
END:VEVENT
BEGIN:VEVENT
DTSTART;TZID=Europe/London:20220610T090000
DTEND;TZID=Europe/London:20220610T180000
DTSTAMP:20260420T112524
CREATED:20220401T003519Z
LAST-MODIFIED:20220401T003519Z
UID:10001169-1654851600-1654884000@forsinardflyfishers.co.uk
SUMMARY:DAY SESSION
DESCRIPTION:J.PEROT\, I.DOUGLAS
URL:https://forsinardflyfishers.co.uk/booking/day-session-50/
CATEGORIES:Loch Leir
END:VEVENT
BEGIN:VEVENT
DTSTART;TZID=Europe/London:20220609T190000
DTEND;TZID=Europe/London:20220609T230000
DTSTAMP:20260420T112524
CREATED:20220402T075824Z
LAST-MODIFIED:20220402T075824Z
UID:10001220-1654801200-1654815600@forsinardflyfishers.co.uk
SUMMARY:EVENING SESSION
DESCRIPTION:G.GRAHAM\, K.CULLEN\,L.CASSIDY
URL:https://forsinardflyfishers.co.uk/booking/evening-session-10/
CATEGORIES:Lochan Croc nan Lair
END:VEVENT
BEGIN:VEVENT
DTSTART;TZID=Europe/London:20220609T090000
DTEND;TZID=Europe/London:20220609T230000
DTSTAMP:20260420T112524
CREATED:20220402T091928Z
LAST-MODIFIED:20220402T091928Z
UID:10001221-1654765200-1654815600@forsinardflyfishers.co.uk
SUMMARY:DAY SESSION
DESCRIPTION:G.GRAHAM\, K.CULLEN\, L.CASSIDY
URL:https://forsinardflyfishers.co.uk/booking/day-session-121/
CATEGORIES:Loch Garbh
END:VEVENT
BEGIN:VEVENT
DTSTART;TZID=Europe/London:20220609T090000
DTEND;TZID=Europe/London:20220609T200000
DTSTAMP:20260420T112524
CREATED:20220401T011629Z
LAST-MODIFIED:20220401T123018Z
UID:10001186-1654765200-1654804800@forsinardflyfishers.co.uk
SUMMARY:DAY SESSION
DESCRIPTION:G.WILLIAMS\, P.WILLIAMS\, M.CORNELLISON
URL:https://forsinardflyfishers.co.uk/booking/day-session-77/
CATEGORIES:Loch Saorach
END:VEVENT
BEGIN:VEVENT
DTSTART;TZID=Europe/London:20220609T090000
DTEND;TZID=Europe/London:20220609T190000
DTSTAMP:20260420T112524
CREATED:20220331T234641Z
LAST-MODIFIED:20220331T234641Z
UID:10001144-1654765200-1654801200@forsinardflyfishers.co.uk
SUMMARY:DAY SESSION
DESCRIPTION:G.PRESSLING\, C.BAYNES
URL:https://forsinardflyfishers.co.uk/booking/day-session-25/
CATEGORIES:Loch na Seilge
END:VEVENT
BEGIN:VEVENT
DTSTART;TZID=Europe/London:20220609T090000
DTEND;TZID=Europe/London:20220609T180000
DTSTAMP:20260420T112524
CREATED:20220401T011927Z
LAST-MODIFIED:20220401T011927Z
UID:10001188-1654765200-1654797600@forsinardflyfishers.co.uk
SUMMARY:DAY SESSION
DESCRIPTION:G.WILLIAMS\, P.WILLIAMS\, M.CORNELLISON
URL:https://forsinardflyfishers.co.uk/booking/day-session-79/
CATEGORIES:Loch Thormaid
END:VEVENT
BEGIN:VEVENT
DTSTART;TZID=Europe/London:20220609T090000
DTEND;TZID=Europe/London:20220609T180000
DTSTAMP:20260420T112524
CREATED:20220401T002128Z
LAST-MODIFIED:20220401T002128Z
UID:10001159-1654765200-1654797600@forsinardflyfishers.co.uk
SUMMARY:DAY SESSION
DESCRIPTION:P.ALISON\, J.PEROT\, I.DOUGLAS
URL:https://forsinardflyfishers.co.uk/booking/day-session-40/
CATEGORIES:Loch Caise
END:VEVENT
BEGIN:VEVENT
DTSTART;TZID=Europe/London:20220609T090000
DTEND;TZID=Europe/London:20220609T180000
DTSTAMP:20260420T112524
CREATED:20220331T234725Z
LAST-MODIFIED:20220331T234725Z
UID:10001145-1654765200-1654797600@forsinardflyfishers.co.uk
SUMMARY:DAY SESSION
DESCRIPTION:D.FADA\, M.SWEET
URL:https://forsinardflyfishers.co.uk/booking/day-session-26/
CATEGORIES:Loch na Caorach
END:VEVENT
BEGIN:VEVENT
DTSTART;TZID=Europe/London:20220608T090000
DTEND;TZID=Europe/London:20220608T230000
DTSTAMP:20260420T112524
CREATED:20220605T193225Z
LAST-MODIFIED:20220605T193225Z
UID:10001288-1654678800-1654729200@forsinardflyfishers.co.uk
SUMMARY:ALL DAY SESSION
DESCRIPTION:S.CURTIS
URL:https://forsinardflyfishers.co.uk/booking/all-day-session-400/
CATEGORIES:Loch Coulbackie
END:VEVENT
BEGIN:VEVENT
DTSTART;TZID=Europe/London:20220608T090000
DTEND;TZID=Europe/London:20220608T220000
DTSTAMP:20260420T112524
CREATED:20220408T123509Z
LAST-MODIFIED:20220408T123509Z
UID:10001244-1654678800-1654725600@forsinardflyfishers.co.uk
SUMMARY:ALL DAY SESSION
DESCRIPTION:S.GRAY
URL:https://forsinardflyfishers.co.uk/booking/all-day-session-347/
CATEGORIES:Loch Baligill
END:VEVENT
BEGIN:VEVENT
DTSTART;TZID=Europe/London:20220608T090000
DTEND;TZID=Europe/London:20220608T220000
DTSTAMP:20260420T112524
CREATED:20220408T122144Z
LAST-MODIFIED:20220408T122144Z
UID:10001243-1654678800-1654725600@forsinardflyfishers.co.uk
SUMMARY:ALL DAY SESSION
DESCRIPTION:I.MITCHELL\, D.BRYCE
URL:https://forsinardflyfishers.co.uk/booking/all-day-session-353/
CATEGORIES:Loch nan Gall
END:VEVENT
END:VCALENDAR