BEGIN:VCALENDAR
VERSION:2.0
PRODID:-//Forsinard Flyfishers&#039; Club - ECPv6.15.20//NONSGML v1.0//EN
CALSCALE:GREGORIAN
METHOD:PUBLISH
X-WR-CALNAME:Forsinard Flyfishers&#039; Club
X-ORIGINAL-URL:https://forsinardflyfishers.co.uk
X-WR-CALDESC:Events for Forsinard Flyfishers&#039; Club
REFRESH-INTERVAL;VALUE=DURATION:PT1H
X-Robots-Tag:noindex
X-PUBLISHED-TTL:PT1H
BEGIN:VTIMEZONE
TZID:Europe/London
BEGIN:DAYLIGHT
TZOFFSETFROM:+0000
TZOFFSETTO:+0100
TZNAME:BST
DTSTART:20210328T010000
END:DAYLIGHT
BEGIN:STANDARD
TZOFFSETFROM:+0100
TZOFFSETTO:+0000
TZNAME:GMT
DTSTART:20211031T010000
END:STANDARD
BEGIN:DAYLIGHT
TZOFFSETFROM:+0000
TZOFFSETTO:+0100
TZNAME:BST
DTSTART:20220327T010000
END:DAYLIGHT
BEGIN:STANDARD
TZOFFSETFROM:+0100
TZOFFSETTO:+0000
TZNAME:GMT
DTSTART:20221030T010000
END:STANDARD
BEGIN:DAYLIGHT
TZOFFSETFROM:+0000
TZOFFSETTO:+0100
TZNAME:BST
DTSTART:20230326T010000
END:DAYLIGHT
BEGIN:STANDARD
TZOFFSETFROM:+0100
TZOFFSETTO:+0000
TZNAME:GMT
DTSTART:20231029T010000
END:STANDARD
END:VTIMEZONE
BEGIN:VEVENT
DTSTART;TZID=Europe/London:20220926T090000
DTEND;TZID=Europe/London:20220926T233000
DTSTAMP:20260420T055146
CREATED:20220618T125317Z
LAST-MODIFIED:20220618T125317Z
UID:10001307-1664182800-1664235000@forsinardflyfishers.co.uk
SUMMARY:ALL DAY SESSION
DESCRIPTION:B.McNEIL
URL:https://forsinardflyfishers.co.uk/booking/all-day-session-424/
CATEGORIES:Loch Slethill
END:VEVENT
BEGIN:VEVENT
DTSTART;TZID=Europe/London:20220924T090000
DTEND;TZID=Europe/London:20220924T230000
DTSTAMP:20260420T055146
CREATED:20220618T125806Z
LAST-MODIFIED:20220618T125806Z
UID:10001308-1664010000-1664060400@forsinardflyfishers.co.uk
SUMMARY:ALL DAY SESSION
DESCRIPTION:B.McNEIL
URL:https://forsinardflyfishers.co.uk/booking/all-day-session-426/
CATEGORIES:Loch Caol Altnabreac
END:VEVENT
BEGIN:VEVENT
DTSTART;TZID=Europe/London:20220924T090000
DTEND;TZID=Europe/London:20220924T220000
DTSTAMP:20260420T055146
CREATED:20220819T171808Z
LAST-MODIFIED:20220819T171808Z
UID:10001093-1664010000-1664056800@forsinardflyfishers.co.uk
SUMMARY:ALL DAY SESSION
DESCRIPTION:R.FRISBY
URL:https://forsinardflyfishers.co.uk/booking/all-day-session-477/
CATEGORIES:Loch Slethill
END:VEVENT
BEGIN:VEVENT
DTSTART;TZID=Europe/London:20220923T090000
DTEND;TZID=Europe/London:20220923T230000
DTSTAMP:20260420T055146
CREATED:20220618T125639Z
LAST-MODIFIED:20220618T125639Z
UID:10001306-1663923600-1663974000@forsinardflyfishers.co.uk
SUMMARY:ALL DAY SESSION
DESCRIPTION:B.McNEIL
URL:https://forsinardflyfishers.co.uk/booking/all-day-session-425/
CATEGORIES:Loch Bad A'Bothain
END:VEVENT
BEGIN:VEVENT
DTSTART;TZID=Europe/London:20220923T090000
DTEND;TZID=Europe/London:20220923T210000
DTSTAMP:20260420T055146
CREATED:20220908T075203Z
LAST-MODIFIED:20220908T075203Z
UID:10001353-1663923600-1663966800@forsinardflyfishers.co.uk
SUMMARY:ALL DAY SESSION
DESCRIPTION:R.FRISBY
URL:https://forsinardflyfishers.co.uk/booking/all-day-session-500/
CATEGORIES:Loch Leir
END:VEVENT
BEGIN:VEVENT
DTSTART;TZID=Europe/London:20220921T090000
DTEND;TZID=Europe/London:20220921T213000
DTSTAMP:20260420T055146
CREATED:20220908T074815Z
LAST-MODIFIED:20220908T074815Z
UID:10001352-1663750800-1663795800@forsinardflyfishers.co.uk
SUMMARY:ALL DAY SESSION
DESCRIPTION:R.FRISBY
URL:https://forsinardflyfishers.co.uk/booking/all-day-session-499/
CATEGORIES:Loch Na Cloiche
END:VEVENT
BEGIN:VEVENT
DTSTART;TZID=Europe/London:20220920T090000
DTEND;TZID=Europe/London:20220920T223000
DTSTAMP:20260420T055146
CREATED:20220819T171954Z
LAST-MODIFIED:20220819T171954Z
UID:10001095-1663664400-1663713000@forsinardflyfishers.co.uk
SUMMARY:ALL DAY SESSION
DESCRIPTION:R.FRISBY
URL:https://forsinardflyfishers.co.uk/booking/all-day-session-478/
CATEGORIES:Loch Leir
END:VEVENT
BEGIN:VEVENT
DTSTART;TZID=Europe/London:20220920T090000
DTEND;TZID=Europe/London:20220920T220000
DTSTAMP:20260420T055146
CREATED:20220819T172322Z
LAST-MODIFIED:20220819T172322Z
UID:10001097-1663664400-1663711200@forsinardflyfishers.co.uk
SUMMARY:ALL DAY SESSION
DESCRIPTION:R.FRISBY
URL:https://forsinardflyfishers.co.uk/booking/all-day-session-479/
CATEGORIES:Loch Slethill
END:VEVENT
BEGIN:VEVENT
DTSTART;TZID=Europe/London:20220920T090000
DTEND;TZID=Europe/London:20220920T220000
DTSTAMP:20260420T055146
CREATED:20220819T163335Z
LAST-MODIFIED:20220908T074648Z
UID:10001091-1663664400-1663711200@forsinardflyfishers.co.uk
SUMMARY:ALL DAY SESSION
DESCRIPTION:R.FRISBY
URL:https://forsinardflyfishers.co.uk/booking/all-day-session-476/
CATEGORIES:Loch Clach Geala
END:VEVENT
BEGIN:VEVENT
DTSTART;TZID=Europe/London:20220919T090000
DTEND;TZID=Europe/London:20220919T213000
DTSTAMP:20260420T055146
CREATED:20220908T074353Z
LAST-MODIFIED:20220908T074353Z
UID:10001350-1663578000-1663623000@forsinardflyfishers.co.uk
SUMMARY:ALL DAY SESSION
DESCRIPTION:R.FRISBY
URL:https://forsinardflyfishers.co.uk/booking/all-day-session-497/
CATEGORIES:Loch na Seilge
END:VEVENT
BEGIN:VEVENT
DTSTART;TZID=Europe/London:20220917T090000
DTEND;TZID=Europe/London:20220917T200000
DTSTAMP:20260420T055146
CREATED:20220905T200818Z
LAST-MODIFIED:20220905T200818Z
UID:10001345-1663405200-1663444800@forsinardflyfishers.co.uk
SUMMARY:ALL DAY SESSION
DESCRIPTION:J.HOOK
URL:https://forsinardflyfishers.co.uk/booking/all-day-session-492/
CATEGORIES:Loch Leir
END:VEVENT
BEGIN:VEVENT
DTSTART;TZID=Europe/London:20220916T090000
DTEND;TZID=Europe/London:20220916T220000
DTSTAMP:20260420T055146
CREATED:20220819T172437Z
LAST-MODIFIED:20220905T200641Z
UID:10001099-1663318800-1663365600@forsinardflyfishers.co.uk
SUMMARY:ALL DAY SESSION
DESCRIPTION:S.CUMMING
URL:https://forsinardflyfishers.co.uk/booking/all-day-session-480/
CATEGORIES:Loch nan Gall
END:VEVENT
BEGIN:VEVENT
DTSTART;TZID=Europe/London:20220916T090000
DTEND;TZID=Europe/London:20220916T210000
DTSTAMP:20260420T055146
CREATED:20220913T052117Z
LAST-MODIFIED:20220913T052117Z
UID:10001354-1663318800-1663362000@forsinardflyfishers.co.uk
SUMMARY:ALL DAY SESSION
DESCRIPTION:G.PAGOAGA
URL:https://forsinardflyfishers.co.uk/booking/all-day-session-501/
CATEGORIES:Loch Talaheel
END:VEVENT
BEGIN:VEVENT
DTSTART;TZID=Europe/London:20220916T090000
DTEND;TZID=Europe/London:20220916T180000
DTSTAMP:20260420T055146
CREATED:20220401T013010Z
LAST-MODIFIED:20220401T013010Z
UID:10001193-1663318800-1663351200@forsinardflyfishers.co.uk
SUMMARY:DAY SESSION
DESCRIPTION:R.ELLIOTT\, P.TENNET
URL:https://forsinardflyfishers.co.uk/booking/day-session-84/
CATEGORIES:Loch Slethill
END:VEVENT
BEGIN:VEVENT
DTSTART;TZID=Europe/London:20220915T090000
DTEND;TZID=Europe/London:20220915T230000
DTSTAMP:20260420T055146
CREATED:20220717T181138Z
LAST-MODIFIED:20220717T181138Z
UID:10001074-1663232400-1663282800@forsinardflyfishers.co.uk
SUMMARY:ALL DAY SESSION
DESCRIPTION:I.MORRIS
URL:https://forsinardflyfishers.co.uk/booking/all-day-session-442/
CATEGORIES:Loch Thormaid
END:VEVENT
BEGIN:VEVENT
DTSTART;TZID=Europe/London:20220914T090000
DTEND;TZID=Europe/London:20220914T230000
DTSTAMP:20260420T055146
CREATED:20220717T181543Z
LAST-MODIFIED:20220908T075509Z
UID:10001075-1663146000-1663196400@forsinardflyfishers.co.uk
SUMMARY:ALL DAY SESSION
DESCRIPTION:S.FREEMAN\, K.FARRELL
URL:https://forsinardflyfishers.co.uk/booking/all-day-session-443/
CATEGORIES:Lochan Croc nan Lair
END:VEVENT
BEGIN:VEVENT
DTSTART;TZID=Europe/London:20220913T090000
DTEND;TZID=Europe/London:20220913T230000
DTSTAMP:20260420T055146
CREATED:20220717T181049Z
LAST-MODIFIED:20220717T181049Z
UID:10001073-1663059600-1663110000@forsinardflyfishers.co.uk
SUMMARY:ALL DAY SESSION
DESCRIPTION:I.MORRIS
URL:https://forsinardflyfishers.co.uk/booking/all-day-session-441/
CATEGORIES:Cross Lochs
END:VEVENT
BEGIN:VEVENT
DTSTART;TZID=Europe/London:20220913T090000
DTEND;TZID=Europe/London:20220913T180000
DTSTAMP:20260420T055146
CREATED:20220401T002945Z
LAST-MODIFIED:20220401T002945Z
UID:10001163-1663059600-1663092000@forsinardflyfishers.co.uk
SUMMARY:DAY SESSION
DESCRIPTION:R.ELLIOTT\, P.TENNET
URL:https://forsinardflyfishers.co.uk/booking/day-session-44/
CATEGORIES:Loch Leir
END:VEVENT
BEGIN:VEVENT
DTSTART;TZID=Europe/London:20220912T090000
DTEND;TZID=Europe/London:20220912T230000
DTSTAMP:20260420T055146
CREATED:20220717T181636Z
LAST-MODIFIED:20220908T075540Z
UID:10001076-1662973200-1663023600@forsinardflyfishers.co.uk
SUMMARY:ALL DAY SESSION
DESCRIPTION:S.FREEMAN\, K.FARRELL
URL:https://forsinardflyfishers.co.uk/booking/all-day-session-444/
CATEGORIES:Cross Lochs
END:VEVENT
BEGIN:VEVENT
DTSTART;TZID=Europe/London:20220912T090000
DTEND;TZID=Europe/London:20220912T180000
DTSTAMP:20260420T055146
CREATED:20220401T013151Z
LAST-MODIFIED:20220401T013151Z
UID:10001194-1662973200-1663005600@forsinardflyfishers.co.uk
SUMMARY:DAY SESSION
DESCRIPTION:J.CAREY\, J.McKENZIE
URL:https://forsinardflyfishers.co.uk/booking/day-session-85/
CATEGORIES:Loch Slethill
END:VEVENT
BEGIN:VEVENT
DTSTART;TZID=Europe/London:20220911T090000
DTEND;TZID=Europe/London:20220911T213000
DTSTAMP:20260420T055146
CREATED:20220908T074521Z
LAST-MODIFIED:20220908T074521Z
UID:10001351-1662886800-1662931800@forsinardflyfishers.co.uk
SUMMARY:ALL DAY SESSION
DESCRIPTION:M.RICHARDSON
URL:https://forsinardflyfishers.co.uk/booking/all-day-session-498/
CATEGORIES:Loch na Seilge
END:VEVENT
BEGIN:VEVENT
DTSTART;TZID=Europe/London:20220911T090000
DTEND;TZID=Europe/London:20220911T213000
DTSTAMP:20260420T055146
CREATED:20220908T074111Z
LAST-MODIFIED:20220908T074111Z
UID:10001349-1662886800-1662931800@forsinardflyfishers.co.uk
SUMMARY:ALL DAY SESSION
DESCRIPTION:K.ALLAN
URL:https://forsinardflyfishers.co.uk/booking/all-day-session-496/
CATEGORIES:Loch Coulbackie
END:VEVENT
BEGIN:VEVENT
DTSTART;TZID=Europe/London:20220908T090000
DTEND;TZID=Europe/London:20220908T210000
DTSTAMP:20260420T055146
CREATED:20220805T202316Z
LAST-MODIFIED:20220805T202334Z
UID:10001329-1662627600-1662670800@forsinardflyfishers.co.uk
SUMMARY:ALL DAY SESSION
DESCRIPTION:I.CRAMMAN\, C.McNICOL
URL:https://forsinardflyfishers.co.uk/booking/all-day-session-467/
CATEGORIES:Cross Lochs
END:VEVENT
BEGIN:VEVENT
DTSTART;TZID=Europe/London:20220907T090000
DTEND;TZID=Europe/London:20220907T220000
DTSTAMP:20260420T055146
CREATED:20220805T202416Z
LAST-MODIFIED:20220905T200606Z
UID:10001330-1662541200-1662588000@forsinardflyfishers.co.uk
SUMMARY:ALL DAY SESSION
DESCRIPTION:I.CRAMMAN\, C.McNICOL
URL:https://forsinardflyfishers.co.uk/booking/all-day-session-468/
CATEGORIES:Loch Caol Altnabreac
END:VEVENT
BEGIN:VEVENT
DTSTART;TZID=Europe/London:20220907T090000
DTEND;TZID=Europe/London:20220907T210000
DTSTAMP:20260420T055146
CREATED:20220905T201413Z
LAST-MODIFIED:20220905T201413Z
UID:10001347-1662541200-1662584400@forsinardflyfishers.co.uk
SUMMARY:ALL DAY SESSION
DESCRIPTION:D.ROBSON
URL:https://forsinardflyfishers.co.uk/booking/all-day-session-494/
CATEGORIES:Loch Skyline
END:VEVENT
BEGIN:VEVENT
DTSTART;TZID=Europe/London:20220907T090000
DTEND;TZID=Europe/London:20220907T200000
DTSTAMP:20260420T055146
CREATED:20220905T201256Z
LAST-MODIFIED:20220905T201256Z
UID:10001346-1662541200-1662580800@forsinardflyfishers.co.uk
SUMMARY:ALL DAY SESSION
DESCRIPTION:G.PAGOAGA
URL:https://forsinardflyfishers.co.uk/booking/all-day-session-493/
CATEGORIES:Loch Leir
END:VEVENT
BEGIN:VEVENT
DTSTART;TZID=Europe/London:20220906T090000
DTEND;TZID=Europe/London:20220906T230000
DTSTAMP:20260420T055146
CREATED:20220805T202232Z
LAST-MODIFIED:20220805T202232Z
UID:10001328-1662454800-1662505200@forsinardflyfishers.co.uk
SUMMARY:ALL DAY SESSION
DESCRIPTION:I.CRAMMAN\, C.McNICOL
URL:https://forsinardflyfishers.co.uk/booking/all-day-session-466/
CATEGORIES:Loch na h-Eaglaise Beag,Loch na h-Eaglasie Mor (South end)
END:VEVENT
BEGIN:VEVENT
DTSTART;TZID=Europe/London:20220906T090000
DTEND;TZID=Europe/London:20220906T200000
DTSTAMP:20260420T055146
CREATED:20220905T201530Z
LAST-MODIFIED:20220905T201530Z
UID:10001348-1662454800-1662494400@forsinardflyfishers.co.uk
SUMMARY:ALL DAY SESSION
DESCRIPTION:D.ROBSON
URL:https://forsinardflyfishers.co.uk/booking/all-day-session-495/
CATEGORIES:Bighouse Loch
END:VEVENT
BEGIN:VEVENT
DTSTART;TZID=Europe/London:20220905T090000
DTEND;TZID=Europe/London:20220905T220000
DTSTAMP:20260420T055146
CREATED:20220516T190038Z
LAST-MODIFIED:20220516T190038Z
UID:10001258-1662368400-1662415200@forsinardflyfishers.co.uk
SUMMARY:ALL DAY SESSION
DESCRIPTION:I.MORRIS
URL:https://forsinardflyfishers.co.uk/booking/all-day-session-373/
CATEGORIES:Loch Slethill
END:VEVENT
BEGIN:VEVENT
DTSTART;TZID=Europe/London:20220903T090000
DTEND;TZID=Europe/London:20220903T220000
DTSTAMP:20260420T055146
CREATED:20220825T185313Z
LAST-MODIFIED:20220825T185313Z
UID:10001340-1662195600-1662242400@forsinardflyfishers.co.uk
SUMMARY:ALL DAY SESSION
DESCRIPTION:K.ALLAN
URL:https://forsinardflyfishers.co.uk/booking/all-day-session-487/
CATEGORIES:Loch Skyline
END:VEVENT
END:VCALENDAR