BEGIN:VCALENDAR
VERSION:2.0
PRODID:-//Forsinard Flyfishers&#039; Club - ECPv6.15.20//NONSGML v1.0//EN
CALSCALE:GREGORIAN
METHOD:PUBLISH
X-WR-CALNAME:Forsinard Flyfishers&#039; Club
X-ORIGINAL-URL:https://forsinardflyfishers.co.uk
X-WR-CALDESC:Events for Forsinard Flyfishers&#039; Club
REFRESH-INTERVAL;VALUE=DURATION:PT1H
X-Robots-Tag:noindex
X-PUBLISHED-TTL:PT1H
BEGIN:VTIMEZONE
TZID:Europe/London
BEGIN:DAYLIGHT
TZOFFSETFROM:+0000
TZOFFSETTO:+0100
TZNAME:BST
DTSTART:20220327T010000
END:DAYLIGHT
BEGIN:STANDARD
TZOFFSETFROM:+0100
TZOFFSETTO:+0000
TZNAME:GMT
DTSTART:20221030T010000
END:STANDARD
BEGIN:DAYLIGHT
TZOFFSETFROM:+0000
TZOFFSETTO:+0100
TZNAME:BST
DTSTART:20230326T010000
END:DAYLIGHT
BEGIN:STANDARD
TZOFFSETFROM:+0100
TZOFFSETTO:+0000
TZNAME:GMT
DTSTART:20231029T010000
END:STANDARD
BEGIN:DAYLIGHT
TZOFFSETFROM:+0000
TZOFFSETTO:+0100
TZNAME:BST
DTSTART:20240331T010000
END:DAYLIGHT
BEGIN:STANDARD
TZOFFSETFROM:+0100
TZOFFSETTO:+0000
TZNAME:GMT
DTSTART:20241027T010000
END:STANDARD
END:VTIMEZONE
BEGIN:VEVENT
DTSTART;TZID=Europe/London:20230519T090000
DTEND;TZID=Europe/London:20230519T223000
DTSTAMP:20260420T042204
CREATED:20230401T004103Z
LAST-MODIFIED:20230401T004103Z
UID:10001426-1684486800-1684535400@forsinardflyfishers.co.uk
SUMMARY:ALL DAY SESSION
DESCRIPTION:R.BALDWIN/NAT BALDWIN/OLIVIA FINCH
URL:https://forsinardflyfishers.co.uk/booking/all-day-session-568/
CATEGORIES:Loch na Seilge
END:VEVENT
BEGIN:VEVENT
DTSTART;TZID=Europe/London:20230519T090000
DTEND;TZID=Europe/London:20230519T223000
DTSTAMP:20260420T042204
CREATED:20230401T001829Z
LAST-MODIFIED:20230401T001829Z
UID:10001413-1684486800-1684535400@forsinardflyfishers.co.uk
SUMMARY:ALL DAY SESSION
DESCRIPTION:R.HARDY
URL:https://forsinardflyfishers.co.uk/booking/all-day-session-555/
CATEGORIES:Loch Caol Altnabreac
END:VEVENT
BEGIN:VEVENT
DTSTART;TZID=Europe/London:20230518T090000
DTEND;TZID=Europe/London:20230518T220000
DTSTAMP:20260420T042204
CREATED:20230517T051554Z
LAST-MODIFIED:20230517T051554Z
UID:10001565-1684400400-1684447200@forsinardflyfishers.co.uk
SUMMARY:ALL DAY SESSION
DESCRIPTION:D.ROBSON
URL:https://forsinardflyfishers.co.uk/booking/all-day-session-695/
CATEGORIES:Loch a Mhuilinn
END:VEVENT
BEGIN:VEVENT
DTSTART;TZID=Europe/London:20230518T090000
DTEND;TZID=Europe/London:20230518T220000
DTSTAMP:20260420T042204
CREATED:20230401T001734Z
LAST-MODIFIED:20230401T001734Z
UID:10001412-1684400400-1684447200@forsinardflyfishers.co.uk
SUMMARY:ALL DAY SESSION
DESCRIPTION:R.HARDY/IMACALLUM
URL:https://forsinardflyfishers.co.uk/booking/all-day-session-554/
CATEGORIES:Loch Achridigill,Loch Coulbackie
END:VEVENT
BEGIN:VEVENT
DTSTART;TZID=Europe/London:20230517T090000
DTEND;TZID=Europe/London:20230517T213000
DTSTAMP:20260420T042204
CREATED:20230401T001622Z
LAST-MODIFIED:20230403T174259Z
UID:10001411-1684314000-1684359000@forsinardflyfishers.co.uk
SUMMARY:ALL DAY SESSION
DESCRIPTION:I.MACALLUM
URL:https://forsinardflyfishers.co.uk/booking/all-day-session-553/
CATEGORIES:Loch Caise,Lochan Croc nan Lair
END:VEVENT
BEGIN:VEVENT
DTSTART;TZID=Europe/London:20230514T090000
DTEND;TZID=Europe/London:20230514T223000
DTSTAMP:20260420T042204
CREATED:20230513T061555Z
LAST-MODIFIED:20230513T061555Z
UID:10001561-1684054800-1684103400@forsinardflyfishers.co.uk
SUMMARY:ALL DAY SESSION
DESCRIPTION:M.Wigan
URL:https://forsinardflyfishers.co.uk/booking/all-day-session-691/
CATEGORIES:Loch Caise
END:VEVENT
BEGIN:VEVENT
DTSTART;TZID=Europe/London:20230514T090000
DTEND;TZID=Europe/London:20230514T223000
DTSTAMP:20260420T042204
CREATED:20230420T072837Z
LAST-MODIFIED:20230420T072837Z
UID:10001527-1684054800-1684103400@forsinardflyfishers.co.uk
SUMMARY:ALL DAY SESSION
DESCRIPTION:J.WASTLE
URL:https://forsinardflyfishers.co.uk/booking/all-day-session-661/
CATEGORIES:Caol North
END:VEVENT
BEGIN:VEVENT
DTSTART;TZID=Europe/London:20230513T090000
DTEND;TZID=Europe/London:20230513T230000
DTSTAMP:20260420T042204
CREATED:20230503T114946Z
LAST-MODIFIED:20230503T114946Z
UID:10001542-1683968400-1684018800@forsinardflyfishers.co.uk
SUMMARY:ALL DAY SESSION
DESCRIPTION:H.SCURFIELD
URL:https://forsinardflyfishers.co.uk/booking/all-day-session-674/
CATEGORIES:Loch Slethill
END:VEVENT
BEGIN:VEVENT
DTSTART;TZID=Europe/London:20230513T090000
DTEND;TZID=Europe/London:20230513T223000
DTSTAMP:20260420T042204
CREATED:20230512T185836Z
LAST-MODIFIED:20230512T185836Z
UID:10001553-1683968400-1684017000@forsinardflyfishers.co.uk
SUMMARY:ALL DAY SESSION
DESCRIPTION:P.SMITH
URL:https://forsinardflyfishers.co.uk/booking/all-day-session-683/
CATEGORIES:Loch na h-Eaglaise Beag
END:VEVENT
BEGIN:VEVENT
DTSTART;TZID=Europe/London:20230513T090000
DTEND;TZID=Europe/London:20230513T200000
DTSTAMP:20260420T042204
CREATED:20230420T072925Z
LAST-MODIFIED:20230420T072925Z
UID:10001528-1683968400-1684008000@forsinardflyfishers.co.uk
SUMMARY:ALL DAY SESSION
DESCRIPTION:J.WASTLE
URL:https://forsinardflyfishers.co.uk/booking/all-day-session-662/
CATEGORIES:Loch Skyline
END:VEVENT
BEGIN:VEVENT
DTSTART;TZID=Europe/London:20230512T090000
DTEND;TZID=Europe/London:20230512T230000
DTSTAMP:20260420T042204
CREATED:20230426T165327Z
LAST-MODIFIED:20230426T165327Z
UID:10001537-1683882000-1683932400@forsinardflyfishers.co.uk
SUMMARY:ALL DAY SESSION
DESCRIPTION:S.CUMMING
URL:https://forsinardflyfishers.co.uk/booking/all-day-session-669/
CATEGORIES:Loch Caol Altnabreac
END:VEVENT
BEGIN:VEVENT
DTSTART;TZID=Europe/London:20230512T090000
DTEND;TZID=Europe/London:20230512T223000
DTSTAMP:20260420T042204
CREATED:20230511T092239Z
LAST-MODIFIED:20230511T092239Z
UID:10001550-1683882000-1683930600@forsinardflyfishers.co.uk
SUMMARY:ALL DAY SESSION
DESCRIPTION:D.ROBSON
URL:https://forsinardflyfishers.co.uk/booking/all-day-session-681/
CATEGORIES:Loch an Fheoir,Lochan na Ceardaich
END:VEVENT
BEGIN:VEVENT
DTSTART;TZID=Europe/London:20230511T090000
DTEND;TZID=Europe/London:20230511T223000
DTSTAMP:20260420T042204
CREATED:20230510T172834Z
LAST-MODIFIED:20230510T172834Z
UID:10001549-1683795600-1683844200@forsinardflyfishers.co.uk
SUMMARY:ALL DAY SESSION
DESCRIPTION:W.PLANK
URL:https://forsinardflyfishers.co.uk/booking/all-day-session-680/
CATEGORIES:Loch Thormaid
END:VEVENT
BEGIN:VEVENT
DTSTART;TZID=Europe/London:20230511T090000
DTEND;TZID=Europe/London:20230511T200000
DTSTAMP:20260420T042204
CREATED:20230403T185018Z
LAST-MODIFIED:20230403T185018Z
UID:10001502-1683795600-1683835200@forsinardflyfishers.co.uk
SUMMARY:ALL DAY SESSION
DESCRIPTION:R.LANE/B.McCORKELL
URL:https://forsinardflyfishers.co.uk/booking/all-day-session-636/
CATEGORIES:Loch Leir
END:VEVENT
BEGIN:VEVENT
DTSTART;TZID=Europe/London:20230510T090000
DTEND;TZID=Europe/London:20230510T220000
DTSTAMP:20260420T042204
CREATED:20230403T184911Z
LAST-MODIFIED:20230403T184911Z
UID:10001501-1683709200-1683756000@forsinardflyfishers.co.uk
SUMMARY:ALL DAY SESSION
DESCRIPTION:R.LANE/B.McCORKELL
URL:https://forsinardflyfishers.co.uk/booking/all-day-session-635/
CATEGORIES:Loch Caise
END:VEVENT
BEGIN:VEVENT
DTSTART;TZID=Europe/London:20230509T090000
DTEND;TZID=Europe/London:20230509T223000
DTSTAMP:20260420T042204
CREATED:20230403T185231Z
LAST-MODIFIED:20230403T185231Z
UID:10001503-1683622800-1683671400@forsinardflyfishers.co.uk
SUMMARY:ALL DAY SESSION
DESCRIPTION:R.LANE/B.McCORKELL
URL:https://forsinardflyfishers.co.uk/booking/all-day-session-637/
CATEGORIES:Loch Slethill
END:VEVENT
BEGIN:VEVENT
DTSTART;TZID=Europe/London:20230508T090000
DTEND;TZID=Europe/London:20230508T223000
DTSTAMP:20260420T042204
CREATED:20230507T062315Z
LAST-MODIFIED:20230507T062315Z
UID:10001548-1683536400-1683585000@forsinardflyfishers.co.uk
SUMMARY:ALL DAY SESSION
DESCRIPTION:K.ALLAN
URL:https://forsinardflyfishers.co.uk/booking/all-day-session-679/
CATEGORIES:Caol North
END:VEVENT
BEGIN:VEVENT
DTSTART;TZID=Europe/London:20230508T090000
DTEND;TZID=Europe/London:20230508T223000
DTSTAMP:20260420T042204
CREATED:20230403T184820Z
LAST-MODIFIED:20230403T184820Z
UID:10001500-1683536400-1683585000@forsinardflyfishers.co.uk
SUMMARY:ALL DAY SESSION
DESCRIPTION:R.LANE/B.McCORKELL
URL:https://forsinardflyfishers.co.uk/booking/all-day-session-634/
CATEGORIES:Loch Garbh
END:VEVENT
BEGIN:VEVENT
DTSTART;TZID=Europe/London:20230507T090000
DTEND;TZID=Europe/London:20230507T223000
DTSTAMP:20260420T042204
CREATED:20230428T183917Z
LAST-MODIFIED:20230428T183917Z
UID:10001540-1683450000-1683498600@forsinardflyfishers.co.uk
SUMMARY:ALL DAY SESSION
DESCRIPTION:J.ONEILL/C.FINDLATER
URL:https://forsinardflyfishers.co.uk/booking/all-day-session-672/
CATEGORIES:Loch Garbh
END:VEVENT
BEGIN:VEVENT
DTSTART;TZID=Europe/London:20230506T090000
DTEND;TZID=Europe/London:20230506T223000
DTSTAMP:20260420T042204
CREATED:20230428T183842Z
LAST-MODIFIED:20230428T183842Z
UID:10001539-1683363600-1683412200@forsinardflyfishers.co.uk
SUMMARY:ALL DAY SESSION
DESCRIPTION:J.ONEILL/C.FINDLATER
URL:https://forsinardflyfishers.co.uk/booking/all-day-session-671/
CATEGORIES:Loch Caise
END:VEVENT
BEGIN:VEVENT
DTSTART;TZID=Europe/London:20230505T090000
DTEND;TZID=Europe/London:20230505T223000
DTSTAMP:20260420T042204
CREATED:20230428T183734Z
LAST-MODIFIED:20230428T183734Z
UID:10001538-1683277200-1683325800@forsinardflyfishers.co.uk
SUMMARY:ALL DAY SESSION
DESCRIPTION:J.ONEILL/C.FINDLATER
URL:https://forsinardflyfishers.co.uk/booking/all-day-session-670/
CATEGORIES:Loch Leir
END:VEVENT
BEGIN:VEVENT
DTSTART;TZID=Europe/London:20230505T090000
DTEND;TZID=Europe/London:20230505T223000
DTSTAMP:20260420T042204
CREATED:20230426T165115Z
LAST-MODIFIED:20230426T165115Z
UID:10001535-1683277200-1683325800@forsinardflyfishers.co.uk
SUMMARY:ALL DAY SESSION
DESCRIPTION:P.CARTWRIGHT/I.CARTWRIGHT
URL:https://forsinardflyfishers.co.uk/booking/all-day-session-667/
CATEGORIES:Loch Slethill
END:VEVENT
BEGIN:VEVENT
DTSTART;TZID=Europe/London:20230430T090000
DTEND;TZID=Europe/London:20230430T223000
DTSTAMP:20260420T042204
CREATED:20230426T165206Z
LAST-MODIFIED:20230428T184342Z
UID:10001536-1682845200-1682893800@forsinardflyfishers.co.uk
SUMMARY:ALL DAY SESSION
DESCRIPTION:G.MACKAY
URL:https://forsinardflyfishers.co.uk/booking/all-day-session-668/
CATEGORIES:Loch Coulbackie
END:VEVENT
BEGIN:VEVENT
DTSTART;TZID=Europe/London:20230429T090000
DTEND;TZID=Europe/London:20230429T223000
DTSTAMP:20260420T042204
CREATED:20230426T165024Z
LAST-MODIFIED:20230426T165024Z
UID:10001534-1682758800-1682807400@forsinardflyfishers.co.uk
SUMMARY:ALL DAY SESSION
DESCRIPTION:F.INGRAMS
URL:https://forsinardflyfishers.co.uk/booking/all-day-session-666/
CATEGORIES:Loch Slethill
END:VEVENT
BEGIN:VEVENT
DTSTART;TZID=Europe/London:20230429T090000
DTEND;TZID=Europe/London:20230429T190000
DTSTAMP:20260420T042204
CREATED:20230428T184041Z
LAST-MODIFIED:20230428T184041Z
UID:10001541-1682758800-1682794800@forsinardflyfishers.co.uk
SUMMARY:ALL DAY SESSION
DESCRIPTION:K.ALLAN
URL:https://forsinardflyfishers.co.uk/booking/all-day-session-673/
CATEGORIES:Loch Sgitheanach
END:VEVENT
BEGIN:VEVENT
DTSTART;TZID=Europe/London:20230423T090000
DTEND;TZID=Europe/London:20230423T210000
DTSTAMP:20260420T042204
CREATED:20230422T201409Z
LAST-MODIFIED:20230422T201409Z
UID:10001531-1682240400-1682283600@forsinardflyfishers.co.uk
SUMMARY:ALL DAY SESSION
DESCRIPTION:C.CAMPBELL
URL:https://forsinardflyfishers.co.uk/booking/all-day-session-665/
CATEGORIES:Loch Badaireach na Gaoithe,Lochan nan Clach Geala
END:VEVENT
BEGIN:VEVENT
DTSTART;TZID=Europe/London:20230422T090000
DTEND;TZID=Europe/London:20230422T223000
DTSTAMP:20260420T042204
CREATED:20230420T072700Z
LAST-MODIFIED:20230420T072700Z
UID:10001526-1682154000-1682202600@forsinardflyfishers.co.uk
SUMMARY:ALL DAY SESSION
DESCRIPTION:K.ALLAN
URL:https://forsinardflyfishers.co.uk/booking/all-day-session-660/
CATEGORIES:Loch Skyline
END:VEVENT
BEGIN:VEVENT
DTSTART;TZID=Europe/London:20230422T090000
DTEND;TZID=Europe/London:20230422T223000
DTSTAMP:20260420T042204
CREATED:20230417T191746Z
LAST-MODIFIED:20230417T191746Z
UID:10001522-1682154000-1682202600@forsinardflyfishers.co.uk
SUMMARY:ALL DAY SESSION
DESCRIPTION:L.HERBERTSON
URL:https://forsinardflyfishers.co.uk/booking/all-day-session-656/
CATEGORIES:Loch Slethill
END:VEVENT
BEGIN:VEVENT
DTSTART;TZID=Europe/London:20230421T090000
DTEND;TZID=Europe/London:20230421T223000
DTSTAMP:20260420T042204
CREATED:20230414T161149Z
LAST-MODIFIED:20230414T161149Z
UID:10001519-1682067600-1682116200@forsinardflyfishers.co.uk
SUMMARY:ALL DAY SESSION
DESCRIPTION:S.CUMMING/J.HOOK
URL:https://forsinardflyfishers.co.uk/booking/all-day-session-653/
CATEGORIES:Cross Lochs
END:VEVENT
BEGIN:VEVENT
DTSTART;TZID=Europe/London:20230419T090000
DTEND;TZID=Europe/London:20230419T220000
DTSTAMP:20260420T042204
CREATED:20230419T061617Z
LAST-MODIFIED:20230419T061617Z
UID:10001525-1681894800-1681941600@forsinardflyfishers.co.uk
SUMMARY:ALL DAY SESSION
DESCRIPTION:L.MACNEIL/G.MACKAY
URL:https://forsinardflyfishers.co.uk/booking/all-day-session-659/
CATEGORIES:Lochan Croc nan Lair
END:VEVENT
END:VCALENDAR