BEGIN:VCALENDAR
VERSION:2.0
PRODID:-//Forsinard Flyfishers&#039; Club - ECPv6.15.20//NONSGML v1.0//EN
CALSCALE:GREGORIAN
METHOD:PUBLISH
X-WR-CALNAME:Forsinard Flyfishers&#039; Club
X-ORIGINAL-URL:https://forsinardflyfishers.co.uk
X-WR-CALDESC:Events for Forsinard Flyfishers&#039; Club
REFRESH-INTERVAL;VALUE=DURATION:PT1H
X-Robots-Tag:noindex
X-PUBLISHED-TTL:PT1H
BEGIN:VTIMEZONE
TZID:Europe/London
BEGIN:DAYLIGHT
TZOFFSETFROM:+0000
TZOFFSETTO:+0100
TZNAME:BST
DTSTART:20220327T010000
END:DAYLIGHT
BEGIN:STANDARD
TZOFFSETFROM:+0100
TZOFFSETTO:+0000
TZNAME:GMT
DTSTART:20221030T010000
END:STANDARD
BEGIN:DAYLIGHT
TZOFFSETFROM:+0000
TZOFFSETTO:+0100
TZNAME:BST
DTSTART:20230326T010000
END:DAYLIGHT
BEGIN:STANDARD
TZOFFSETFROM:+0100
TZOFFSETTO:+0000
TZNAME:GMT
DTSTART:20231029T010000
END:STANDARD
BEGIN:DAYLIGHT
TZOFFSETFROM:+0000
TZOFFSETTO:+0100
TZNAME:BST
DTSTART:20240331T010000
END:DAYLIGHT
BEGIN:STANDARD
TZOFFSETFROM:+0100
TZOFFSETTO:+0000
TZNAME:GMT
DTSTART:20241027T010000
END:STANDARD
BEGIN:DAYLIGHT
TZOFFSETFROM:+0000
TZOFFSETTO:+0100
TZNAME:BST
DTSTART:20250330T010000
END:DAYLIGHT
BEGIN:STANDARD
TZOFFSETFROM:+0100
TZOFFSETTO:+0000
TZNAME:GMT
DTSTART:20251026T010000
END:STANDARD
END:VTIMEZONE
BEGIN:VEVENT
DTSTART;TZID=Europe/London:20240401T080000
DTEND;TZID=Europe/London:20241005T170000
DTSTAMP:20260422T005523
CREATED:20240812T192448Z
LAST-MODIFIED:20240812T192448Z
UID:10001937-1711958400-1728147600@forsinardflyfishers.co.uk
SUMMARY:NO FISHING AVAILABLE
DESCRIPTION:NO FISHING AVAILABLE
URL:https://forsinardflyfishers.co.uk/booking/no-fishing-available-38/
CATEGORIES:Loch Grassie
END:VEVENT
BEGIN:VEVENT
DTSTART;TZID=Europe/London:20240401T080000
DTEND;TZID=Europe/London:20241005T233000
DTSTAMP:20260422T005523
CREATED:20240406T075006Z
LAST-MODIFIED:20240406T075006Z
UID:10001793-1711958400-1728171000@forsinardflyfishers.co.uk
SUMMARY:NO FISHING AVAILABLE
DESCRIPTION:NO FISHING AVAILABLE
URL:https://forsinardflyfishers.co.uk/booking/no-fishing-available-37/
CATEGORIES:Loch Grassie
END:VEVENT
BEGIN:VEVENT
DTSTART;TZID=Europe/London:20231006T090000
DTEND;TZID=Europe/London:20240331T180000
DTSTAMP:20260422T005523
CREATED:20230328T101435Z
LAST-MODIFIED:20230328T101435Z
UID:10001362-1696582800-1711908000@forsinardflyfishers.co.uk
SUMMARY:NO FISHING AVAILABLE
DESCRIPTION:NO FISHING AVAILABLE
URL:https://forsinardflyfishers.co.uk/booking/no-fishing-available-22/
CATEGORIES:Bighouse Loch,Caol Loch (South),Caol North,Cross Lochs,Loch a Mhuilinn,Loch Achridigill,Loch Akran,Loch an Fheoir,Loch Bad A'Bothain,Loch Badaidh na Meana,Loch Badaireach na Gaoithe,Loch Baligill,Loch Caise,Loch Caol (Champagne),Loch Caol Altnabreac,Loch Clach Geala,Loch Coulbackie,Loch Crasgach,Loch Crocach,Loch Ealach Mor,Loch Earacha,Loch Garbh,Loch Grassie,Loch Leir,Loch na Caorach,Loch Na Cloiche,Loch na h-Eaglaise Beag,Loch na h-Eaglasie Mor (South end),Loch Na Saobhaide,Loch na Seilge,Loch nam Bo Uidhre,Loch Nam Breac,Loch nan Clach,Loch nan Gall,Loch Preas an Lochan,Loch Sainn,Loch Saird,Loch Saorach,Loch Sgitheanach,Loch Skyline,Loch Slethill,Loch Talaheel,Loch Thormaid,Lochan Croc nan Lair,Lochan na Ceardaich,Lochan Nam Breac,Lochan nan Clach Geala
END:VEVENT
BEGIN:VEVENT
DTSTART;TZID=Europe/London:20231005T090000
DTEND;TZID=Europe/London:20231005T200000
DTSTAMP:20260422T005523
CREATED:20231003T182101Z
LAST-MODIFIED:20231003T182101Z
UID:10001703-1696496400-1696536000@forsinardflyfishers.co.uk
SUMMARY:ALL DAY SESSION
DESCRIPTION:S.CUMMING
URL:https://forsinardflyfishers.co.uk/booking/all-day-session-820/
CATEGORIES:Loch Skyline
END:VEVENT
BEGIN:VEVENT
DTSTART;TZID=Europe/London:20231004T090000
DTEND;TZID=Europe/London:20231004T200000
DTSTAMP:20260422T005523
CREATED:20230924T185937Z
LAST-MODIFIED:20230924T185937Z
UID:10001702-1696410000-1696449600@forsinardflyfishers.co.uk
SUMMARY:ALL DAY SESSION
DESCRIPTION:F.SHORT
URL:https://forsinardflyfishers.co.uk/booking/all-day-session-819/
CATEGORIES:Loch Slethill
END:VEVENT
BEGIN:VEVENT
DTSTART;TZID=Europe/London:20231003T090000
DTEND;TZID=Europe/London:20231003T193000
DTSTAMP:20260422T005523
CREATED:20230924T185832Z
LAST-MODIFIED:20230924T185832Z
UID:10001701-1696323600-1696361400@forsinardflyfishers.co.uk
SUMMARY:ALL DAY SESSION
DESCRIPTION:A.BATES
URL:https://forsinardflyfishers.co.uk/booking/all-day-session-818/
CATEGORIES:Loch Leir
END:VEVENT
BEGIN:VEVENT
DTSTART;TZID=Europe/London:20231002T090000
DTEND;TZID=Europe/London:20231002T210000
DTSTAMP:20260422T005523
CREATED:20230610T055713Z
LAST-MODIFIED:20230610T055713Z
UID:10001597-1696237200-1696280400@forsinardflyfishers.co.uk
SUMMARY:ALL DAY SESSION
DESCRIPTION:G.DYER
URL:https://forsinardflyfishers.co.uk/booking/all-day-session-723/
CATEGORIES:Loch na Seilge
END:VEVENT
BEGIN:VEVENT
DTSTART;TZID=Europe/London:20231001T090000
DTEND;TZID=Europe/London:20231005T180000
DTSTAMP:20260422T005523
CREATED:20230328T101837Z
LAST-MODIFIED:20230328T101837Z
UID:10001364-1696150800-1696528800@forsinardflyfishers.co.uk
SUMMARY:NO FISHING AVAILABLE
DESCRIPTION:NO FISHING AVAILABLE
URL:https://forsinardflyfishers.co.uk/booking/no-fishing-available-24/
CATEGORIES:Loch Sainn,Loch Saird
END:VEVENT
BEGIN:VEVENT
DTSTART;TZID=Europe/London:20231001T090000
DTEND;TZID=Europe/London:20231001T200000
DTSTAMP:20260422T005523
CREATED:20230924T185138Z
LAST-MODIFIED:20230924T185138Z
UID:10001697-1696150800-1696190400@forsinardflyfishers.co.uk
SUMMARY:ALL DAY SESSION
DESCRIPTION:A.BATES
URL:https://forsinardflyfishers.co.uk/booking/all-day-session-814/
CATEGORIES:Loch Slethill
END:VEVENT
BEGIN:VEVENT
DTSTART;TZID=Europe/London:20230929T090000
DTEND;TZID=Europe/London:20230929T200000
DTSTAMP:20260422T005523
CREATED:20230924T185550Z
LAST-MODIFIED:20230924T185550Z
UID:10001700-1695978000-1696017600@forsinardflyfishers.co.uk
SUMMARY:ALL DAY SESSION
DESCRIPTION:G.PAGOAGA
URL:https://forsinardflyfishers.co.uk/booking/all-day-session-817/
CATEGORIES:Loch Leir
END:VEVENT
BEGIN:VEVENT
DTSTART;TZID=Europe/London:20230927T090000
DTEND;TZID=Europe/London:20230927T223000
DTSTAMP:20260422T005523
CREATED:20230820T081632Z
LAST-MODIFIED:20230820T081632Z
UID:10001680-1695805200-1695853800@forsinardflyfishers.co.uk
SUMMARY:ALL DAY SESSION
DESCRIPTION:G.PAGOAGA
URL:https://forsinardflyfishers.co.uk/booking/all-day-session-797/
CATEGORIES:Loch Slethill
END:VEVENT
BEGIN:VEVENT
DTSTART;TZID=Europe/London:20230927T090000
DTEND;TZID=Europe/London:20230927T200000
DTSTAMP:20260422T005523
CREATED:20230924T185452Z
LAST-MODIFIED:20230924T185452Z
UID:10001699-1695805200-1695844800@forsinardflyfishers.co.uk
SUMMARY:ALL DAY SESSION
DESCRIPTION:D.ROBSON
URL:https://forsinardflyfishers.co.uk/booking/all-day-session-816/
CATEGORIES:Loch Coulbackie
END:VEVENT
BEGIN:VEVENT
DTSTART;TZID=Europe/London:20230926T090000
DTEND;TZID=Europe/London:20230926T200000
DTSTAMP:20260422T005523
CREATED:20230924T185326Z
LAST-MODIFIED:20230924T185326Z
UID:10001698-1695718800-1695758400@forsinardflyfishers.co.uk
SUMMARY:ALL DAY SESSION
DESCRIPTION:D.ROBSON
URL:https://forsinardflyfishers.co.uk/booking/all-day-session-815/
CATEGORIES:Bighouse Loch
END:VEVENT
BEGIN:VEVENT
DTSTART;TZID=Europe/London:20230925T090000
DTEND;TZID=Europe/London:20230925T223000
DTSTAMP:20260422T005523
CREATED:20230820T081513Z
LAST-MODIFIED:20230820T081513Z
UID:10001678-1695632400-1695681000@forsinardflyfishers.co.uk
SUMMARY:ALL DAY SESSION
DESCRIPTION:G.PAGOAGA
URL:https://forsinardflyfishers.co.uk/booking/all-day-session-795/
CATEGORIES:Loch Skyline
END:VEVENT
BEGIN:VEVENT
DTSTART;TZID=Europe/London:20230923T090000
DTEND;TZID=Europe/London:20230923T223000
DTSTAMP:20260422T005523
CREATED:20230725T062212Z
LAST-MODIFIED:20230725T062212Z
UID:10001653-1695459600-1695508200@forsinardflyfishers.co.uk
SUMMARY:ALL DAY SESSION
DESCRIPTION:R.FRISBY
URL:https://forsinardflyfishers.co.uk/booking/all-day-session-770/
CATEGORIES:Loch Slethill
END:VEVENT
BEGIN:VEVENT
DTSTART;TZID=Europe/London:20230922T090000
DTEND;TZID=Europe/London:20230922T223000
DTSTAMP:20260422T005523
CREATED:20230825T044703Z
LAST-MODIFIED:20230825T044703Z
UID:10001684-1695373200-1695421800@forsinardflyfishers.co.uk
SUMMARY:ALL DAY SESSION
DESCRIPTION:ALAN SUTHERLAND
URL:https://forsinardflyfishers.co.uk/booking/all-day-session-801/
CATEGORIES:Loch na Caorach,Loch na Seilge
END:VEVENT
BEGIN:VEVENT
DTSTART;TZID=Europe/London:20230922T090000
DTEND;TZID=Europe/London:20230922T223000
DTSTAMP:20260422T005523
CREATED:20230820T081343Z
LAST-MODIFIED:20230820T081343Z
UID:10001676-1695373200-1695421800@forsinardflyfishers.co.uk
SUMMARY:ALL DAY SESSION
DESCRIPTION:G.PAGOAGA
URL:https://forsinardflyfishers.co.uk/booking/all-day-session-793/
CATEGORIES:Loch Talaheel
END:VEVENT
BEGIN:VEVENT
DTSTART;TZID=Europe/London:20230922T090000
DTEND;TZID=Europe/London:20230922T223000
DTSTAMP:20260422T005523
CREATED:20230809T195833Z
LAST-MODIFIED:20230809T195833Z
UID:10001672-1695373200-1695421800@forsinardflyfishers.co.uk
SUMMARY:ALL DAY SESSION
DESCRIPTION:R.FRISBY
URL:https://forsinardflyfishers.co.uk/booking/all-day-session-789/
CATEGORIES:Loch Thormaid
END:VEVENT
BEGIN:VEVENT
DTSTART;TZID=Europe/London:20230922T090000
DTEND;TZID=Europe/London:20230922T223000
DTSTAMP:20260422T005523
CREATED:20230809T195553Z
LAST-MODIFIED:20230809T195553Z
UID:10001670-1695373200-1695421800@forsinardflyfishers.co.uk
SUMMARY:ALL DAY SESSION
DESCRIPTION:I.MITCHELL + 2
URL:https://forsinardflyfishers.co.uk/booking/all-day-session-787/
CATEGORIES:Loch nan Gall
END:VEVENT
BEGIN:VEVENT
DTSTART;TZID=Europe/London:20230922T090000
DTEND;TZID=Europe/London:20230922T223000
DTSTAMP:20260422T005523
CREATED:20230809T193116Z
LAST-MODIFIED:20230809T193116Z
UID:10001664-1695373200-1695421800@forsinardflyfishers.co.uk
SUMMARY:ALL DAY SESSION
DESCRIPTION:B.MCNEIL +2
URL:https://forsinardflyfishers.co.uk/booking/all-day-session-781/
CATEGORIES:Loch Leir
END:VEVENT
BEGIN:VEVENT
DTSTART;TZID=Europe/London:20230922T090000
DTEND;TZID=Europe/London:20230922T200000
DTSTAMP:20260422T005523
CREATED:20230912T054346Z
LAST-MODIFIED:20230912T054346Z
UID:10001693-1695373200-1695412800@forsinardflyfishers.co.uk
SUMMARY:ALL DAY SESSION
DESCRIPTION:D.BARCLAY
URL:https://forsinardflyfishers.co.uk/booking/all-day-session-810/
CATEGORIES:Loch Ealach Mor
END:VEVENT
BEGIN:VEVENT
DTSTART;TZID=Europe/London:20230921T090000
DTEND;TZID=Europe/London:20230921T223000
DTSTAMP:20260422T005523
CREATED:20230725T062135Z
LAST-MODIFIED:20230725T062135Z
UID:10001652-1695286800-1695335400@forsinardflyfishers.co.uk
SUMMARY:ALL DAY SESSION
DESCRIPTION:R.FRISBY
URL:https://forsinardflyfishers.co.uk/booking/all-day-session-769/
CATEGORIES:Loch Caol Altnabreac
END:VEVENT
BEGIN:VEVENT
DTSTART;TZID=Europe/London:20230921T090000
DTEND;TZID=Europe/London:20230921T220000
DTSTAMP:20260422T005523
CREATED:20230504T055115Z
LAST-MODIFIED:20230504T055115Z
UID:10001543-1695286800-1695333600@forsinardflyfishers.co.uk
SUMMARY:ALL DAY SESSION
DESCRIPTION:B.MCNEIL\,I.MITCHELL\,D.BRYCE
URL:https://forsinardflyfishers.co.uk/booking/all-day-session-675/
CATEGORIES:Loch Nam Breac
END:VEVENT
BEGIN:VEVENT
DTSTART;TZID=Europe/London:20230921T090000
DTEND;TZID=Europe/London:20230921T200000
DTSTAMP:20260422T005523
CREATED:20230912T054305Z
LAST-MODIFIED:20230912T054305Z
UID:10001692-1695286800-1695326400@forsinardflyfishers.co.uk
SUMMARY:ALL DAY SESSION
DESCRIPTION:D.BARCLAY
URL:https://forsinardflyfishers.co.uk/booking/all-day-session-809/
CATEGORIES:Loch na Seilge
END:VEVENT
BEGIN:VEVENT
DTSTART;TZID=Europe/London:20230920T090000
DTEND;TZID=Europe/London:20230920T220000
DTSTAMP:20260422T005523
CREATED:20230725T062055Z
LAST-MODIFIED:20230725T062055Z
UID:10001651-1695200400-1695247200@forsinardflyfishers.co.uk
SUMMARY:ALL DAY SESSION
DESCRIPTION:R.FRISBY
URL:https://forsinardflyfishers.co.uk/booking/all-day-session-768/
CATEGORIES:Loch Clach Geala
END:VEVENT
BEGIN:VEVENT
DTSTART;TZID=Europe/London:20230920T090000
DTEND;TZID=Europe/London:20230920T220000
DTSTAMP:20260422T005523
CREATED:20230402T081817Z
LAST-MODIFIED:20230402T081817Z
UID:10001474-1695200400-1695247200@forsinardflyfishers.co.uk
SUMMARY:ALL DAY SESSION
DESCRIPTION:B.MCNEIL/D.BRYCE/I.MITCHELL
URL:https://forsinardflyfishers.co.uk/booking/all-day-session-614/
CATEGORIES:Loch na Caorach
END:VEVENT
BEGIN:VEVENT
DTSTART;TZID=Europe/London:20230920T090000
DTEND;TZID=Europe/London:20230920T200000
DTSTAMP:20260422T005523
CREATED:20230912T054432Z
LAST-MODIFIED:20230912T054432Z
UID:10001694-1695200400-1695240000@forsinardflyfishers.co.uk
SUMMARY:ALL DAY SESSION
DESCRIPTION:D.BARCLAY
URL:https://forsinardflyfishers.co.uk/booking/all-day-session-811/
CATEGORIES:Loch Akran
END:VEVENT
BEGIN:VEVENT
DTSTART;TZID=Europe/London:20230920T090000
DTEND;TZID=Europe/London:20230920T200000
DTSTAMP:20260422T005523
CREATED:20230906T054237Z
LAST-MODIFIED:20230906T054237Z
UID:10001690-1695200400-1695240000@forsinardflyfishers.co.uk
SUMMARY:ALL DAY SESSION
DESCRIPTION:K.GRAINGER
URL:https://forsinardflyfishers.co.uk/booking/all-day-session-807/
CATEGORIES:Loch Coulbackie
END:VEVENT
BEGIN:VEVENT
DTSTART;TZID=Europe/London:20230919T090000
DTEND;TZID=Europe/London:20230919T220000
DTSTAMP:20260422T005523
CREATED:20230725T062001Z
LAST-MODIFIED:20230725T062001Z
UID:10001650-1695114000-1695160800@forsinardflyfishers.co.uk
SUMMARY:ALL DAY SESSION
DESCRIPTION:R.FRISBY
URL:https://forsinardflyfishers.co.uk/booking/all-day-session-767/
CATEGORIES:Loch na Seilge
END:VEVENT
BEGIN:VEVENT
DTSTART;TZID=Europe/London:20230919T090000
DTEND;TZID=Europe/London:20230919T220000
DTSTAMP:20260422T005523
CREATED:20230402T082052Z
LAST-MODIFIED:20230402T082052Z
UID:10001476-1695114000-1695160800@forsinardflyfishers.co.uk
SUMMARY:ALL DAY SESSION
DESCRIPTION:B.MCNEIL/D.BRYCE/I.MITCHELL
URL:https://forsinardflyfishers.co.uk/booking/all-day-session-616/
CATEGORIES:Cross Lochs
END:VEVENT
END:VCALENDAR