BEGIN:VCALENDAR
VERSION:2.0
PRODID:-//Forsinard Flyfishers&#039; Club - ECPv6.15.20//NONSGML v1.0//EN
CALSCALE:GREGORIAN
METHOD:PUBLISH
X-WR-CALNAME:Forsinard Flyfishers&#039; Club
X-ORIGINAL-URL:https://forsinardflyfishers.co.uk
X-WR-CALDESC:Events for Forsinard Flyfishers&#039; Club
REFRESH-INTERVAL;VALUE=DURATION:PT1H
X-Robots-Tag:noindex
X-PUBLISHED-TTL:PT1H
BEGIN:VTIMEZONE
TZID:Europe/London
BEGIN:DAYLIGHT
TZOFFSETFROM:+0000
TZOFFSETTO:+0100
TZNAME:BST
DTSTART:20220327T010000
END:DAYLIGHT
BEGIN:STANDARD
TZOFFSETFROM:+0100
TZOFFSETTO:+0000
TZNAME:GMT
DTSTART:20221030T010000
END:STANDARD
BEGIN:DAYLIGHT
TZOFFSETFROM:+0000
TZOFFSETTO:+0100
TZNAME:BST
DTSTART:20230326T010000
END:DAYLIGHT
BEGIN:STANDARD
TZOFFSETFROM:+0100
TZOFFSETTO:+0000
TZNAME:GMT
DTSTART:20231029T010000
END:STANDARD
BEGIN:DAYLIGHT
TZOFFSETFROM:+0000
TZOFFSETTO:+0100
TZNAME:BST
DTSTART:20240331T010000
END:DAYLIGHT
BEGIN:STANDARD
TZOFFSETFROM:+0100
TZOFFSETTO:+0000
TZNAME:GMT
DTSTART:20241027T010000
END:STANDARD
END:VTIMEZONE
BEGIN:VEVENT
DTSTART;TZID=Europe/London:20230615T090000
DTEND;TZID=Europe/London:20230615T223000
DTSTAMP:20260420T013723
CREATED:20230401T001533Z
LAST-MODIFIED:20230516T062849Z
UID:10001410-1686819600-1686868200@forsinardflyfishers.co.uk
SUMMARY:ALL DAY SESSION
DESCRIPTION:R.NICOLL
URL:https://forsinardflyfishers.co.uk/booking/all-day-session-552/
CATEGORIES:Loch Coulbackie
END:VEVENT
BEGIN:VEVENT
DTSTART;TZID=Europe/London:20230615T090000
DTEND;TZID=Europe/London:20230615T223000
DTSTAMP:20260420T013723
CREATED:20230331T235333Z
LAST-MODIFIED:20230331T235333Z
UID:10001393-1686819600-1686868200@forsinardflyfishers.co.uk
SUMMARY:ALL DAY SESSION
DESCRIPTION:R.COLVILL/A.DAVIDSON/M.GRANTHAM/M.SMITH
URL:https://forsinardflyfishers.co.uk/booking/all-day-session-535/
CATEGORIES:Loch na Caorach,Loch na Seilge
END:VEVENT
BEGIN:VEVENT
DTSTART;TZID=Europe/London:20230615T090000
DTEND;TZID=Europe/London:20230615T213000
DTSTAMP:20260420T013723
CREATED:20230402T140240Z
LAST-MODIFIED:20230402T140240Z
UID:10001486-1686819600-1686864600@forsinardflyfishers.co.uk
SUMMARY:ALL DAY SESSION
DESCRIPTION:M.MACKENZIE
URL:https://forsinardflyfishers.co.uk/booking/all-day-session-625/
CATEGORIES:Loch Achridigill
END:VEVENT
BEGIN:VEVENT
DTSTART;TZID=Europe/London:20230614T090000
DTEND;TZID=Europe/London:20230614T223000
DTSTAMP:20260420T013723
CREATED:20230611T125113Z
LAST-MODIFIED:20230611T125113Z
UID:10001603-1686733200-1686781800@forsinardflyfishers.co.uk
SUMMARY:ALL DAY SESSION
DESCRIPTION:A.BOOTH
URL:https://forsinardflyfishers.co.uk/booking/all-day-session-727/
CATEGORIES:Loch nam Bo Uidhre
END:VEVENT
BEGIN:VEVENT
DTSTART;TZID=Europe/London:20230614T090000
DTEND;TZID=Europe/London:20230614T223000
DTSTAMP:20260420T013723
CREATED:20230610T055257Z
LAST-MODIFIED:20230610T055257Z
UID:10001595-1686733200-1686781800@forsinardflyfishers.co.uk
SUMMARY:ALL DAY SESSION
DESCRIPTION:D.ROBSON
URL:https://forsinardflyfishers.co.uk/booking/all-day-session-722/
CATEGORIES:Loch Saorach,Loch Thormaid
END:VEVENT
BEGIN:VEVENT
DTSTART;TZID=Europe/London:20230614T090000
DTEND;TZID=Europe/London:20230614T223000
DTSTAMP:20260420T013723
CREATED:20230401T071320Z
LAST-MODIFIED:20230401T071320Z
UID:10001446-1686733200-1686781800@forsinardflyfishers.co.uk
SUMMARY:ALL DAY SESSION
DESCRIPTION:R.SMITH/L.HENDERSON
URL:https://forsinardflyfishers.co.uk/booking/all-day-session-588/
CATEGORIES:Loch Talaheel
END:VEVENT
BEGIN:VEVENT
DTSTART;TZID=Europe/London:20230614T090000
DTEND;TZID=Europe/London:20230614T223000
DTSTAMP:20260420T013723
CREATED:20230401T070735Z
LAST-MODIFIED:20230401T070735Z
UID:10001441-1686733200-1686781800@forsinardflyfishers.co.uk
SUMMARY:ALL DAY SESSION
DESCRIPTION:N.PEDEN/S.GUZIC/A.ROBERTSON/D.LEAN
URL:https://forsinardflyfishers.co.uk/booking/all-day-session-583/
CATEGORIES:Loch Caise,Loch Garbh
END:VEVENT
BEGIN:VEVENT
DTSTART;TZID=Europe/London:20230614T090000
DTEND;TZID=Europe/London:20230614T220000
DTSTAMP:20260420T013723
CREATED:20230401T000329Z
LAST-MODIFIED:20230401T000329Z
UID:10001399-1686733200-1686780000@forsinardflyfishers.co.uk
SUMMARY:ALL DAY SESSION
DESCRIPTION:C.HENDRY/C.WATKINS
URL:https://forsinardflyfishers.co.uk/booking/all-day-session-541/
CATEGORIES:Loch Skyline
END:VEVENT
BEGIN:VEVENT
DTSTART;TZID=Europe/London:20230614T090000
DTEND;TZID=Europe/London:20230614T220000
DTSTAMP:20260420T013723
CREATED:20230331T235214Z
LAST-MODIFIED:20230331T235214Z
UID:10001392-1686733200-1686780000@forsinardflyfishers.co.uk
SUMMARY:ALL DAY SESSION
DESCRIPTION:A.ROBERTSON/R.MACKENZIE/D.LEAN/R.SUTTON
URL:https://forsinardflyfishers.co.uk/booking/all-day-session-534/
CATEGORIES:Loch na Caorach,Loch na Seilge
END:VEVENT
BEGIN:VEVENT
DTSTART;TZID=Europe/London:20230614T090000
DTEND;TZID=Europe/London:20230614T180000
DTSTAMP:20260420T013723
CREATED:20230401T001248Z
LAST-MODIFIED:20230401T001248Z
UID:10001408-1686733200-1686765600@forsinardflyfishers.co.uk
SUMMARY:ALL DAY SESSION
DESCRIPTION:R.SMITH/L.HENDERSON
URL:https://forsinardflyfishers.co.uk/booking/all-day-session-550/
CATEGORIES:Loch Coulbackie
END:VEVENT
BEGIN:VEVENT
DTSTART;TZID=Europe/London:20230613T090000
DTEND;TZID=Europe/London:20230613T223000
DTSTAMP:20260420T013723
CREATED:20230401T080314Z
LAST-MODIFIED:20230401T080314Z
UID:10001462-1686646800-1686695400@forsinardflyfishers.co.uk
SUMMARY:ALL DAY SESSION
DESCRIPTION:M.MACKENZIE
URL:https://forsinardflyfishers.co.uk/booking/all-day-session-604/
CATEGORIES:Bighouse Loch
END:VEVENT
BEGIN:VEVENT
DTSTART;TZID=Europe/London:20230613T090000
DTEND;TZID=Europe/London:20230613T223000
DTSTAMP:20260420T013723
CREATED:20230401T004713Z
LAST-MODIFIED:20230401T004713Z
UID:10001430-1686646800-1686695400@forsinardflyfishers.co.uk
SUMMARY:ALL DAY SESSION
DESCRIPTION:G.WILLIAMS/P.WILLIAMS/M.CORNELLISON
URL:https://forsinardflyfishers.co.uk/booking/all-day-session-572/
CATEGORIES:Loch an Fheoir,Lochan na Ceardaich
END:VEVENT
BEGIN:VEVENT
DTSTART;TZID=Europe/London:20230613T090000
DTEND;TZID=Europe/London:20230613T223000
DTSTAMP:20260420T013723
CREATED:20230401T002305Z
LAST-MODIFIED:20230401T002305Z
UID:10001418-1686646800-1686695400@forsinardflyfishers.co.uk
SUMMARY:ALL DAY SESSION
DESCRIPTION:F.SHORT
URL:https://forsinardflyfishers.co.uk/booking/all-day-session-560/
CATEGORIES:Loch Crasgach
END:VEVENT
BEGIN:VEVENT
DTSTART;TZID=Europe/London:20230613T090000
DTEND;TZID=Europe/London:20230613T220000
DTSTAMP:20260420T013723
CREATED:20230331T234146Z
LAST-MODIFIED:20230331T234146Z
UID:10001385-1686646800-1686693600@forsinardflyfishers.co.uk
SUMMARY:ALL DAY SESSION
DESCRIPTION:A.ROBERTSON/D.LEAN
URL:https://forsinardflyfishers.co.uk/booking/all-day-session-527/
CATEGORIES:Loch Na Cloiche
END:VEVENT
BEGIN:VEVENT
DTSTART;TZID=Europe/London:20230613T090000
DTEND;TZID=Europe/London:20230613T220000
DTSTAMP:20260420T013723
CREATED:20230331T233243Z
LAST-MODIFIED:20230331T233243Z
UID:10001377-1686646800-1686693600@forsinardflyfishers.co.uk
SUMMARY:ALL DAY SESSION
DESCRIPTION:L.HANSEN/T.ROGERS
URL:https://forsinardflyfishers.co.uk/booking/all-day-session-519/
CATEGORIES:Loch Caol Altnabreac
END:VEVENT
BEGIN:VEVENT
DTSTART;TZID=Europe/London:20230613T090000
DTEND;TZID=Europe/London:20230613T220000
DTSTAMP:20260420T013723
CREATED:20230331T232901Z
LAST-MODIFIED:20230331T232901Z
UID:10001373-1686646800-1686693600@forsinardflyfishers.co.uk
SUMMARY:ALL DAY SESSION
DESCRIPTION:N.PEDEN/S.GUZIC
URL:https://forsinardflyfishers.co.uk/booking/all-day-session-515/
CATEGORIES:Loch Leir
END:VEVENT
BEGIN:VEVENT
DTSTART;TZID=Europe/London:20230613T090000
DTEND;TZID=Europe/London:20230613T220000
DTSTAMP:20260420T013723
CREATED:20230331T232526Z
LAST-MODIFIED:20230331T232526Z
UID:10001369-1686646800-1686693600@forsinardflyfishers.co.uk
SUMMARY:ALL DAY SESSION
DESCRIPTION:A.DAVIDSON
URL:https://forsinardflyfishers.co.uk/booking/all-day-session-511/
CATEGORIES:Loch Slethill
END:VEVENT
BEGIN:VEVENT
DTSTART;TZID=Europe/London:20230613T090000
DTEND;TZID=Europe/London:20230613T213000
DTSTAMP:20260420T013723
CREATED:20230401T000827Z
LAST-MODIFIED:20230401T000827Z
UID:10001403-1686646800-1686691800@forsinardflyfishers.co.uk
SUMMARY:ALL DAY SESSION
DESCRIPTION:A.ROBERTSON/D.LEAN
URL:https://forsinardflyfishers.co.uk/booking/all-day-session-545/
CATEGORIES:Loch Bad A'Bothain
END:VEVENT
BEGIN:VEVENT
DTSTART;TZID=Europe/London:20230613T090000
DTEND;TZID=Europe/London:20230613T200000
DTSTAMP:20260420T013723
CREATED:20230331T233746Z
LAST-MODIFIED:20230331T233746Z
UID:10001381-1686646800-1686686400@forsinardflyfishers.co.uk
SUMMARY:ALL DAY SESSION
DESCRIPTION:R.SMITH/L.HENDERSON
URL:https://forsinardflyfishers.co.uk/booking/all-day-session-523/
CATEGORIES:Loch Ealach Mor
END:VEVENT
BEGIN:VEVENT
DTSTART;TZID=Europe/London:20230612T190000
DTEND;TZID=Europe/London:20230612T233000
DTSTAMP:20260420T013723
CREATED:20230610T055423Z
LAST-MODIFIED:20230610T055423Z
UID:10001596-1686596400-1686612600@forsinardflyfishers.co.uk
SUMMARY:EVENING SESSION
DESCRIPTION:D.ROBSON
URL:https://forsinardflyfishers.co.uk/booking/evening-session-14/
CATEGORIES:Loch Baligill,Loch Sgitheanach
END:VEVENT
BEGIN:VEVENT
DTSTART;TZID=Europe/London:20230612T090000
DTEND;TZID=Europe/London:20230612T223000
DTSTAMP:20260420T013723
CREATED:20230611T125019Z
LAST-MODIFIED:20230611T125019Z
UID:10001602-1686560400-1686609000@forsinardflyfishers.co.uk
SUMMARY:P.TENNET
DESCRIPTION:
URL:https://forsinardflyfishers.co.uk/booking/p-tennet/
CATEGORIES:Loch nam Bo Uidhre
END:VEVENT
BEGIN:VEVENT
DTSTART;TZID=Europe/London:20230612T090000
DTEND;TZID=Europe/London:20230612T220000
DTSTAMP:20260420T013723
CREATED:20230401T070048Z
LAST-MODIFIED:20230402T084245Z
UID:10001436-1686560400-1686607200@forsinardflyfishers.co.uk
SUMMARY:ALL DAY SESSION
DESCRIPTION:M.MCKENZIE
URL:https://forsinardflyfishers.co.uk/booking/all-day-session-578/
CATEGORIES:Loch Caise
END:VEVENT
BEGIN:VEVENT
DTSTART;TZID=Europe/London:20230612T090000
DTEND;TZID=Europe/London:20230612T220000
DTSTAMP:20260420T013723
CREATED:20230331T235054Z
LAST-MODIFIED:20230331T235054Z
UID:10001391-1686560400-1686607200@forsinardflyfishers.co.uk
SUMMARY:ALL DAY SESSION
DESCRIPTION:R.SMITH/MSMITH.R.COLVIL/L.HENDERSON
URL:https://forsinardflyfishers.co.uk/booking/all-day-session-533/
CATEGORIES:Loch na Caorach,Loch na Seilge
END:VEVENT
BEGIN:VEVENT
DTSTART;TZID=Europe/London:20230612T090000
DTEND;TZID=Europe/London:20230612T210000
DTSTAMP:20260420T013723
CREATED:20230505T164450Z
LAST-MODIFIED:20230505T164450Z
UID:10001545-1686560400-1686603600@forsinardflyfishers.co.uk
SUMMARY:ALL DAY SESSION
DESCRIPTION:M.MOORE
URL:https://forsinardflyfishers.co.uk/booking/all-day-session-677/
CATEGORIES:Loch Garbh
END:VEVENT
BEGIN:VEVENT
DTSTART;TZID=Europe/London:20230612T090000
DTEND;TZID=Europe/London:20230612T180000
DTSTAMP:20260420T013723
CREATED:20230401T004856Z
LAST-MODIFIED:20230401T004856Z
UID:10001431-1686560400-1686592800@forsinardflyfishers.co.uk
SUMMARY:ALL DAY SESSION
DESCRIPTION:G.WILLIAMS/P.WILLIAMS/M.CORNELLISON
URL:https://forsinardflyfishers.co.uk/booking/all-day-session-573/
CATEGORIES:Loch Clach Geala
END:VEVENT
BEGIN:VEVENT
DTSTART;TZID=Europe/London:20230611T090000
DTEND;TZID=Europe/London:20230611T223000
DTSTAMP:20260420T013723
CREATED:20230608T054206Z
LAST-MODIFIED:20230608T054206Z
UID:10001593-1686474000-1686522600@forsinardflyfishers.co.uk
SUMMARY:ALL DAY SESSION
DESCRIPTION:G.MACKAY
URL:https://forsinardflyfishers.co.uk/booking/all-day-session-720/
CATEGORIES:Loch Thormaid
END:VEVENT
BEGIN:VEVENT
DTSTART;TZID=Europe/London:20230611T090000
DTEND;TZID=Europe/London:20230611T223000
DTSTAMP:20260420T013723
CREATED:20230401T074817Z
LAST-MODIFIED:20230401T074817Z
UID:10001455-1686474000-1686522600@forsinardflyfishers.co.uk
SUMMARY:ALL DAY SESSION
DESCRIPTION:E.SOKOLOVAS/R.SOKOLOVAS
URL:https://forsinardflyfishers.co.uk/booking/all-day-session-597/
CATEGORIES:Cross Lochs
END:VEVENT
BEGIN:VEVENT
DTSTART;TZID=Europe/London:20230611T090000
DTEND;TZID=Europe/London:20230611T223000
DTSTAMP:20260420T013723
CREATED:20230401T005328Z
LAST-MODIFIED:20230401T005328Z
UID:10001434-1686474000-1686522600@forsinardflyfishers.co.uk
SUMMARY:ALL DAY SESSION
DESCRIPTION:G.WILLIAMS/P.WILLIAMS/M.CORNELLISON
URL:https://forsinardflyfishers.co.uk/booking/all-day-session-576/
CATEGORIES:Loch Badaidh na Meana
END:VEVENT
BEGIN:VEVENT
DTSTART;TZID=Europe/London:20230610T090000
DTEND;TZID=Europe/London:20230610T223000
DTSTAMP:20260420T013723
CREATED:20230401T071234Z
LAST-MODIFIED:20230401T071234Z
UID:10001445-1686387600-1686436200@forsinardflyfishers.co.uk
SUMMARY:ALL DAY SESSION
DESCRIPTION:C.SLEIGH/H.MACLENNAN
URL:https://forsinardflyfishers.co.uk/booking/all-day-session-587/
CATEGORIES:Loch Talaheel
END:VEVENT
BEGIN:VEVENT
DTSTART;TZID=Europe/London:20230610T090000
DTEND;TZID=Europe/London:20230610T220000
DTSTAMP:20260420T013723
CREATED:20230403T184153Z
LAST-MODIFIED:20230403T184153Z
UID:10001496-1686387600-1686434400@forsinardflyfishers.co.uk
SUMMARY:ALL DAY SESSION
DESCRIPTION:M.WHITE/G.WHITE
URL:https://forsinardflyfishers.co.uk/booking/all-day-session-630/
CATEGORIES:Loch Crasgach
END:VEVENT
END:VCALENDAR