BEGIN:VCALENDAR
VERSION:2.0
PRODID:-//Forsinard Flyfishers&#039; Club - ECPv6.15.20//NONSGML v1.0//EN
CALSCALE:GREGORIAN
METHOD:PUBLISH
X-WR-CALNAME:Forsinard Flyfishers&#039; Club
X-ORIGINAL-URL:https://forsinardflyfishers.co.uk
X-WR-CALDESC:Events for Forsinard Flyfishers&#039; Club
REFRESH-INTERVAL;VALUE=DURATION:PT1H
X-Robots-Tag:noindex
X-PUBLISHED-TTL:PT1H
BEGIN:VTIMEZONE
TZID:Europe/London
BEGIN:DAYLIGHT
TZOFFSETFROM:+0000
TZOFFSETTO:+0100
TZNAME:BST
DTSTART:20240331T010000
END:DAYLIGHT
BEGIN:STANDARD
TZOFFSETFROM:+0100
TZOFFSETTO:+0000
TZNAME:GMT
DTSTART:20241027T010000
END:STANDARD
BEGIN:DAYLIGHT
TZOFFSETFROM:+0000
TZOFFSETTO:+0100
TZNAME:BST
DTSTART:20250330T010000
END:DAYLIGHT
BEGIN:STANDARD
TZOFFSETFROM:+0100
TZOFFSETTO:+0000
TZNAME:GMT
DTSTART:20251026T010000
END:STANDARD
BEGIN:DAYLIGHT
TZOFFSETFROM:+0000
TZOFFSETTO:+0100
TZNAME:BST
DTSTART:20260329T010000
END:DAYLIGHT
BEGIN:STANDARD
TZOFFSETFROM:+0100
TZOFFSETTO:+0000
TZNAME:GMT
DTSTART:20261025T010000
END:STANDARD
END:VTIMEZONE
BEGIN:VEVENT
DTSTART;TZID=Europe/London:20250923T080000
DTEND;TZID=Europe/London:20250923T203000
DTSTAMP:20260421T160914
CREATED:20250914T090642Z
LAST-MODIFIED:20250915T072632Z
UID:10002323-1758614400-1758659400@forsinardflyfishers.co.uk
SUMMARY:ALL DAY SESSION
DESCRIPTION:G.PAGOAGA
URL:https://forsinardflyfishers.co.uk/booking/all-day-session-1408/
CATEGORIES:Loch Skyline
END:VEVENT
BEGIN:VEVENT
DTSTART;TZID=Europe/London:20250929T080000
DTEND;TZID=Europe/London:20250929T213000
DTSTAMP:20260421T160914
CREATED:20250401T201613Z
LAST-MODIFIED:20250401T201613Z
UID:10002066-1759132800-1759181400@forsinardflyfishers.co.uk
SUMMARY:ALL DAY SESSION
DESCRIPTION:BRUCE MCNEIL + 1
URL:https://forsinardflyfishers.co.uk/booking/all-day-session-1155/
CATEGORIES:Loch Skyline
END:VEVENT
END:VCALENDAR