BEGIN:VCALENDAR
VERSION:2.0
PRODID:-//Forsinard Flyfishers&#039; Club - ECPv6.15.20//NONSGML v1.0//EN
CALSCALE:GREGORIAN
METHOD:PUBLISH
X-ORIGINAL-URL:https://forsinardflyfishers.co.uk
X-WR-CALDESC:Events for Forsinard Flyfishers&#039; Club
REFRESH-INTERVAL;VALUE=DURATION:PT1H
X-Robots-Tag:noindex
X-PUBLISHED-TTL:PT1H
BEGIN:VTIMEZONE
TZID:Europe/London
BEGIN:DAYLIGHT
TZOFFSETFROM:+0000
TZOFFSETTO:+0100
TZNAME:BST
DTSTART:20240331T010000
END:DAYLIGHT
BEGIN:STANDARD
TZOFFSETFROM:+0100
TZOFFSETTO:+0000
TZNAME:GMT
DTSTART:20241027T010000
END:STANDARD
BEGIN:DAYLIGHT
TZOFFSETFROM:+0000
TZOFFSETTO:+0100
TZNAME:BST
DTSTART:20250330T010000
END:DAYLIGHT
BEGIN:STANDARD
TZOFFSETFROM:+0100
TZOFFSETTO:+0000
TZNAME:GMT
DTSTART:20251026T010000
END:STANDARD
BEGIN:DAYLIGHT
TZOFFSETFROM:+0000
TZOFFSETTO:+0100
TZNAME:BST
DTSTART:20260329T010000
END:DAYLIGHT
BEGIN:STANDARD
TZOFFSETFROM:+0100
TZOFFSETTO:+0000
TZNAME:GMT
DTSTART:20261025T010000
END:STANDARD
END:VTIMEZONE
BEGIN:VEVENT
DTSTART;TZID=Europe/London:20250701T080000
DTEND;TZID=Europe/London:20250701T213000
DTSTAMP:20260421T185653
CREATED:20250516T071706Z
LAST-MODIFIED:20250516T071706Z
UID:10002154-1751356800-1751405400@forsinardflyfishers.co.uk
SUMMARY:ALL DAY SESSION
DESCRIPTION:K.GRAINGER + 2
URL:https://forsinardflyfishers.co.uk/booking/all-day-session-1241/
CATEGORIES:Loch Skyline
END:VEVENT
BEGIN:VEVENT
DTSTART;TZID=Europe/London:20250711T080000
DTEND;TZID=Europe/London:20250711T210000
DTSTAMP:20260421T185653
CREATED:20250710T164940Z
LAST-MODIFIED:20250710T164940Z
UID:10002274-1752220800-1752267600@forsinardflyfishers.co.uk
SUMMARY:ALL DAY SESSION
DESCRIPTION:P.QUAIL + 1
URL:https://forsinardflyfishers.co.uk/booking/all-day-session-1360/
CATEGORIES:Loch Skyline
END:VEVENT
BEGIN:VEVENT
DTSTART;TZID=Europe/London:20250715T050000
DTEND;TZID=Europe/London:20250717T220000
DTSTAMP:20260421T185653
CREATED:20250328T194505Z
LAST-MODIFIED:20250328T194505Z
UID:10001978-1752555600-1752789600@forsinardflyfishers.co.uk
SUMMARY:NO FISHING AVAILABLE
DESCRIPTION:NO FISHING AVAILABLE
URL:https://forsinardflyfishers.co.uk/booking/no-fishing-available-41/
CATEGORIES:Loch Bad A'Bothain,Loch Caol Altnabreac,Loch Clach Geala,Loch Ealach Mor,Loch Leir,Loch Skyline,Loch Slethill,Loch Talaheel,Lochan Nam Breac
END:VEVENT
BEGIN:VEVENT
DTSTART;TZID=Europe/London:20250720T080000
DTEND;TZID=Europe/London:20250720T213000
DTSTAMP:20260421T185653
CREATED:20250401T002732Z
LAST-MODIFIED:20250401T002732Z
UID:10002039-1752998400-1753047000@forsinardflyfishers.co.uk
SUMMARY:ALL DAY SESSION
DESCRIPTION:M.RICHARDSON
URL:https://forsinardflyfishers.co.uk/booking/all-day-session-1129/
CATEGORIES:Loch Skyline
END:VEVENT
BEGIN:VEVENT
DTSTART;TZID=Europe/London:20250725T080000
DTEND;TZID=Europe/London:20250725T213000
DTSTAMP:20260421T185653
CREATED:20250413T062330Z
LAST-MODIFIED:20250413T062330Z
UID:10002096-1753430400-1753479000@forsinardflyfishers.co.uk
SUMMARY:ALL DAY SESSION
DESCRIPTION:M.CONWAY
URL:https://forsinardflyfishers.co.uk/booking/all-day-session-1185/
CATEGORIES:Loch Skyline
END:VEVENT
BEGIN:VEVENT
DTSTART;TZID=Europe/London:20250728T050000
DTEND;TZID=Europe/London:20250730T220000
DTSTAMP:20260421T185653
CREATED:20250328T194636Z
LAST-MODIFIED:20250328T194636Z
UID:10001979-1753678800-1753912800@forsinardflyfishers.co.uk
SUMMARY:NO FISHING AVAILABLE
DESCRIPTION:NO FISHING AVAILABLE
URL:https://forsinardflyfishers.co.uk/booking/no-fishing-available-42/
CATEGORIES:Loch Bad A'Bothain,Loch Caol Altnabreac,Loch Clach Geala,Loch Ealach Mor,Loch Leir,Loch Na Cloiche,Loch Skyline,Loch Slethill,Loch Talaheel,Lochan Nam Breac
END:VEVENT
BEGIN:VEVENT
DTSTART;TZID=Europe/London:20250731T080000
DTEND;TZID=Europe/London:20250731T210000
DTSTAMP:20260421T185653
CREATED:20250710T065021Z
LAST-MODIFIED:20250710T065058Z
UID:10002270-1753948800-1753995600@forsinardflyfishers.co.uk
SUMMARY:ALL DAY SESSION
DESCRIPTION:B.ELMSHIRST + 2
URL:https://forsinardflyfishers.co.uk/booking/all-day-session-1356/
CATEGORIES:Loch Caise,Loch Skyline
END:VEVENT
END:VCALENDAR