BEGIN:VCALENDAR
VERSION:2.0
PRODID:-//Forsinard Flyfishers&#039; Club - ECPv6.15.20//NONSGML v1.0//EN
CALSCALE:GREGORIAN
METHOD:PUBLISH
X-ORIGINAL-URL:https://forsinardflyfishers.co.uk
X-WR-CALDESC:Events for Forsinard Flyfishers&#039; Club
REFRESH-INTERVAL;VALUE=DURATION:PT1H
X-Robots-Tag:noindex
X-PUBLISHED-TTL:PT1H
BEGIN:VTIMEZONE
TZID:Europe/London
BEGIN:DAYLIGHT
TZOFFSETFROM:+0000
TZOFFSETTO:+0100
TZNAME:BST
DTSTART:20240331T010000
END:DAYLIGHT
BEGIN:STANDARD
TZOFFSETFROM:+0100
TZOFFSETTO:+0000
TZNAME:GMT
DTSTART:20241027T010000
END:STANDARD
BEGIN:DAYLIGHT
TZOFFSETFROM:+0000
TZOFFSETTO:+0100
TZNAME:BST
DTSTART:20250330T010000
END:DAYLIGHT
BEGIN:STANDARD
TZOFFSETFROM:+0100
TZOFFSETTO:+0000
TZNAME:GMT
DTSTART:20251026T010000
END:STANDARD
BEGIN:DAYLIGHT
TZOFFSETFROM:+0000
TZOFFSETTO:+0100
TZNAME:BST
DTSTART:20260329T010000
END:DAYLIGHT
BEGIN:STANDARD
TZOFFSETFROM:+0100
TZOFFSETTO:+0000
TZNAME:GMT
DTSTART:20261025T010000
END:STANDARD
END:VTIMEZONE
BEGIN:VEVENT
DTSTART;TZID=Europe/London:20250604T080000
DTEND;TZID=Europe/London:20250604T213000
DTSTAMP:20260421T201218
CREATED:20250428T203037Z
LAST-MODIFIED:20250428T203037Z
UID:10002119-1749024000-1749072600@forsinardflyfishers.co.uk
SUMMARY:ALL DAY SESSION
DESCRIPTION:Iain Macdonald
URL:https://forsinardflyfishers.co.uk/booking/all-day-session-1207/
CATEGORIES:Loch Skyline
END:VEVENT
BEGIN:VEVENT
DTSTART;TZID=Europe/London:20250610T080000
DTEND;TZID=Europe/London:20250610T200000
DTSTAMP:20260421T201218
CREATED:20250401T000403Z
LAST-MODIFIED:20250401T000403Z
UID:10002023-1749542400-1749585600@forsinardflyfishers.co.uk
SUMMARY:ALL DAY SESSION
DESCRIPTION:G.WILLIAMS + 2
URL:https://forsinardflyfishers.co.uk/booking/all-day-session-1113/
CATEGORIES:Loch Skyline
END:VEVENT
BEGIN:VEVENT
DTSTART;TZID=Europe/London:20250610T080000
DTEND;TZID=Europe/London:20250610T213000
DTSTAMP:20260421T201218
CREATED:20250331T232102Z
LAST-MODIFIED:20250331T232102Z
UID:10001988-1749542400-1749591000@forsinardflyfishers.co.uk
SUMMARY:ALL DAY SESSION
DESCRIPTION:G.WILLIAMS + 2
URL:https://forsinardflyfishers.co.uk/booking/all-day-session-1078/
CATEGORIES:Loch Skyline
END:VEVENT
BEGIN:VEVENT
DTSTART;TZID=Europe/London:20250616T080000
DTEND;TZID=Europe/London:20250616T213000
DTSTAMP:20260421T201218
CREATED:20250401T165028Z
LAST-MODIFIED:20250401T165028Z
UID:10002053-1750060800-1750109400@forsinardflyfishers.co.uk
SUMMARY:ALL DAY SESSION
DESCRIPTION:A.BENNETT
URL:https://forsinardflyfishers.co.uk/booking/all-day-session-1142/
CATEGORIES:Loch Skyline
END:VEVENT
BEGIN:VEVENT
DTSTART;TZID=Europe/London:20250620T080000
DTEND;TZID=Europe/London:20250620T213000
DTSTAMP:20260421T201218
CREATED:20250401T164840Z
LAST-MODIFIED:20250401T164840Z
UID:10002052-1750406400-1750455000@forsinardflyfishers.co.uk
SUMMARY:ALL DAY SESSION
DESCRIPTION:A.BENNET
URL:https://forsinardflyfishers.co.uk/booking/all-day-session-1141/
CATEGORIES:Loch Skyline
END:VEVENT
BEGIN:VEVENT
DTSTART;TZID=Europe/London:20250620T080000
DTEND;TZID=Europe/London:20250620T213000
DTSTAMP:20260421T201218
CREATED:20250610T173007Z
LAST-MODIFIED:20250610T173007Z
UID:10002222-1750406400-1750455000@forsinardflyfishers.co.uk
SUMMARY:ALL DAY SESSION
DESCRIPTION:M.THOMPSON
URL:https://forsinardflyfishers.co.uk/booking/all-day-session-1309/
CATEGORIES:Loch Skyline
END:VEVENT
BEGIN:VEVENT
DTSTART;TZID=Europe/London:20250620T080000
DTEND;TZID=Europe/London:20250620T213000
DTSTAMP:20260421T201218
CREATED:20250613T152252Z
LAST-MODIFIED:20250613T152252Z
UID:10002229-1750406400-1750455000@forsinardflyfishers.co.uk
SUMMARY:ALL DAY SESSION
DESCRIPTION:L.SWAN + 3
URL:https://forsinardflyfishers.co.uk/booking/all-day-session-1316/
CATEGORIES:Loch Skyline
END:VEVENT
BEGIN:VEVENT
DTSTART;TZID=Europe/London:20250624T080000
DTEND;TZID=Europe/London:20250624T210000
DTSTAMP:20260421T201218
CREATED:20250617T193700Z
LAST-MODIFIED:20250617T193700Z
UID:10002240-1750752000-1750798800@forsinardflyfishers.co.uk
SUMMARY:ALL DAY SESSION
DESCRIPTION:A.BENNETT + 1
URL:https://forsinardflyfishers.co.uk/booking/all-day-session-1327/
CATEGORIES:Loch Skyline
END:VEVENT
END:VCALENDAR