BEGIN:VCALENDAR
VERSION:2.0
PRODID:-//Forsinard Flyfishers&#039; Club - ECPv6.15.20//NONSGML v1.0//EN
CALSCALE:GREGORIAN
METHOD:PUBLISH
X-WR-CALNAME:Forsinard Flyfishers&#039; Club
X-ORIGINAL-URL:https://forsinardflyfishers.co.uk
X-WR-CALDESC:Events for Forsinard Flyfishers&#039; Club
REFRESH-INTERVAL;VALUE=DURATION:PT1H
X-Robots-Tag:noindex
X-PUBLISHED-TTL:PT1H
BEGIN:VTIMEZONE
TZID:Europe/London
BEGIN:DAYLIGHT
TZOFFSETFROM:+0000
TZOFFSETTO:+0100
TZNAME:BST
DTSTART:20240331T010000
END:DAYLIGHT
BEGIN:STANDARD
TZOFFSETFROM:+0100
TZOFFSETTO:+0000
TZNAME:GMT
DTSTART:20241027T010000
END:STANDARD
BEGIN:DAYLIGHT
TZOFFSETFROM:+0000
TZOFFSETTO:+0100
TZNAME:BST
DTSTART:20250330T010000
END:DAYLIGHT
BEGIN:STANDARD
TZOFFSETFROM:+0100
TZOFFSETTO:+0000
TZNAME:GMT
DTSTART:20251026T010000
END:STANDARD
BEGIN:DAYLIGHT
TZOFFSETFROM:+0000
TZOFFSETTO:+0100
TZNAME:BST
DTSTART:20260329T010000
END:DAYLIGHT
BEGIN:STANDARD
TZOFFSETFROM:+0100
TZOFFSETTO:+0000
TZNAME:GMT
DTSTART:20261025T010000
END:STANDARD
END:VTIMEZONE
BEGIN:VEVENT
DTSTART;TZID=Europe/London:20250512T050000
DTEND;TZID=Europe/London:20250514T220000
DTSTAMP:20260421T211939
CREATED:20250328T194109Z
LAST-MODIFIED:20250328T194109Z
UID:10001976-1747026000-1747260000@forsinardflyfishers.co.uk
SUMMARY:NO FISHING AVAILABLE
DESCRIPTION:NO FISHING AVAILABLE
URL:https://forsinardflyfishers.co.uk/booking/no-fishing-available-39/
CATEGORIES:Loch Bad A'Bothain,Loch Caol Altnabreac,Loch Clach Geala,Loch Ealach Mor,Loch Leir,Loch Na Cloiche,Loch Skyline,Loch Slethill,Loch Talaheel,Lochan Nam Breac
END:VEVENT
BEGIN:VEVENT
DTSTART;TZID=Europe/London:20250519T080000
DTEND;TZID=Europe/London:20250519T210000
DTSTAMP:20260421T211939
CREATED:20250508T184450Z
LAST-MODIFIED:20250508T184450Z
UID:10002133-1747641600-1747688400@forsinardflyfishers.co.uk
SUMMARY:ALL DAY SESSION
DESCRIPTION:S.CURTIS + 1
URL:https://forsinardflyfishers.co.uk/booking/all-day-session-1220/
CATEGORIES:Loch Skyline
END:VEVENT
BEGIN:VEVENT
DTSTART;TZID=Europe/London:20250523T080000
DTEND;TZID=Europe/London:20250523T210000
DTSTAMP:20260421T211939
CREATED:20250508T184405Z
LAST-MODIFIED:20250508T184405Z
UID:10002132-1747987200-1748034000@forsinardflyfishers.co.uk
SUMMARY:ALL DAY SESSION
DESCRIPTION:I.ROBERTSON + 2
URL:https://forsinardflyfishers.co.uk/booking/all-day-session-1219/
CATEGORIES:Loch Skyline
END:VEVENT
BEGIN:VEVENT
DTSTART;TZID=Europe/London:20250527T180000
DTEND;TZID=Europe/London:20250527T220000
DTSTAMP:20260421T211939
CREATED:20250525T074348Z
LAST-MODIFIED:20250525T074348Z
UID:10002175-1748368800-1748383200@forsinardflyfishers.co.uk
SUMMARY:ALL DAY SESSION
DESCRIPTION:A.PORTEOUS + 1
URL:https://forsinardflyfishers.co.uk/booking/all-day-session-1262/
CATEGORIES:Loch Skyline
END:VEVENT
BEGIN:VEVENT
DTSTART;TZID=Europe/London:20250528T050000
DTEND;TZID=Europe/London:20250530T220000
DTSTAMP:20260421T211939
CREATED:20250328T194332Z
LAST-MODIFIED:20250328T194332Z
UID:10001977-1748408400-1748642400@forsinardflyfishers.co.uk
SUMMARY:NO FISHING AVAILABLE
DESCRIPTION:NO FISHING AVAILABLE
URL:https://forsinardflyfishers.co.uk/booking/no-fishing-available-40/
CATEGORIES:Loch Bad A'Bothain,Loch Caol Altnabreac,Loch Clach Geala,Loch Ealach Mor,Loch Leir,Loch Na Cloiche,Loch Skyline,Loch Slethill,Loch Talaheel,Lochan Nam Breac
END:VEVENT
END:VCALENDAR