BEGIN:VCALENDAR
VERSION:2.0
PRODID:-//Forsinard Flyfishers&#039; Club - ECPv6.15.20//NONSGML v1.0//EN
CALSCALE:GREGORIAN
METHOD:PUBLISH
X-WR-CALNAME:Forsinard Flyfishers&#039; Club
X-ORIGINAL-URL:https://forsinardflyfishers.co.uk
X-WR-CALDESC:Events for Forsinard Flyfishers&#039; Club
REFRESH-INTERVAL;VALUE=DURATION:PT1H
X-Robots-Tag:noindex
X-PUBLISHED-TTL:PT1H
BEGIN:VTIMEZONE
TZID:Europe/London
BEGIN:DAYLIGHT
TZOFFSETFROM:+0000
TZOFFSETTO:+0100
TZNAME:BST
DTSTART:20240331T010000
END:DAYLIGHT
BEGIN:STANDARD
TZOFFSETFROM:+0100
TZOFFSETTO:+0000
TZNAME:GMT
DTSTART:20241027T010000
END:STANDARD
BEGIN:DAYLIGHT
TZOFFSETFROM:+0000
TZOFFSETTO:+0100
TZNAME:BST
DTSTART:20250330T010000
END:DAYLIGHT
BEGIN:STANDARD
TZOFFSETFROM:+0100
TZOFFSETTO:+0000
TZNAME:GMT
DTSTART:20251026T010000
END:STANDARD
BEGIN:DAYLIGHT
TZOFFSETFROM:+0000
TZOFFSETTO:+0100
TZNAME:BST
DTSTART:20260329T010000
END:DAYLIGHT
BEGIN:STANDARD
TZOFFSETFROM:+0100
TZOFFSETTO:+0000
TZNAME:GMT
DTSTART:20261025T010000
END:STANDARD
END:VTIMEZONE
BEGIN:VEVENT
DTSTART;TZID=Europe/London:20250602T080000
DTEND;TZID=Europe/London:20250602T213000
DTSTAMP:20260422T111701
CREATED:20250331T232216Z
LAST-MODIFIED:20250331T232216Z
UID:10001989-1748851200-1748899800@forsinardflyfishers.co.uk
SUMMARY:ALL DAY SESSION
DESCRIPTION:P.WESTWATER + 1
URL:https://forsinardflyfishers.co.uk/booking/all-day-session-1079/
CATEGORIES:Loch na Seilge
END:VEVENT
BEGIN:VEVENT
DTSTART;TZID=Europe/London:20250603T080000
DTEND;TZID=Europe/London:20250603T213000
DTSTAMP:20260422T111701
CREATED:20250401T000051Z
LAST-MODIFIED:20250401T000051Z
UID:10002021-1748937600-1748986200@forsinardflyfishers.co.uk
SUMMARY:ALL DAY SESSION
DESCRIPTION:C.ANTON + 1
URL:https://forsinardflyfishers.co.uk/booking/all-day-session-1111/
CATEGORIES:Loch na Seilge
END:VEVENT
BEGIN:VEVENT
DTSTART;TZID=Europe/London:20250609T080000
DTEND;TZID=Europe/London:20250609T213000
DTSTAMP:20260422T111701
CREATED:20250601T130654Z
LAST-MODIFIED:20250601T130654Z
UID:10002193-1749456000-1749504600@forsinardflyfishers.co.uk
SUMMARY:ALL DAY SESSION
DESCRIPTION:W.GREEN + 3
URL:https://forsinardflyfishers.co.uk/booking/all-day-session-1280/
CATEGORIES:Loch na Caorach,Loch na Seilge
END:VEVENT
BEGIN:VEVENT
DTSTART;TZID=Europe/London:20250610T080000
DTEND;TZID=Europe/London:20250610T213000
DTSTAMP:20260422T111701
CREATED:20250331T235116Z
LAST-MODIFIED:20250331T235116Z
UID:10002013-1749542400-1749591000@forsinardflyfishers.co.uk
SUMMARY:ALL DAY SESSION
DESCRIPTION:S.GRAY
URL:https://forsinardflyfishers.co.uk/booking/all-day-session-1103/
CATEGORIES:Loch na Seilge
END:VEVENT
BEGIN:VEVENT
DTSTART;TZID=Europe/London:20250612T080000
DTEND;TZID=Europe/London:20250612T210000
DTSTAMP:20260422T111701
CREATED:20250522T071036Z
LAST-MODIFIED:20250522T071036Z
UID:10002170-1749715200-1749762000@forsinardflyfishers.co.uk
SUMMARY:ALL DAY SESSION
DESCRIPTION:I.CARTWRIGHT +1
URL:https://forsinardflyfishers.co.uk/booking/all-day-session-1257/
CATEGORIES:Loch na Seilge
END:VEVENT
BEGIN:VEVENT
DTSTART;TZID=Europe/London:20250623T080000
DTEND;TZID=Europe/London:20250623T210000
DTSTAMP:20260422T111701
CREATED:20250609T180549Z
LAST-MODIFIED:20250609T180549Z
UID:10002215-1750665600-1750712400@forsinardflyfishers.co.uk
SUMMARY:ALL DAY SESSION
DESCRIPTION:I.McIntosh
URL:https://forsinardflyfishers.co.uk/booking/all-day-session-1302/
CATEGORIES:Loch na Seilge
END:VEVENT
BEGIN:VEVENT
DTSTART;TZID=Europe/London:20250624T080000
DTEND;TZID=Europe/London:20250624T213000
DTSTAMP:20260422T111701
CREATED:20250610T114650Z
LAST-MODIFIED:20250610T114650Z
UID:10002219-1750752000-1750800600@forsinardflyfishers.co.uk
SUMMARY:ALL DAY SESSION
DESCRIPTION:P.NEWMAN
URL:https://forsinardflyfishers.co.uk/booking/all-day-session-1306/
CATEGORIES:Loch na Seilge
END:VEVENT
BEGIN:VEVENT
DTSTART;TZID=Europe/London:20250625T080000
DTEND;TZID=Europe/London:20250625T210000
DTSTAMP:20260422T111701
CREATED:20250613T151623Z
LAST-MODIFIED:20250613T151623Z
UID:10002228-1750838400-1750885200@forsinardflyfishers.co.uk
SUMMARY:ALL DAY SESSION
DESCRIPTION:L.SWAN + 3
URL:https://forsinardflyfishers.co.uk/booking/all-day-session-1315/
CATEGORIES:Loch na Caorach,Loch na Seilge
END:VEVENT
BEGIN:VEVENT
DTSTART;TZID=Europe/London:20250627T080000
DTEND;TZID=Europe/London:20250627T213000
DTSTAMP:20260422T111701
CREATED:20250331T234537Z
LAST-MODIFIED:20250331T234537Z
UID:10002008-1751011200-1751059800@forsinardflyfishers.co.uk
SUMMARY:ALL DAY SESSION
DESCRIPTION:S.JOHNSTONE
URL:https://forsinardflyfishers.co.uk/booking/all-day-session-1098/
CATEGORIES:Loch na Seilge
END:VEVENT
BEGIN:VEVENT
DTSTART;TZID=Europe/London:20250630T080000
DTEND;TZID=Europe/London:20250630T200000
DTSTAMP:20260422T111701
CREATED:20250610T115157Z
LAST-MODIFIED:20250610T115157Z
UID:10002221-1751270400-1751313600@forsinardflyfishers.co.uk
SUMMARY:ALL DAY SESSION
DESCRIPTION:M.MOORE+ 3
URL:https://forsinardflyfishers.co.uk/booking/all-day-session-1308/
CATEGORIES:Loch na Caorach,Loch na Seilge
END:VEVENT
BEGIN:VEVENT
DTSTART;TZID=Europe/London:20250630T080000
DTEND;TZID=Europe/London:20250630T213000
DTSTAMP:20260422T111701
CREATED:20250629T192719Z
LAST-MODIFIED:20250629T192719Z
UID:10002258-1751270400-1751319000@forsinardflyfishers.co.uk
SUMMARY:ALL DAY SESSION
DESCRIPTION:J.GORMAN + 3
URL:https://forsinardflyfishers.co.uk/booking/all-day-session-1344/
CATEGORIES:Loch na Caorach,Loch na Seilge
END:VEVENT
END:VCALENDAR