BEGIN:VCALENDAR
VERSION:2.0
PRODID:-//Forsinard Flyfishers&#039; Club - ECPv6.15.20//NONSGML v1.0//EN
CALSCALE:GREGORIAN
METHOD:PUBLISH
X-WR-CALNAME:Forsinard Flyfishers&#039; Club
X-ORIGINAL-URL:https://forsinardflyfishers.co.uk
X-WR-CALDESC:Events for Forsinard Flyfishers&#039; Club
REFRESH-INTERVAL;VALUE=DURATION:PT1H
X-Robots-Tag:noindex
X-PUBLISHED-TTL:PT1H
BEGIN:VTIMEZONE
TZID:Europe/London
BEGIN:DAYLIGHT
TZOFFSETFROM:+0000
TZOFFSETTO:+0100
TZNAME:BST
DTSTART:20210328T010000
END:DAYLIGHT
BEGIN:STANDARD
TZOFFSETFROM:+0100
TZOFFSETTO:+0000
TZNAME:GMT
DTSTART:20211031T010000
END:STANDARD
BEGIN:DAYLIGHT
TZOFFSETFROM:+0000
TZOFFSETTO:+0100
TZNAME:BST
DTSTART:20220327T010000
END:DAYLIGHT
BEGIN:STANDARD
TZOFFSETFROM:+0100
TZOFFSETTO:+0000
TZNAME:GMT
DTSTART:20221030T010000
END:STANDARD
BEGIN:DAYLIGHT
TZOFFSETFROM:+0000
TZOFFSETTO:+0100
TZNAME:BST
DTSTART:20230326T010000
END:DAYLIGHT
BEGIN:STANDARD
TZOFFSETFROM:+0100
TZOFFSETTO:+0000
TZNAME:GMT
DTSTART:20231029T010000
END:STANDARD
END:VTIMEZONE
BEGIN:VEVENT
DTSTART;TZID=Europe/London:20220505T090000
DTEND;TZID=Europe/London:20220505T190000
DTSTAMP:20260424T074505
CREATED:20220426T181205Z
LAST-MODIFIED:20220426T181205Z
UID:10001251-1651741200-1651777200@forsinardflyfishers.co.uk
SUMMARY:ALL DAY SESSION
DESCRIPTION:S.CUMMING\, J.HOOK
URL:https://forsinardflyfishers.co.uk/booking/all-day-session-357/
CATEGORIES:Loch Na Cloiche
END:VEVENT
BEGIN:VEVENT
DTSTART;TZID=Europe/London:20220517T090000
DTEND;TZID=Europe/London:20220519T230000
DTSTAMP:20260424T074505
CREATED:20220329T132023Z
LAST-MODIFIED:20220329T132023Z
UID:10000906-1652778000-1653001200@forsinardflyfishers.co.uk
SUMMARY:NO FISHING AVAILABLE
DESCRIPTION:
URL:https://forsinardflyfishers.co.uk/booking/no-fishing-available-14/
CATEGORIES:Cross Lochs,Loch Bad A'Bothain,Loch Caol Altnabreac,Loch Clach Geala,Loch Crocach,Loch Ealach Mor,Loch Leir,Loch Na Cloiche,Loch Na Saobhaide,Loch Skyline,Loch Slethill,Loch Talaheel,Lochan Nam Breac
END:VEVENT
BEGIN:VEVENT
DTSTART;TZID=Europe/London:20220525T090000
DTEND;TZID=Europe/London:20220527T230000
DTSTAMP:20260424T074505
CREATED:20220329T132212Z
LAST-MODIFIED:20220329T132212Z
UID:10000908-1653469200-1653692400@forsinardflyfishers.co.uk
SUMMARY:NO FISHING AVAILABLE
DESCRIPTION:
URL:https://forsinardflyfishers.co.uk/booking/no-fishing-available-15/
CATEGORIES:Cross Lochs,Loch Bad A'Bothain,Loch Caol Altnabreac,Loch Clach Geala,Loch Crocach,Loch Ealach Mor,Loch Leir,Loch Na Cloiche,Loch Na Saobhaide,Loch Skyline,Loch Slethill,Loch Talaheel,Lochan Nam Breac
END:VEVENT
BEGIN:VEVENT
DTSTART;TZID=Europe/London:20220531T090000
DTEND;TZID=Europe/London:20220531T210000
DTSTAMP:20260424T074505
CREATED:20220529T183857Z
LAST-MODIFIED:20220529T183857Z
UID:10001277-1653987600-1654030800@forsinardflyfishers.co.uk
SUMMARY:NO FISHING AVAILABLE
DESCRIPTION:NO FISHING AVAILABLE
URL:https://forsinardflyfishers.co.uk/booking/no-fishing-available-17/
CATEGORIES:Cross Lochs,Loch Bad A'Bothain,Loch Caol Altnabreac,Loch Clach Geala,Loch Crocach,Loch Ealach Mor,Loch Leir,Loch Na Cloiche,Loch Na Saobhaide,Loch Skyline,Loch Slethill,Loch Talaheel,Lochan Nam Breac
END:VEVENT
END:VCALENDAR