BEGIN:VCALENDAR
VERSION:2.0
PRODID:-//Forsinard Flyfishers&#039; Club - ECPv6.15.20//NONSGML v1.0//EN
CALSCALE:GREGORIAN
METHOD:PUBLISH
X-ORIGINAL-URL:https://forsinardflyfishers.co.uk
X-WR-CALDESC:Events for Forsinard Flyfishers&#039; Club
REFRESH-INTERVAL;VALUE=DURATION:PT1H
X-Robots-Tag:noindex
X-PUBLISHED-TTL:PT1H
BEGIN:VTIMEZONE
TZID:Europe/London
BEGIN:DAYLIGHT
TZOFFSETFROM:+0000
TZOFFSETTO:+0100
TZNAME:BST
DTSTART:20210328T010000
END:DAYLIGHT
BEGIN:STANDARD
TZOFFSETFROM:+0100
TZOFFSETTO:+0000
TZNAME:GMT
DTSTART:20211031T010000
END:STANDARD
BEGIN:DAYLIGHT
TZOFFSETFROM:+0000
TZOFFSETTO:+0100
TZNAME:BST
DTSTART:20220327T010000
END:DAYLIGHT
BEGIN:STANDARD
TZOFFSETFROM:+0100
TZOFFSETTO:+0000
TZNAME:GMT
DTSTART:20221030T010000
END:STANDARD
BEGIN:DAYLIGHT
TZOFFSETFROM:+0000
TZOFFSETTO:+0100
TZNAME:BST
DTSTART:20230326T010000
END:DAYLIGHT
BEGIN:STANDARD
TZOFFSETFROM:+0100
TZOFFSETTO:+0000
TZNAME:GMT
DTSTART:20231029T010000
END:STANDARD
END:VTIMEZONE
BEGIN:VEVENT
DTSTART;TZID=Europe/London:20220601T090000
DTEND;TZID=Europe/London:20221031T233000
DTSTAMP:20260422T005218
CREATED:20220612T122016Z
LAST-MODIFIED:20220612T122016Z
UID:10001057-1654074000-1667259000@forsinardflyfishers.co.uk
SUMMARY:NO FISHING AVAILABLE
DESCRIPTION:NO FISHING AVAILABLE
URL:https://forsinardflyfishers.co.uk/booking/no-fishing-available-18/
CATEGORIES:Loch Grassie
END:VEVENT
BEGIN:VEVENT
DTSTART;TZID=Europe/London:20221006T090000
DTEND;TZID=Europe/London:20221130T170000
DTSTAMP:20260422T005218
CREATED:20220109T204509Z
LAST-MODIFIED:20220109T204509Z
UID:10000897-1665046800-1669827600@forsinardflyfishers.co.uk
SUMMARY:NO FISHING AVAILABLE
DESCRIPTION:NO FISHING AVAILABLE
URL:https://forsinardflyfishers.co.uk/booking/no-fishing-available-10/
CATEGORIES:Bighouse Loch,Caol Loch (South),Cross Lochs,Loch Achridigill,Loch Akran,Loch Bad A'Bothain,Loch Badaidh na Meana,Loch Baligill,Loch Caise,Loch Caol (Champagne),Loch Caol Altnabreac,Loch Clach Geala,Loch Coulbackie,Loch Crocach,Loch Ealach Mor,Loch Earacha,Loch Garbh,Loch Grassie,Loch Leir,Loch na Caorach,Loch Na Cloiche,Loch na h-Eaglaise Beag,Loch na h-Eaglasie Mor (South end),Loch Na Saobhaide,Loch na Seilge,Loch Nam Breac,Loch nan Clach,Loch nan Gall,Loch Sgitheanach,Loch Skyline,Loch Slethill,Loch Talaheel,Lochan Croc nan Lair,Lochan Nam Breac
END:VEVENT
END:VCALENDAR