BEGIN:VCALENDAR
VERSION:2.0
PRODID:-//Forsinard Flyfishers&#039; Club - ECPv6.15.20//NONSGML v1.0//EN
CALSCALE:GREGORIAN
METHOD:PUBLISH
X-ORIGINAL-URL:https://forsinardflyfishers.co.uk
X-WR-CALDESC:Events for Forsinard Flyfishers&#039; Club
REFRESH-INTERVAL;VALUE=DURATION:PT1H
X-Robots-Tag:noindex
X-PUBLISHED-TTL:PT1H
BEGIN:VTIMEZONE
TZID:Europe/London
BEGIN:DAYLIGHT
TZOFFSETFROM:+0000
TZOFFSETTO:+0100
TZNAME:BST
DTSTART:20220327T010000
END:DAYLIGHT
BEGIN:STANDARD
TZOFFSETFROM:+0100
TZOFFSETTO:+0000
TZNAME:GMT
DTSTART:20221030T010000
END:STANDARD
BEGIN:DAYLIGHT
TZOFFSETFROM:+0000
TZOFFSETTO:+0100
TZNAME:BST
DTSTART:20230326T010000
END:DAYLIGHT
BEGIN:STANDARD
TZOFFSETFROM:+0100
TZOFFSETTO:+0000
TZNAME:GMT
DTSTART:20231029T010000
END:STANDARD
BEGIN:DAYLIGHT
TZOFFSETFROM:+0000
TZOFFSETTO:+0100
TZNAME:BST
DTSTART:20240331T010000
END:DAYLIGHT
BEGIN:STANDARD
TZOFFSETFROM:+0100
TZOFFSETTO:+0000
TZNAME:GMT
DTSTART:20241027T010000
END:STANDARD
END:VTIMEZONE
BEGIN:VEVENT
DTSTART;TZID=Europe/London:20230610T090000
DTEND;TZID=Europe/London:20230610T190000
DTSTAMP:20260420T025913
CREATED:20230601T192902Z
LAST-MODIFIED:20230601T192902Z
UID:10001582-1686387600-1686423600@forsinardflyfishers.co.uk
SUMMARY:DAY SESSION
DESCRIPTION:I.WHITE
URL:https://forsinardflyfishers.co.uk/booking/day-session-57/
CATEGORIES:Loch Earacha
END:VEVENT
BEGIN:VEVENT
DTSTART;TZID=Europe/London:20230628T090000
DTEND;TZID=Europe/London:20230628T223000
DTSTAMP:20260420T025913
CREATED:20230627T172817Z
LAST-MODIFIED:20230627T172817Z
UID:10001629-1687942800-1687991400@forsinardflyfishers.co.uk
SUMMARY:ALL DAY SESSION
DESCRIPTION:M.ASPEL
URL:https://forsinardflyfishers.co.uk/booking/all-day-session-747/
CATEGORIES:Loch Earacha
END:VEVENT
END:VCALENDAR