BEGIN:VCALENDAR
VERSION:2.0
PRODID:-//Forsinard Flyfishers&#039; Club - ECPv6.15.20//NONSGML v1.0//EN
CALSCALE:GREGORIAN
METHOD:PUBLISH
X-WR-CALNAME:Forsinard Flyfishers&#039; Club
X-ORIGINAL-URL:https://forsinardflyfishers.co.uk
X-WR-CALDESC:Events for Forsinard Flyfishers&#039; Club
REFRESH-INTERVAL;VALUE=DURATION:PT1H
X-Robots-Tag:noindex
X-PUBLISHED-TTL:PT1H
BEGIN:VTIMEZONE
TZID:Europe/London
BEGIN:DAYLIGHT
TZOFFSETFROM:+0000
TZOFFSETTO:+0100
TZNAME:BST
DTSTART:20240331T010000
END:DAYLIGHT
BEGIN:STANDARD
TZOFFSETFROM:+0100
TZOFFSETTO:+0000
TZNAME:GMT
DTSTART:20241027T010000
END:STANDARD
BEGIN:DAYLIGHT
TZOFFSETFROM:+0000
TZOFFSETTO:+0100
TZNAME:BST
DTSTART:20250330T010000
END:DAYLIGHT
BEGIN:STANDARD
TZOFFSETFROM:+0100
TZOFFSETTO:+0000
TZNAME:GMT
DTSTART:20251026T010000
END:STANDARD
BEGIN:DAYLIGHT
TZOFFSETFROM:+0000
TZOFFSETTO:+0100
TZNAME:BST
DTSTART:20260329T010000
END:DAYLIGHT
BEGIN:STANDARD
TZOFFSETFROM:+0100
TZOFFSETTO:+0000
TZNAME:GMT
DTSTART:20261025T010000
END:STANDARD
END:VTIMEZONE
BEGIN:VEVENT
DTSTART;TZID=Europe/London:20250402T080000
DTEND;TZID=Europe/London:20250402T213000
DTSTAMP:20260420T210154
CREATED:20250401T064937Z
LAST-MODIFIED:20250401T064937Z
UID:10002043-1743580800-1743629400@forsinardflyfishers.co.uk
SUMMARY:ALL DAY SESSION
DESCRIPTION:K.ALLAN
URL:https://forsinardflyfishers.co.uk/booking/all-day-session-1133/
CATEGORIES:Loch Preas an Lochan
END:VEVENT
BEGIN:VEVENT
DTSTART;TZID=Europe/London:20250412T080000
DTEND;TZID=Europe/London:20250412T213000
DTSTAMP:20260420T210154
CREATED:20250409T073441Z
LAST-MODIFIED:20250409T073441Z
UID:10002092-1744444800-1744493400@forsinardflyfishers.co.uk
SUMMARY:ALL DAY SESSION
DESCRIPTION:K.ALLAN
URL:https://forsinardflyfishers.co.uk/booking/all-day-session-1181/
CATEGORIES:Loch Badaireach na Gaoithe,Loch Preas an Lochan
END:VEVENT
BEGIN:VEVENT
DTSTART;TZID=Europe/London:20250428T080000
DTEND;TZID=Europe/London:20250428T210000
DTSTAMP:20260420T210154
CREATED:20250425T184927Z
LAST-MODIFIED:20250425T184927Z
UID:10002113-1745827200-1745874000@forsinardflyfishers.co.uk
SUMMARY:ALL DAY SESSION
DESCRIPTION:M.RICHARDSON
URL:https://forsinardflyfishers.co.uk/booking/all-day-session-1201/
CATEGORIES:Loch Preas an Lochan
END:VEVENT
END:VCALENDAR