BEGIN:VCALENDAR
VERSION:2.0
PRODID:-//Forsinard Flyfishers&#039; Club - ECPv6.15.20//NONSGML v1.0//EN
CALSCALE:GREGORIAN
METHOD:PUBLISH
X-ORIGINAL-URL:https://forsinardflyfishers.co.uk
X-WR-CALDESC:Events for Forsinard Flyfishers&#039; Club
REFRESH-INTERVAL;VALUE=DURATION:PT1H
X-Robots-Tag:noindex
X-PUBLISHED-TTL:PT1H
BEGIN:VTIMEZONE
TZID:Europe/London
BEGIN:DAYLIGHT
TZOFFSETFROM:+0000
TZOFFSETTO:+0100
TZNAME:BST
DTSTART:20230326T010000
END:DAYLIGHT
BEGIN:STANDARD
TZOFFSETFROM:+0100
TZOFFSETTO:+0000
TZNAME:GMT
DTSTART:20231029T010000
END:STANDARD
BEGIN:DAYLIGHT
TZOFFSETFROM:+0000
TZOFFSETTO:+0100
TZNAME:BST
DTSTART:20240331T010000
END:DAYLIGHT
BEGIN:STANDARD
TZOFFSETFROM:+0100
TZOFFSETTO:+0000
TZNAME:GMT
DTSTART:20241027T010000
END:STANDARD
BEGIN:DAYLIGHT
TZOFFSETFROM:+0000
TZOFFSETTO:+0100
TZNAME:BST
DTSTART:20250330T010000
END:DAYLIGHT
BEGIN:STANDARD
TZOFFSETFROM:+0100
TZOFFSETTO:+0000
TZNAME:GMT
DTSTART:20251026T010000
END:STANDARD
END:VTIMEZONE
BEGIN:VEVENT
DTSTART;TZID=Europe/London:20240610T080000
DTEND;TZID=Europe/London:20240610T220000
DTSTAMP:20260421T223954
CREATED:20240401T061043Z
LAST-MODIFIED:20240401T061043Z
UID:10001727-1718006400-1718056800@forsinardflyfishers.co.uk
SUMMARY:ALL DAY SESSION
DESCRIPTION:G.WILLIAMS + 2
URL:https://forsinardflyfishers.co.uk/booking/all-day-session-826/
CATEGORIES:Caol North
END:VEVENT
BEGIN:VEVENT
DTSTART;TZID=Europe/London:20240617T053000
DTEND;TZID=Europe/London:20240619T220000
DTSTAMP:20260421T223954
CREATED:20240327T094645Z
LAST-MODIFIED:20240509T202747Z
UID:10001704-1718602200-1718834400@forsinardflyfishers.co.uk
SUMMARY:NO FISHING AVAILABLE
DESCRIPTION:NO FISHING AVAILABLE
URL:https://forsinardflyfishers.co.uk/booking/no-fishing-available-31/
CATEGORIES:Caol North,Loch Saorach,Loch Thormaid
END:VEVENT
BEGIN:VEVENT
DTSTART;TZID=Europe/London:20240620T080000
DTEND;TZID=Europe/London:20240620T220000
DTSTAMP:20260421T223954
CREATED:20240403T174238Z
LAST-MODIFIED:20240403T174238Z
UID:10001787-1718870400-1718920800@forsinardflyfishers.co.uk
SUMMARY:ALL DAY SESSION
DESCRIPTION:M.WHITE
URL:https://forsinardflyfishers.co.uk/booking/all-day-session-884/
CATEGORIES:Caol North
END:VEVENT
END:VCALENDAR