BEGIN:VCALENDAR
VERSION:2.0
PRODID:-//Forsinard Flyfishers&#039; Club - ECPv6.15.20//NONSGML v1.0//EN
CALSCALE:GREGORIAN
METHOD:PUBLISH
X-WR-CALNAME:Forsinard Flyfishers&#039; Club
X-ORIGINAL-URL:https://forsinardflyfishers.co.uk
X-WR-CALDESC:Events for Forsinard Flyfishers&#039; Club
REFRESH-INTERVAL;VALUE=DURATION:PT1H
X-Robots-Tag:noindex
X-PUBLISHED-TTL:PT1H
BEGIN:VTIMEZONE
TZID:Europe/London
BEGIN:DAYLIGHT
TZOFFSETFROM:+0000
TZOFFSETTO:+0100
TZNAME:BST
DTSTART:20230326T010000
END:DAYLIGHT
BEGIN:STANDARD
TZOFFSETFROM:+0100
TZOFFSETTO:+0000
TZNAME:GMT
DTSTART:20231029T010000
END:STANDARD
BEGIN:DAYLIGHT
TZOFFSETFROM:+0000
TZOFFSETTO:+0100
TZNAME:BST
DTSTART:20240331T010000
END:DAYLIGHT
BEGIN:STANDARD
TZOFFSETFROM:+0100
TZOFFSETTO:+0000
TZNAME:GMT
DTSTART:20241027T010000
END:STANDARD
BEGIN:DAYLIGHT
TZOFFSETFROM:+0000
TZOFFSETTO:+0100
TZNAME:BST
DTSTART:20250330T010000
END:DAYLIGHT
BEGIN:STANDARD
TZOFFSETFROM:+0100
TZOFFSETTO:+0000
TZNAME:GMT
DTSTART:20251026T010000
END:STANDARD
END:VTIMEZONE
BEGIN:VEVENT
DTSTART;TZID=Europe/London:20240512T080000
DTEND;TZID=Europe/London:20240512T213000
DTSTAMP:20260421T235240
CREATED:20240503T184644Z
LAST-MODIFIED:20240503T184644Z
UID:10001834-1715500800-1715549400@forsinardflyfishers.co.uk
SUMMARY:ALL DAY SESSION
DESCRIPTION:J.WASTLE
URL:https://forsinardflyfishers.co.uk/booking/all-day-session-930/
CATEGORIES:Caol North
END:VEVENT
BEGIN:VEVENT
DTSTART;TZID=Europe/London:20240517T080000
DTEND;TZID=Europe/London:20240517T213000
DTSTAMP:20260421T235240
CREATED:20240510T180543Z
LAST-MODIFIED:20240510T180543Z
UID:10001844-1715932800-1715981400@forsinardflyfishers.co.uk
SUMMARY:ALL DAY SESSION
DESCRIPTION:S.CURTIS
URL:https://forsinardflyfishers.co.uk/booking/all-day-session-940/
CATEGORIES:Caol North
END:VEVENT
BEGIN:VEVENT
DTSTART;TZID=Europe/London:20240521T080000
DTEND;TZID=Europe/London:20240521T213000
DTSTAMP:20260421T235240
CREATED:20240519T191011Z
LAST-MODIFIED:20240519T191011Z
UID:10001859-1716278400-1716327000@forsinardflyfishers.co.uk
SUMMARY:ALL DAY SESSION
DESCRIPTION:R.CORBETT
URL:https://forsinardflyfishers.co.uk/booking/all-day-session-955/
CATEGORIES:Caol North
END:VEVENT
BEGIN:VEVENT
DTSTART;TZID=Europe/London:20240525T080000
DTEND;TZID=Europe/London:20240525T213000
DTSTAMP:20260421T235240
CREATED:20240401T062947Z
LAST-MODIFIED:20240401T062947Z
UID:10001742-1716624000-1716672600@forsinardflyfishers.co.uk
SUMMARY:ALL DAY SESSION
DESCRIPTION:M.RICHARDSON
URL:https://forsinardflyfishers.co.uk/booking/all-day-session-840/
CATEGORIES:Caol North
END:VEVENT
BEGIN:VEVENT
DTSTART;TZID=Europe/London:20240529T080000
DTEND;TZID=Europe/London:20240529T213000
DTSTAMP:20260421T235240
CREATED:20240528T054345Z
LAST-MODIFIED:20240528T054345Z
UID:10001862-1716969600-1717018200@forsinardflyfishers.co.uk
SUMMARY:ALL DAY SESSION
DESCRIPTION:I.MORRIS
URL:https://forsinardflyfishers.co.uk/booking/all-day-session-958/
CATEGORIES:Caol North
END:VEVENT
BEGIN:VEVENT
DTSTART;TZID=Europe/London:20240531T080000
DTEND;TZID=Europe/London:20240531T213000
DTSTAMP:20260421T235240
CREATED:20240528T054556Z
LAST-MODIFIED:20240528T054556Z
UID:10001864-1717142400-1717191000@forsinardflyfishers.co.uk
SUMMARY:ALL DAY SESSION
DESCRIPTION:D.ROBSON
URL:https://forsinardflyfishers.co.uk/booking/all-day-session-960/
CATEGORIES:Caol North
END:VEVENT
END:VCALENDAR