BEGIN:VCALENDAR
VERSION:2.0
PRODID:-//Forsinard Flyfishers&#039; Club - ECPv6.15.20//NONSGML v1.0//EN
CALSCALE:GREGORIAN
METHOD:PUBLISH
X-WR-CALNAME:Forsinard Flyfishers&#039; Club
X-ORIGINAL-URL:https://forsinardflyfishers.co.uk
X-WR-CALDESC:Events for Forsinard Flyfishers&#039; Club
REFRESH-INTERVAL;VALUE=DURATION:PT1H
X-Robots-Tag:noindex
X-PUBLISHED-TTL:PT1H
BEGIN:VTIMEZONE
TZID:Europe/London
BEGIN:DAYLIGHT
TZOFFSETFROM:+0000
TZOFFSETTO:+0100
TZNAME:BST
DTSTART:20220327T010000
END:DAYLIGHT
BEGIN:STANDARD
TZOFFSETFROM:+0100
TZOFFSETTO:+0000
TZNAME:GMT
DTSTART:20221030T010000
END:STANDARD
BEGIN:DAYLIGHT
TZOFFSETFROM:+0000
TZOFFSETTO:+0100
TZNAME:BST
DTSTART:20230326T010000
END:DAYLIGHT
BEGIN:STANDARD
TZOFFSETFROM:+0100
TZOFFSETTO:+0000
TZNAME:GMT
DTSTART:20231029T010000
END:STANDARD
BEGIN:DAYLIGHT
TZOFFSETFROM:+0000
TZOFFSETTO:+0100
TZNAME:BST
DTSTART:20240331T010000
END:DAYLIGHT
BEGIN:STANDARD
TZOFFSETFROM:+0100
TZOFFSETTO:+0000
TZNAME:GMT
DTSTART:20241027T010000
END:STANDARD
END:VTIMEZONE
BEGIN:VEVENT
DTSTART;TZID=Europe/London:20230606T090000
DTEND;TZID=Europe/London:20230606T220000
DTSTAMP:20260424T095104
CREATED:20230512T192137Z
LAST-MODIFIED:20230512T192137Z
UID:10001557-1686042000-1686088800@forsinardflyfishers.co.uk
SUMMARY:ALL DAY SESSION
DESCRIPTION:S.GRAY
URL:https://forsinardflyfishers.co.uk/booking/all-day-session-687/
CATEGORIES:Caol North
END:VEVENT
BEGIN:VEVENT
DTSTART;TZID=Europe/London:20230609T090000
DTEND;TZID=Europe/London:20230609T223000
DTSTAMP:20260424T095104
CREATED:20230401T072024Z
LAST-MODIFIED:20230401T072024Z
UID:10001448-1686301200-1686349800@forsinardflyfishers.co.uk
SUMMARY:ALL DAY SESSION
DESCRIPTION:W.PLANK
URL:https://forsinardflyfishers.co.uk/booking/all-day-session-590/
CATEGORIES:Caol North
END:VEVENT
BEGIN:VEVENT
DTSTART;TZID=Europe/London:20230618T090000
DTEND;TZID=Europe/London:20230618T223000
DTSTAMP:20260424T095104
CREATED:20230401T003709Z
LAST-MODIFIED:20230401T003709Z
UID:10001424-1687078800-1687127400@forsinardflyfishers.co.uk
SUMMARY:ALL DAY SESSION
DESCRIPTION:G.WILLIAMS/P.WILLIAMS/M.CORNELLISON
URL:https://forsinardflyfishers.co.uk/booking/all-day-session-566/
CATEGORIES:Caol North
END:VEVENT
BEGIN:VEVENT
DTSTART;TZID=Europe/London:20230619T090000
DTEND;TZID=Europe/London:20230619T223000
DTSTAMP:20260424T095104
CREATED:20230529T083700Z
LAST-MODIFIED:20230529T083700Z
UID:10001580-1687165200-1687213800@forsinardflyfishers.co.uk
SUMMARY:ALL DAY SESSION
DESCRIPTION:G.MACKAY
URL:https://forsinardflyfishers.co.uk/booking/all-day-session-710/
CATEGORIES:Caol North
END:VEVENT
BEGIN:VEVENT
DTSTART;TZID=Europe/London:20230620T090000
DTEND;TZID=Europe/London:20230620T223000
DTSTAMP:20260424T095104
CREATED:20230620T060311Z
LAST-MODIFIED:20230620T060311Z
UID:10001614-1687251600-1687300200@forsinardflyfishers.co.uk
SUMMARY:ALL DAY SESSION
DESCRIPTION:S.FREEMAN
URL:https://forsinardflyfishers.co.uk/booking/all-day-session-733/
CATEGORIES:Caol North
END:VEVENT
BEGIN:VEVENT
DTSTART;TZID=Europe/London:20230624T090000
DTEND;TZID=Europe/London:20230624T230000
DTSTAMP:20260424T095104
CREATED:20230401T003758Z
LAST-MODIFIED:20230401T003758Z
UID:10001425-1687597200-1687647600@forsinardflyfishers.co.uk
SUMMARY:ALL DAY SESSION
DESCRIPTION:M.RICHARDSON
URL:https://forsinardflyfishers.co.uk/booking/all-day-session-567/
CATEGORIES:Caol North
END:VEVENT
BEGIN:VEVENT
DTSTART;TZID=Europe/London:20230629T090000
DTEND;TZID=Europe/London:20230629T223000
DTSTAMP:20260424T095104
CREATED:20230401T071940Z
LAST-MODIFIED:20230401T071940Z
UID:10001447-1688029200-1688077800@forsinardflyfishers.co.uk
SUMMARY:ALL DAY SESSION
DESCRIPTION:BENNET/BARRIE
URL:https://forsinardflyfishers.co.uk/booking/all-day-session-589/
CATEGORIES:Caol North
END:VEVENT
END:VCALENDAR